BEGIN:VCALENDAR
VERSION:2.0
PRODID:-//Sanchos Cocina y Cantina - ECPv6.15.20//NONSGML v1.0//EN
CALSCALE:GREGORIAN
METHOD:PUBLISH
X-WR-CALNAME:Sanchos Cocina y Cantina
X-ORIGINAL-URL:https://sanchosmx.com
X-WR-CALDESC:Events for Sanchos Cocina y Cantina
REFRESH-INTERVAL;VALUE=DURATION:PT1H
X-Robots-Tag:noindex
X-PUBLISHED-TTL:PT1H
BEGIN:VTIMEZONE
TZID:America/Chicago
BEGIN:DAYLIGHT
TZOFFSETFROM:-0600
TZOFFSETTO:-0500
TZNAME:CDT
DTSTART:20190310T080000
END:DAYLIGHT
BEGIN:STANDARD
TZOFFSETFROM:-0500
TZOFFSETTO:-0600
TZNAME:CST
DTSTART:20191103T070000
END:STANDARD
BEGIN:DAYLIGHT
TZOFFSETFROM:-0600
TZOFFSETTO:-0500
TZNAME:CDT
DTSTART:20200308T080000
END:DAYLIGHT
BEGIN:STANDARD
TZOFFSETFROM:-0500
TZOFFSETTO:-0600
TZNAME:CST
DTSTART:20201101T070000
END:STANDARD
BEGIN:DAYLIGHT
TZOFFSETFROM:-0600
TZOFFSETTO:-0500
TZNAME:CDT
DTSTART:20210314T080000
END:DAYLIGHT
BEGIN:STANDARD
TZOFFSETFROM:-0500
TZOFFSETTO:-0600
TZNAME:CST
DTSTART:20211107T070000
END:STANDARD
END:VTIMEZONE
BEGIN:VEVENT
DTSTART;TZID=America/Chicago:20200210T190000
DTEND;TZID=America/Chicago:20200210T220000
DTSTAMP:20260425T103059
CREATED:20180515T213851Z
LAST-MODIFIED:20200319T024945Z
UID:10012710-1581361200-1581372000@sanchosmx.com
SUMMARY:Jazz Time Jam
DESCRIPTION:Open Jazz Jam with George Prado and Friends. Jazz from Yesterday to Tomorrow.
URL:https://sanchosmx.com/sanchos-event/jazz-dogz-2017-05-29-3-2-2-2-2-2-2-2018-10-29-2/2020-02-10/
CATEGORIES:live music
ATTACH;FMTTYPE=image/jpeg:https://sanchosmx.com/wp-content/uploads/2018/05/jazz-time-group-400.jpg
END:VEVENT
BEGIN:VEVENT
DTSTART;TZID=America/Chicago:20200209T190000
DTEND;TZID=America/Chicago:20200209T220000
DTSTAMP:20260425T103059
CREATED:20200205T220157Z
LAST-MODIFIED:20200205T220157Z
UID:10014829-1581274800-1581285600@sanchosmx.com
SUMMARY:Los Callejeros
DESCRIPTION:Enjoy a night of abuela approved Tex-Mex music at by Los Callejeros de San Anto (now with 15% more cumbia songs) \n✅ Abuela Approved\n✅ Puros Exitos\n✅ Good Times
URL:https://sanchosmx.com/sanchos-event/los-callejeros-2-16-2020-2/
CATEGORIES:live music
ATTACH;FMTTYPE=image/jpeg:https://sanchosmx.com/wp-content/uploads/2018/08/los-callejeros-e1535610413365.jpg
END:VEVENT
BEGIN:VEVENT
DTSTART;TZID=America/Chicago:20200208T220000
DTEND;TZID=America/Chicago:20200209T003000
DTSTAMP:20260425T103059
CREATED:20200128T062745Z
LAST-MODIFIED:20200128T062745Z
UID:10014808-1581199200-1581208200@sanchosmx.com
SUMMARY:The Harms + Nuclear Juarez
DESCRIPTION:The Harms 10pm\nNuclear Juarez 11:15pm\n12:30am ???
URL:https://sanchosmx.com/sanchos-event/the-harms-nuclear-juarez/
CATEGORIES:live music
END:VEVENT
BEGIN:VEVENT
DTSTART;TZID=America/Chicago:20200208T190000
DTEND;TZID=America/Chicago:20200208T210000
DTSTAMP:20260425T103059
CREATED:20200128T062622Z
LAST-MODIFIED:20200128T062622Z
UID:10014807-1581188400-1581195600@sanchosmx.com
SUMMARY:Saul and the Howlers
DESCRIPTION:rock and roll blues
URL:https://sanchosmx.com/sanchos-event/saul-and-the-howlers-2-8-2020/
CATEGORIES:live music
ATTACH;FMTTYPE=image/jpeg:https://sanchosmx.com/wp-content/uploads/2019/03/saul-and-the-howlers.jpg
END:VEVENT
BEGIN:VEVENT
DTSTART;TZID=America/Chicago:20200207T220000
DTEND;TZID=America/Chicago:20200208T000000
DTSTAMP:20260425T103059
CREATED:20200129T054140Z
LAST-MODIFIED:20200129T054140Z
UID:10014827-1581112800-1581120000@sanchosmx.com
SUMMARY:Rat King Cole
DESCRIPTION:
URL:https://sanchosmx.com/sanchos-event/rat-king-cole-2-7-2020/
CATEGORIES:live music
END:VEVENT
BEGIN:VEVENT
DTSTART;TZID=America/Chicago:20200207T190000
DTEND;TZID=America/Chicago:20200207T210000
DTSTAMP:20260425T103059
CREATED:20200128T062515Z
LAST-MODIFIED:20200128T062515Z
UID:10014806-1581102000-1581109200@sanchosmx.com
SUMMARY:Silvercloud
DESCRIPTION:Original songs / Americana Rock / straight from the heart of Texas
URL:https://sanchosmx.com/sanchos-event/silvercloud-2-21-2020/
CATEGORIES:live music
END:VEVENT
BEGIN:VEVENT
DTSTART;TZID=America/Chicago:20200206T213000
DTEND;TZID=America/Chicago:20200206T233000
DTSTAMP:20260425T103059
CREATED:20200128T062346Z
LAST-MODIFIED:20200128T062346Z
UID:10014804-1581024600-1581031800@sanchosmx.com
SUMMARY:Niko Laven
DESCRIPTION:
URL:https://sanchosmx.com/sanchos-event/niko-laven-2-6-2020/
CATEGORIES:live music
ATTACH;FMTTYPE=image/jpeg:https://sanchosmx.com/wp-content/uploads/2019/01/niko-laven-e1548394544471.jpg
END:VEVENT
BEGIN:VEVENT
DTSTART;TZID=America/Chicago:20200206T190000
DTEND;TZID=America/Chicago:20200206T210000
DTSTAMP:20260425T103100
CREATED:20191028T053148Z
LAST-MODIFIED:20200626T175038Z
UID:10014692-1581015600-1581022800@sanchosmx.com
SUMMARY:Claude Morgan & the Bandaholics
DESCRIPTION:This is the home of Claude Butch Morgan and his BANDAHOLICS!\nEvery Thursday nite we ride off into the wild musical FUN-tier and you get to ride along with us.\nCome one\, come all\, become an EAR-Regular and lend us your ears and cheers. We will do our very best to put a smile on your face and joy in your heart.\nTrevor Doak Morgan-Drums\nRobert Robar Adams-Bass\nClaude Butch Morgan-Guitar \nThis is a “weather permitting” event. All seating is outside\, masks required for entry and when at your table.
URL:https://sanchosmx.com/sanchos-event/claude-morgan-the-bandaholics/2020-02-06/
CATEGORIES:live music
ATTACH;FMTTYPE=image/jpeg:https://sanchosmx.com/wp-content/uploads/2019/10/bandaholics.jpg
END:VEVENT
BEGIN:VEVENT
DTSTART;TZID=America/Chicago:20200205T210000
DTEND;TZID=America/Chicago:20200205T230000
DTSTAMP:20260425T103100
CREATED:20180331T074020Z
LAST-MODIFIED:20200224T041142Z
UID:10013015-1580936400-1580943600@sanchosmx.com
SUMMARY:The Chris Cuevas Project
DESCRIPTION:Blues\, Funk\, Soul\, Jazz with the Chris Cuevas Project
URL:https://sanchosmx.com/sanchos-event/chris-cuevas-project-36-3-2019-10-30/2020-02-05/
CATEGORIES:live music
END:VEVENT
BEGIN:VEVENT
DTSTART;TZID=America/Chicago:20200205T183000
DTEND;TZID=America/Chicago:20200205T203000
DTSTAMP:20260425T103100
CREATED:20191027T180951Z
LAST-MODIFIED:20200317T041012Z
UID:10013588-1580927400-1580934600@sanchosmx.com
SUMMARY:Ruben V
DESCRIPTION:“The power of music is amazing. I’ve known my whole life that this is what I’ve wanted to do and I’ve had confirmations at every step that this is what I’m supposed to do.”\nhttp://www.rubenv.com/
URL:https://sanchosmx.com/sanchos-event/ruben-v-5-2019-10-23-2/2020-02-05/
CATEGORIES:live music
ATTACH;FMTTYPE=image/jpeg:https://sanchosmx.com/wp-content/uploads/2015/08/ruben-v.jpg
END:VEVENT
BEGIN:VEVENT
DTSTART;TZID=America/Chicago:20200203T190000
DTEND;TZID=America/Chicago:20200203T220000
DTSTAMP:20260425T103100
CREATED:20180515T213851Z
LAST-MODIFIED:20200319T024945Z
UID:10012709-1580756400-1580767200@sanchosmx.com
SUMMARY:Jazz Time Jam
DESCRIPTION:Open Jazz Jam with George Prado and Friends. Jazz from Yesterday to Tomorrow.
URL:https://sanchosmx.com/sanchos-event/jazz-dogz-2017-05-29-3-2-2-2-2-2-2-2018-10-29-2/2020-02-03/
CATEGORIES:live music
ATTACH;FMTTYPE=image/jpeg:https://sanchosmx.com/wp-content/uploads/2018/05/jazz-time-group-400.jpg
END:VEVENT
BEGIN:VEVENT
DTSTART;TZID=America/Chicago:20200202T190000
DTEND;TZID=America/Chicago:20200202T220000
DTSTAMP:20260425T103100
CREATED:20200128T061934Z
LAST-MODIFIED:20200128T061934Z
UID:10014803-1580670000-1580680800@sanchosmx.com
SUMMARY:Professor Underfunk Trio
DESCRIPTION:Professor Underfunk\, aka Cecil E. Yancey Jr.\, is a blues basest of noteworthy quality\, playing in and around San Antonio and Austin for more than 50 years. In the early days he was the founder of the Ruby Falls Blues Band; later he played with the Smith Brothers with Joe Estes\, followed by The Elements\, a popular disco band. In time\, he formed a relationship with W.C. Clark who has favored Cecil’s technique\, mentored his style and has often played with him in San Antonio for the Texas Bluebucks Music series events\, and with W.C. Clark’s Blues Revue in Austin. Now\, as Professor Underfunk\, Cecil has selected choice\, experienced & professional musicians to accompany him. \nWebsite
URL:https://sanchosmx.com/sanchos-event/professor-underfunk-trio-2-2-2020/
CATEGORIES:live music
ATTACH;FMTTYPE=image/jpeg:https://sanchosmx.com/wp-content/uploads/2019/06/professor-underfunk-e1559795943210.jpg
END:VEVENT
BEGIN:VEVENT
DTSTART;TZID=America/Chicago:20200201T220000
DTEND;TZID=America/Chicago:20200202T000000
DTSTAMP:20260425T103100
CREATED:20200128T055702Z
LAST-MODIFIED:20200128T055702Z
UID:10014802-1580594400-1580601600@sanchosmx.com
SUMMARY:Bongo Katz
DESCRIPTION:We perform music for all occasions. Though we specialize primarily in a latin style of ska music\, or “Caliche” as we call it\, we do feature a variety of cover songs by artists such as Blood\, Sweat & Tears\, Chicago\, Sublime\, and Stevie Wonder.  Our gifted horn and rhythm section will always make sure you’re enjoying yourself. By the end of the show\, I guarantee you’ll be singing our catchy lyrics on your way home!
URL:https://sanchosmx.com/sanchos-event/bongo-katz-2-1-2020/
CATEGORIES:live music
ATTACH;FMTTYPE=image/jpeg:https://sanchosmx.com/wp-content/uploads/2015/07/bongo-katz.jpg
END:VEVENT
BEGIN:VEVENT
DTSTART;TZID=America/Chicago:20200201T190000
DTEND;TZID=America/Chicago:20200201T210000
DTSTAMP:20260425T103100
CREATED:20200128T055623Z
LAST-MODIFIED:20200128T055623Z
UID:10014801-1580583600-1580590800@sanchosmx.com
SUMMARY:RDO Trio
DESCRIPTION:Blues\, R&B\, pop\, 70s and more. \nWebsite
URL:https://sanchosmx.com/sanchos-event/rdo-trio-2-1-2020/
CATEGORIES:live music
ATTACH;FMTTYPE=image/jpeg:https://sanchosmx.com/wp-content/uploads/2015/11/rdo-trio-web.jpg
END:VEVENT
BEGIN:VEVENT
DTSTART;TZID=America/Chicago:20200201T130000
DTEND;TZID=America/Chicago:20200201T150000
DTSTAMP:20260425T103100
CREATED:20200201T180844Z
LAST-MODIFIED:20200201T180844Z
UID:10014828-1580562000-1580569200@sanchosmx.com
SUMMARY:Los Sancheros
DESCRIPTION:Sancheros play original rock\, blues\, folk and Sanchocana compositions steeped in the history and lore of Sanchos
URL:https://sanchosmx.com/sanchos-event/los-sancheros/
CATEGORIES:live music
ATTACH;FMTTYPE=image/jpeg:https://sanchosmx.com/wp-content/uploads/2015/11/sancheros.jpg
END:VEVENT
BEGIN:VEVENT
DTSTART;TZID=America/Chicago:20200131T220000
DTEND;TZID=America/Chicago:20200201T000000
DTSTAMP:20260425T103100
CREATED:20200107T044237Z
LAST-MODIFIED:20200107T044237Z
UID:10014793-1580508000-1580515200@sanchosmx.com
SUMMARY:Favorite Son
DESCRIPTION:
URL:https://sanchosmx.com/sanchos-event/favorite-son-1-31-20/
CATEGORIES:live music
ATTACH;FMTTYPE=image/jpeg:https://sanchosmx.com/wp-content/uploads/2018/11/favorite-son.jpg
END:VEVENT
BEGIN:VEVENT
DTSTART;TZID=America/Chicago:20200131T190000
DTEND;TZID=America/Chicago:20200131T213000
DTSTAMP:20260425T103100
CREATED:20200119T191828Z
LAST-MODIFIED:20200119T191828Z
UID:10014796-1580497200-1580506200@sanchosmx.com
SUMMARY:Texas Thorns
DESCRIPTION:Texas Thorns is a San Antonio\, Texas band of locos consisting of Steve Bassel\, Jim Abbott\, and brothers Larry and Jerry Lockey. Texas Thorns (TxT) plays all original music that may be described as 80s inflected Americana Rock with eccentric jazz chord changes dreamed up by Steve (Guitar). Jim writes most of the lyrics through stream of consciousness with contributions made by the band in the arranging process. Larry adds energy on his bass along with brother Jerry who plays around it all on harp and percussion. Many songs are inspired by their Terlingua Ranch escapades out in the Big Bend country of Texas.
URL:https://sanchosmx.com/sanchos-event/texas-thorns-2/
CATEGORIES:live music
ATTACH;FMTTYPE=image/jpeg:https://sanchosmx.com/wp-content/uploads/2019/12/texas-thorns-web.jpg
END:VEVENT
BEGIN:VEVENT
DTSTART;TZID=America/Chicago:20200130T213000
DTEND;TZID=America/Chicago:20200130T233000
DTSTAMP:20260425T103100
CREATED:20191227T073830Z
LAST-MODIFIED:20191227T073830Z
UID:10014771-1580419800-1580427000@sanchosmx.com
SUMMARY:Ryan Zimmerman
DESCRIPTION:Grove Oriented Acoustic Rock
URL:https://sanchosmx.com/sanchos-event/ryan-zimmerman/
CATEGORIES:live music
ATTACH;FMTTYPE=image/jpeg:https://sanchosmx.com/wp-content/uploads/2019/12/ryan-zimmerman.jpg
END:VEVENT
BEGIN:VEVENT
DTSTART;TZID=America/Chicago:20200130T190000
DTEND;TZID=America/Chicago:20200130T210000
DTSTAMP:20260425T103100
CREATED:20191028T053148Z
LAST-MODIFIED:20200626T175038Z
UID:10014691-1580410800-1580418000@sanchosmx.com
SUMMARY:Claude Morgan & the Bandaholics
DESCRIPTION:This is the home of Claude Butch Morgan and his BANDAHOLICS!\nEvery Thursday nite we ride off into the wild musical FUN-tier and you get to ride along with us.\nCome one\, come all\, become an EAR-Regular and lend us your ears and cheers. We will do our very best to put a smile on your face and joy in your heart.\nTrevor Doak Morgan-Drums\nRobert Robar Adams-Bass\nClaude Butch Morgan-Guitar \nThis is a “weather permitting” event. All seating is outside\, masks required for entry and when at your table.
URL:https://sanchosmx.com/sanchos-event/claude-morgan-the-bandaholics/2020-01-30/
CATEGORIES:live music
ATTACH;FMTTYPE=image/jpeg:https://sanchosmx.com/wp-content/uploads/2019/10/bandaholics.jpg
END:VEVENT
BEGIN:VEVENT
DTSTART;TZID=America/Chicago:20200129T210000
DTEND;TZID=America/Chicago:20200129T230000
DTSTAMP:20260425T103100
CREATED:20180331T074020Z
LAST-MODIFIED:20200224T041142Z
UID:10013014-1580331600-1580338800@sanchosmx.com
SUMMARY:The Chris Cuevas Project
DESCRIPTION:Blues\, Funk\, Soul\, Jazz with the Chris Cuevas Project
URL:https://sanchosmx.com/sanchos-event/chris-cuevas-project-36-3-2019-10-30/2020-01-29/
CATEGORIES:live music
END:VEVENT
BEGIN:VEVENT
DTSTART;TZID=America/Chicago:20200129T183000
DTEND;TZID=America/Chicago:20200129T203000
DTSTAMP:20260425T103100
CREATED:20191027T180951Z
LAST-MODIFIED:20200317T041012Z
UID:10013587-1580322600-1580329800@sanchosmx.com
SUMMARY:Ruben V
DESCRIPTION:“The power of music is amazing. I’ve known my whole life that this is what I’ve wanted to do and I’ve had confirmations at every step that this is what I’m supposed to do.”\nhttp://www.rubenv.com/
URL:https://sanchosmx.com/sanchos-event/ruben-v-5-2019-10-23-2/2020-01-29/
CATEGORIES:live music
ATTACH;FMTTYPE=image/jpeg:https://sanchosmx.com/wp-content/uploads/2015/08/ruben-v.jpg
END:VEVENT
BEGIN:VEVENT
DTSTART;TZID=America/Chicago:20200127T190000
DTEND;TZID=America/Chicago:20200127T220000
DTSTAMP:20260425T103100
CREATED:20180515T213851Z
LAST-MODIFIED:20200319T024945Z
UID:10012708-1580151600-1580162400@sanchosmx.com
SUMMARY:Jazz Time Jam
DESCRIPTION:Open Jazz Jam with George Prado and Friends. Jazz from Yesterday to Tomorrow.
URL:https://sanchosmx.com/sanchos-event/jazz-dogz-2017-05-29-3-2-2-2-2-2-2-2018-10-29-2/2020-01-27/
CATEGORIES:live music
ATTACH;FMTTYPE=image/jpeg:https://sanchosmx.com/wp-content/uploads/2018/05/jazz-time-group-400.jpg
END:VEVENT
BEGIN:VEVENT
DTSTART;TZID=America/Chicago:20200126T220000
DTEND;TZID=America/Chicago:20200127T020000
DTSTAMP:20260425T103100
CREATED:20200119T192628Z
LAST-MODIFIED:20200119T192628Z
UID:10014798-1580076000-1580090400@sanchosmx.com
SUMMARY:Black Sunday at Sanchos! (January Edition)
DESCRIPTION:Come out to Sanchos the last Sunday of January and check out some of your favorite local bands in action. Kitchen open til midnight. \nMusic starts at 10.\nNo cover.\n21+ \nwith performances by... \nJason Kane & The Jive\nThe Hollowmen\nRadiation Blues\nAtaraxia\nJoshua Beare
URL:https://sanchosmx.com/sanchos-event/black-sunday-at-sanchos-january-edition/
ATTACH;FMTTYPE=image/jpeg:https://sanchosmx.com/wp-content/uploads/2020/01/black-sunday-january-2020.jpg
END:VEVENT
BEGIN:VEVENT
DTSTART;TZID=America/Chicago:20200126T190000
DTEND;TZID=America/Chicago:20200126T220000
DTSTAMP:20260425T103100
CREATED:20200119T192043Z
LAST-MODIFIED:20200119T192043Z
UID:10014797-1580065200-1580076000@sanchosmx.com
SUMMARY:Los Callejeros
DESCRIPTION:Tex-Mex\, Americana\, and country
URL:https://sanchosmx.com/sanchos-event/los-callejeros-1-23-2020-2/
CATEGORIES:live music
ATTACH;FMTTYPE=image/jpeg:https://sanchosmx.com/wp-content/uploads/2018/08/los-callejeros-e1535610413365.jpg
END:VEVENT
BEGIN:VEVENT
DTSTART;TZID=America/Chicago:20200125T220000
DTEND;TZID=America/Chicago:20200126T000000
DTSTAMP:20260425T103100
CREATED:20191227T195010Z
LAST-MODIFIED:20191227T195010Z
UID:10014789-1579989600-1579996800@sanchosmx.com
SUMMARY:Claude Morgan & the BLAST
DESCRIPTION:In the 1980’s Claude Morgan and the BLAST were rocking it hard all over Texas\, especially San Antonio. Playing at Los Padrinos\, Taco Land\, Cooter Browns \, the Bonham Exchange. They were opening huge shows for U2\, Tina Turner\, Nick Lowe\, the Stooges. It was a great decade for the band!\nJoin us the last Saturday in November as the original band will be continuing their reunion\, playing all your old BLAST favorites.\nRonnie-I Hate Music-Stuck in the Anglow-Style\, Better Take Notes\, I’m Bored and about 15 more. Sure hope all you former Blast Ludicrous Action Support Team members will show up for the show.\nSteve Go Go Hartwell-DrumS\nRobert Robar Adams-Bass\nClaude Butch Morgan-Guitar
URL:https://sanchosmx.com/sanchos-event/claude-morgan-the-blast-round-1-25-20/
CATEGORIES:live music
ATTACH;FMTTYPE=image/jpeg:https://sanchosmx.com/wp-content/uploads/2019/11/claude-morgan-and-the-blast.jpg
END:VEVENT
BEGIN:VEVENT
DTSTART;TZID=America/Chicago:20200125T190000
DTEND;TZID=America/Chicago:20200125T210000
DTSTAMP:20260425T103100
CREATED:20200107T043115Z
LAST-MODIFIED:20200107T043115Z
UID:10014791-1579978800-1579986000@sanchosmx.com
SUMMARY:Sauce Gonzales & The Westside Sound
DESCRIPTION:Born Arturo Gonzalez and nicknamed for his habit of dousing his food with the various fire-breathing salsas of San Antonio\, Sauce Gonzalez first played professionally with the country singer Bobby Bare while stationed in California with the army in the '60s. The pianist then donned sunglasses for a stint with Sunny and the Sunglows\, getting to record his first song on the piano\, entitled "Golly Gee" perhaps out of sheer appreciation for the opportunity. He also recorded the song "Talk to Me" with this group\, which made the top chart position on Dick Clark's American Bandstand in 1963. In the late '60s\, Gonzalez played with Little Joe y la Familia. Blues became a driving influence for Gonzalez in the following decade\, but he continued working with rhythm and blues and doo wop groups such as the Bits of Soul and the Crystals\, the latter band remembered fondly by anyone with a radio for "The Do Run Run." Later he toured with the Coasters throughout the United States and the Caribbean until lured away by Sahm in 1974. The ensuing decades have found Gonzalez and company continually active on the San Antonio scene\, to the point where taxi drivers will figure out where the band is playing in case a fare asks where the happening music is in town.
URL:https://sanchosmx.com/sanchos-event/sauce-gonzales-2-2-2-2-2-2-3-2-2-2/
CATEGORIES:live music
END:VEVENT
BEGIN:VEVENT
DTSTART;TZID=America/Chicago:20200125T150000
DTEND;TZID=America/Chicago:20200125T180000
DTSTAMP:20260425T103100
CREATED:20200119T194035Z
LAST-MODIFIED:20200119T194035Z
UID:10014799-1579964400-1579975200@sanchosmx.com
SUMMARY:Casbah
DESCRIPTION:The Casbah will be serving up some British Invasion vinyl.
URL:https://sanchosmx.com/sanchos-event/casbah/
CATEGORIES:DJ
ATTACH;FMTTYPE=image/jpeg:https://sanchosmx.com/wp-content/uploads/2020/01/british-invastion.jpg
END:VEVENT
BEGIN:VEVENT
DTSTART;TZID=America/Chicago:20200125T120000
DTEND;TZID=America/Chicago:20200125T150000
DTSTAMP:20260425T103100
CREATED:20191227T193116Z
LAST-MODIFIED:20191227T193116Z
UID:10014787-1579953600-1579964400@sanchosmx.com
SUMMARY:Beatles Rooftop Concert Celebration
DESCRIPTION:Honoring the 51st Anniversary of The Beatles Rooftop Concert The Blue Note Ringos will perform on the roof of Sanchos! Come help recreate this historic event! Noon on Saturday\, January 25th (rain date: Sunday\, January 26th)!\n\nRooftop seating is limited and not guaranteed without a reservation. Reserve a table for set one or set two with a $50 gift card (table seats 6). Standing spots will be free\, first-come\, first-served. The concert will be performed twice to allow everyone a chance to see it. The deck will clear after the first set to allow everyone to have a chance to see the show. (To reserve a table\, come by Sanchos or call (210) 320-1840)\n\n 
URL:https://sanchosmx.com/sanchos-event/beatles-rooftop-concert-celebration-1-25-20/
CATEGORIES:live music
END:VEVENT
BEGIN:VEVENT
DTSTART;TZID=America/Chicago:20200124T220000
DTEND;TZID=America/Chicago:20200125T000000
DTSTAMP:20260425T103100
CREATED:20200107T044019Z
LAST-MODIFIED:20200107T044019Z
UID:10014792-1579903200-1579910400@sanchosmx.com
SUMMARY:The Scary Mondelos
DESCRIPTION:
URL:https://sanchosmx.com/sanchos-event/the-scary-mondelos/
CATEGORIES:live music
ATTACH;FMTTYPE=image/jpeg:https://sanchosmx.com/wp-content/uploads/2020/01/the-scary-mondelos.jpg
END:VEVENT
BEGIN:VEVENT
DTSTART;TZID=America/Chicago:20200124T190000
DTEND;TZID=America/Chicago:20200124T210000
DTSTAMP:20260425T103100
CREATED:20191227T194845Z
LAST-MODIFIED:20191227T194845Z
UID:10014788-1579892400-1579899600@sanchosmx.com
SUMMARY:Mark's Brothers
DESCRIPTION:
URL:https://sanchosmx.com/sanchos-event/marks-brothers-1-24-20/
CATEGORIES:live music
ATTACH;FMTTYPE=image/jpeg:https://sanchosmx.com/wp-content/uploads/2019/01/marks-brothers-400.jpg
END:VEVENT
END:VCALENDAR