BEGIN:VCALENDAR
VERSION:2.0
PRODID:-//Sanchos Cocina y Cantina - ECPv6.15.20//NONSGML v1.0//EN
CALSCALE:GREGORIAN
METHOD:PUBLISH
X-WR-CALNAME:Sanchos Cocina y Cantina
X-ORIGINAL-URL:https://sanchosmx.com
X-WR-CALDESC:Events for Sanchos Cocina y Cantina
REFRESH-INTERVAL;VALUE=DURATION:PT1H
X-Robots-Tag:noindex
X-PUBLISHED-TTL:PT1H
BEGIN:VTIMEZONE
TZID:America/Chicago
BEGIN:DAYLIGHT
TZOFFSETFROM:-0600
TZOFFSETTO:-0500
TZNAME:CDT
DTSTART:20190310T080000
END:DAYLIGHT
BEGIN:STANDARD
TZOFFSETFROM:-0500
TZOFFSETTO:-0600
TZNAME:CST
DTSTART:20191103T070000
END:STANDARD
BEGIN:DAYLIGHT
TZOFFSETFROM:-0600
TZOFFSETTO:-0500
TZNAME:CDT
DTSTART:20200308T080000
END:DAYLIGHT
BEGIN:STANDARD
TZOFFSETFROM:-0500
TZOFFSETTO:-0600
TZNAME:CST
DTSTART:20201101T070000
END:STANDARD
BEGIN:DAYLIGHT
TZOFFSETFROM:-0600
TZOFFSETTO:-0500
TZNAME:CDT
DTSTART:20210314T080000
END:DAYLIGHT
BEGIN:STANDARD
TZOFFSETFROM:-0500
TZOFFSETTO:-0600
TZNAME:CST
DTSTART:20211107T070000
END:STANDARD
END:VTIMEZONE
BEGIN:VEVENT
DTSTART;TZID=America/Chicago:20200228T190000
DTEND;TZID=America/Chicago:20200228T210000
DTSTAMP:20260425T072201
CREATED:20200128T065044Z
LAST-MODIFIED:20200128T065044Z
UID:10014824-1582916400-1582923600@sanchosmx.com
SUMMARY:Mark's Brothers
DESCRIPTION:
URL:https://sanchosmx.com/sanchos-event/marks-brothers-2-28-2020/
CATEGORIES:live music
ATTACH;FMTTYPE=image/jpeg:https://sanchosmx.com/wp-content/uploads/2019/01/marks-brothers-400.jpg
END:VEVENT
BEGIN:VEVENT
DTSTART;TZID=America/Chicago:20200227T213000
DTEND;TZID=America/Chicago:20200227T233000
DTSTAMP:20260425T072201
CREATED:20200128T062435Z
LAST-MODIFIED:20200210T233840Z
UID:10014805-1582839000-1582846200@sanchosmx.com
SUMMARY:Niko Laven
DESCRIPTION:
URL:https://sanchosmx.com/sanchos-event/niko-laven-2-20-2020/
CATEGORIES:live music
ATTACH;FMTTYPE=image/jpeg:https://sanchosmx.com/wp-content/uploads/2019/01/niko-laven-e1548394544471.jpg
END:VEVENT
BEGIN:VEVENT
DTSTART;TZID=America/Chicago:20200227T190000
DTEND;TZID=America/Chicago:20200227T210000
DTSTAMP:20260425T072201
CREATED:20191028T053148Z
LAST-MODIFIED:20200626T175038Z
UID:10014694-1582830000-1582837200@sanchosmx.com
SUMMARY:Claude Morgan & the Bandaholics
DESCRIPTION:This is the home of Claude Butch Morgan and his BANDAHOLICS!\nEvery Thursday nite we ride off into the wild musical FUN-tier and you get to ride along with us.\nCome one\, come all\, become an EAR-Regular and lend us your ears and cheers. We will do our very best to put a smile on your face and joy in your heart.\nTrevor Doak Morgan-Drums\nRobert Robar Adams-Bass\nClaude Butch Morgan-Guitar \nThis is a “weather permitting” event. All seating is outside\, masks required for entry and when at your table.
URL:https://sanchosmx.com/sanchos-event/claude-morgan-the-bandaholics/2020-02-27/
CATEGORIES:live music
ATTACH;FMTTYPE=image/jpeg:https://sanchosmx.com/wp-content/uploads/2019/10/bandaholics.jpg
END:VEVENT
BEGIN:VEVENT
DTSTART;TZID=America/Chicago:20200226T210000
DTEND;TZID=America/Chicago:20200226T230000
DTSTAMP:20260425T072201
CREATED:20180331T074020Z
LAST-MODIFIED:20200224T041142Z
UID:10013017-1582750800-1582758000@sanchosmx.com
SUMMARY:The Chris Cuevas Project
DESCRIPTION:Blues\, Funk\, Soul\, Jazz with the Chris Cuevas Project
URL:https://sanchosmx.com/sanchos-event/chris-cuevas-project-36-3-2019-10-30/2020-02-26/
CATEGORIES:live music
END:VEVENT
BEGIN:VEVENT
DTSTART;TZID=America/Chicago:20200226T183000
DTEND;TZID=America/Chicago:20200226T203000
DTSTAMP:20260425T072201
CREATED:20191027T180951Z
LAST-MODIFIED:20200317T041012Z
UID:10013591-1582741800-1582749000@sanchosmx.com
SUMMARY:Ruben V
DESCRIPTION:“The power of music is amazing. I’ve known my whole life that this is what I’ve wanted to do and I’ve had confirmations at every step that this is what I’m supposed to do.”\nhttp://www.rubenv.com/
URL:https://sanchosmx.com/sanchos-event/ruben-v-5-2019-10-23-2/2020-02-26/
CATEGORIES:live music
ATTACH;FMTTYPE=image/jpeg:https://sanchosmx.com/wp-content/uploads/2015/08/ruben-v.jpg
END:VEVENT
BEGIN:VEVENT
DTSTART;TZID=America/Chicago:20200225T210000
DTEND;TZID=America/Chicago:20200225T230000
DTSTAMP:20260425T072201
CREATED:20200223T210644Z
LAST-MODIFIED:20200223T210644Z
UID:10014832-1582664400-1582671600@sanchosmx.com
SUMMARY:Josh Baca and the Hot Tamales
DESCRIPTION:Josh Baca of Los Tex Maniacs leads his garrison of highly trained swamp conjunto compadres to musical heights the likes of which no man has seen or heard before.
URL:https://sanchosmx.com/sanchos-event/josh-baca-and-the-hot-tamales-2/
CATEGORIES:live music
ATTACH;FMTTYPE=image/png:https://sanchosmx.com/wp-content/uploads/2020/02/josh-baca-hot-tamales.png
END:VEVENT
BEGIN:VEVENT
DTSTART;TZID=America/Chicago:20200224T190000
DTEND;TZID=America/Chicago:20200224T220000
DTSTAMP:20260425T072201
CREATED:20180515T213851Z
LAST-MODIFIED:20200319T024945Z
UID:10012712-1582570800-1582581600@sanchosmx.com
SUMMARY:Jazz Time Jam
DESCRIPTION:Open Jazz Jam with George Prado and Friends. Jazz from Yesterday to Tomorrow.
URL:https://sanchosmx.com/sanchos-event/jazz-dogz-2017-05-29-3-2-2-2-2-2-2-2018-10-29-2/2020-02-24/
CATEGORIES:live music
ATTACH;FMTTYPE=image/jpeg:https://sanchosmx.com/wp-content/uploads/2018/05/jazz-time-group-400.jpg
END:VEVENT
BEGIN:VEVENT
DTSTART;TZID=America/Chicago:20200223T220000
DTEND;TZID=America/Chicago:20200224T013000
DTSTAMP:20260425T072201
CREATED:20200128T064732Z
LAST-MODIFIED:20200128T064805Z
UID:10014822-1582495200-1582507800@sanchosmx.com
SUMMARY:Black Sunday February 2020
DESCRIPTION:Get excited because we got a clash of psychadelic indie\, groovy punk\, and a splash of cumbia coming at you for February's Black Sunday show! Join us for your favorite drink\, great food\, and some of S.A. best in music!! \nKitchen until Midnight \nReverse Happy Hour\nfrom 9pm - 11pm \nNo Cover \nPerformances by:\n10:00 - 10:30 Mystere\n10:45 - 11:15 They Live!\n11:30 - 12:00 Opaque Ghost\n12:15 - 12:45 Grupo Frackaso\n1:00 - 1:30 House Pollocks
URL:https://sanchosmx.com/sanchos-event/black-sunday-february-2020/
CATEGORIES:live music
ATTACH;FMTTYPE=image/jpeg:https://sanchosmx.com/wp-content/uploads/2019/03/black-sunday-e1553911300953.jpg
END:VEVENT
BEGIN:VEVENT
DTSTART;TZID=America/Chicago:20200223T190000
DTEND;TZID=America/Chicago:20200223T220000
DTSTAMP:20260425T072201
CREATED:20200128T064521Z
LAST-MODIFIED:20200128T064521Z
UID:10014821-1582484400-1582495200@sanchosmx.com
SUMMARY:Beau Rodriguez Band
DESCRIPTION:Beau Anthony Rodriguez is a San Antonio local award winning guitarist. He recently landed a guitar endorsement with lower groove guitars out of Dodge City\, KS. Beau's been avidly playing guitar for 12 years now. Winning first place in San Antonio's guitar wars in 2010 and finishing in the top three for two years after\, he also plays in two bands in the city. Beau is self taught\, but did play the double bass in orchestra for three years in middle school. "At that time I hated it\, I would get teased because the instrument was so big and I was small. But I loved the way it sounded. I must to admit\, without that entry to music who knows where I would be. I started playing guitar at around age 16. It was captivating and when I wrote my first song and people were moved by it\, that's when I knew I had something there. You can feel so many emotions at  any given time\, and I feel playing music is the best way portray your feelings \nWebsite
URL:https://sanchosmx.com/sanchos-event/beau-rodriguez-2-23-2020/
CATEGORIES:live music
END:VEVENT
BEGIN:VEVENT
DTSTART;TZID=America/Chicago:20200223T110000
DTEND;TZID=America/Chicago:20200223T150000
DTSTAMP:20260425T072201
CREATED:20200128T064404Z
LAST-MODIFIED:20200128T064404Z
UID:10014820-1582455600-1582470000@sanchosmx.com
SUMMARY:Sanchos Sunday Jazz Brunch with the Prados
DESCRIPTION:Come enjoy our special Brunch menu and live music with Aaron and  George Prado (live music noon - 2pm)
URL:https://sanchosmx.com/sanchos-event/sanchos-sunday-brunch-2-23-2020/
CATEGORIES:brunch,live music
ATTACH;FMTTYPE=:
END:VEVENT
BEGIN:VEVENT
DTSTART;TZID=America/Chicago:20200222T210000
DTEND;TZID=America/Chicago:20200223T000000
DTSTAMP:20260425T072201
CREATED:20200128T063638Z
LAST-MODIFIED:20200128T064035Z
UID:10014816-1582405200-1582416000@sanchosmx.com
SUMMARY:Los Callejeros celebrate National Margarita Day
DESCRIPTION:Enjoy a night of abuela approved Tex-Mex music at by Los Callejeros de San Anto (now with 15% more cumbia songs) \n✅ Abuela Approved\n✅ Puros Exitos\n✅ Good Times
URL:https://sanchosmx.com/sanchos-event/los-callejeros-celebrate-national-margarita-day/
CATEGORIES:live music
ATTACH;FMTTYPE=image/jpeg:https://sanchosmx.com/wp-content/uploads/2018/08/los-callejeros-e1535610413365.jpg
END:VEVENT
BEGIN:VEVENT
DTSTART;TZID=America/Chicago:20200222T170000
DTEND;TZID=America/Chicago:20200222T200000
DTSTAMP:20260425T072201
CREATED:20200128T064007Z
LAST-MODIFIED:20200128T064007Z
UID:10014819-1582390800-1582401600@sanchosmx.com
SUMMARY:Sol y Motion celebrate National Margarita Day
DESCRIPTION:Sol y Motion\, Houston's hottest Alternative Reggae/Chill band\nWebsite
URL:https://sanchosmx.com/sanchos-event/sol-y-motion-celebrate-national-margarita-day/
CATEGORIES:live music
ATTACH;FMTTYPE=image/jpeg:https://sanchosmx.com/wp-content/uploads/2019/04/Sol-y-Motion-Press-Photo.jpg
END:VEVENT
BEGIN:VEVENT
DTSTART;TZID=America/Chicago:20200221T220000
DTEND;TZID=America/Chicago:20200222T000000
DTSTAMP:20260425T072201
CREATED:20200128T063849Z
LAST-MODIFIED:20200128T063849Z
UID:10014818-1582322400-1582329600@sanchosmx.com
SUMMARY:Brother Dave and the Barrio Blasters
DESCRIPTION:Brother Dave and the Barrio Blasters! are a Hard Groovin'\, Sharp Dressed band with a songbook as diverse as our beloved hometown San Antonio\, Texas. Rock\, Soul\, Blues\, Honky Tonk\, and Funk all come together to create a tasty groove that is Puro San Antonio!
URL:https://sanchosmx.com/sanchos-event/brother-dave-barrio-blasters-2-21-2020/
CATEGORIES:live music
ATTACH;FMTTYPE=image/jpeg:https://sanchosmx.com/wp-content/uploads/2016/10/brother-dave.jpg
END:VEVENT
BEGIN:VEVENT
DTSTART;TZID=America/Chicago:20200221T190000
DTEND;TZID=America/Chicago:20200221T210000
DTSTAMP:20260425T072201
CREATED:20200128T063747Z
LAST-MODIFIED:20200128T063747Z
UID:10014817-1582311600-1582318800@sanchosmx.com
SUMMARY:Noah Peterson Solo Sax Sessions
DESCRIPTION:The Solo Sax Sessions is an innovation One Man Jams excursion into funky music.  Tropical tunes\, dance music\, and Louisiana Blues are all on the menu.  Great ready for some electronic musical wizardry.
URL:https://sanchosmx.com/sanchos-event/noah-peterson-solos-sax-sessions-2-21-20-2/
CATEGORIES:live music
ATTACH;FMTTYPE=image/jpeg:https://sanchosmx.com/wp-content/uploads/2019/02/noah-peterson.jpg
END:VEVENT
BEGIN:VEVENT
DTSTART;TZID=America/Chicago:20200220T213000
DTEND;TZID=America/Chicago:20200220T233000
DTSTAMP:20260425T072201
CREATED:20200218T022544Z
LAST-MODIFIED:20200218T022544Z
UID:10014831-1582234200-1582241400@sanchosmx.com
SUMMARY:Catherine Denise
DESCRIPTION:Catherine Denise is a female blues guitarist/ vocalist/ songwriter who plays and sings blues and blues/rock covers\, and also mixes in some soul and jazz\, along with her own originals. \nWebsite
URL:https://sanchosmx.com/sanchos-event/catherine-denise-2-20-2020/
CATEGORIES:live music
ATTACH;FMTTYPE=:
END:VEVENT
BEGIN:VEVENT
DTSTART;TZID=America/Chicago:20200220T190000
DTEND;TZID=America/Chicago:20200220T210000
DTSTAMP:20260425T072201
CREATED:20191028T053148Z
LAST-MODIFIED:20200626T175038Z
UID:10014693-1582225200-1582232400@sanchosmx.com
SUMMARY:Claude Morgan & the Bandaholics
DESCRIPTION:This is the home of Claude Butch Morgan and his BANDAHOLICS!\nEvery Thursday nite we ride off into the wild musical FUN-tier and you get to ride along with us.\nCome one\, come all\, become an EAR-Regular and lend us your ears and cheers. We will do our very best to put a smile on your face and joy in your heart.\nTrevor Doak Morgan-Drums\nRobert Robar Adams-Bass\nClaude Butch Morgan-Guitar \nThis is a “weather permitting” event. All seating is outside\, masks required for entry and when at your table.
URL:https://sanchosmx.com/sanchos-event/claude-morgan-the-bandaholics/2020-02-20/
CATEGORIES:live music
ATTACH;FMTTYPE=image/jpeg:https://sanchosmx.com/wp-content/uploads/2019/10/bandaholics.jpg
END:VEVENT
BEGIN:VEVENT
DTSTART;TZID=America/Chicago:20200219T210000
DTEND;TZID=America/Chicago:20200219T230000
DTSTAMP:20260425T072201
CREATED:20200205T220420Z
LAST-MODIFIED:20200205T220420Z
UID:10014830-1582146000-1582153200@sanchosmx.com
SUMMARY:Josh Baca and the Hot Tamales
DESCRIPTION:Josh Baca of Los Tex Maniacs leads his garrison of highly trained swamp conjunto compadres to musical heights the likes of which no man has seen or heard before.
URL:https://sanchosmx.com/sanchos-event/josh-baca-and-the-hot-tamales/
CATEGORIES:live music
ATTACH;FMTTYPE=image/png:https://sanchosmx.com/wp-content/uploads/2020/02/josh-baca-hot-tamales.png
END:VEVENT
BEGIN:VEVENT
DTSTART;TZID=America/Chicago:20200219T183000
DTEND;TZID=America/Chicago:20200219T203000
DTSTAMP:20260425T072201
CREATED:20191027T180951Z
LAST-MODIFIED:20200317T041012Z
UID:10013590-1582137000-1582144200@sanchosmx.com
SUMMARY:Ruben V
DESCRIPTION:“The power of music is amazing. I’ve known my whole life that this is what I’ve wanted to do and I’ve had confirmations at every step that this is what I’m supposed to do.”\nhttp://www.rubenv.com/
URL:https://sanchosmx.com/sanchos-event/ruben-v-5-2019-10-23-2/2020-02-19/
CATEGORIES:live music
ATTACH;FMTTYPE=image/jpeg:https://sanchosmx.com/wp-content/uploads/2015/08/ruben-v.jpg
END:VEVENT
BEGIN:VEVENT
DTSTART;TZID=America/Chicago:20200218T180000
DTEND;TZID=America/Chicago:20200218T200000
DTSTAMP:20260425T072201
CREATED:20200128T064934Z
LAST-MODIFIED:20200128T064934Z
UID:10014823-1582048800-1582056000@sanchosmx.com
SUMMARY:Silent Book Club
DESCRIPTION:Join us for San Antonio’s Silent Book Club meeting. All adults are welcome! At Silent Book Club\, you get to meet other book lovers without the pressure of having to finish a particular book or being prepared for in-depth discussion. At Silent Book Club\, we spend a few minutes chatting about what we are reading or just books in general\, then spend an hour sitting with one another reading (disclaimer: we haven't managed to do any reading at previous events--we enjoy talking about books!)\, then some more social time. Bring whatever you are reading right now and come spend some time with fellow book lovers! \nIf weather is nice\, we will be outside in the "alley" stage seating area. Look for signs. If raining or cold\, we will be inside. Your host is Susan Smylie \n#SilentBookClub
URL:https://sanchosmx.com/sanchos-event/silent-book-club-2-18-2020/
CATEGORIES:book club
ATTACH;FMTTYPE=image/jpeg:https://sanchosmx.com/wp-content/uploads/2019/11/silent-book-club.jpg
END:VEVENT
BEGIN:VEVENT
DTSTART;TZID=America/Chicago:20200217T190000
DTEND;TZID=America/Chicago:20200217T220000
DTSTAMP:20260425T072201
CREATED:20180515T213851Z
LAST-MODIFIED:20200319T024945Z
UID:10012711-1581966000-1581976800@sanchosmx.com
SUMMARY:Jazz Time Jam
DESCRIPTION:Open Jazz Jam with George Prado and Friends. Jazz from Yesterday to Tomorrow.
URL:https://sanchosmx.com/sanchos-event/jazz-dogz-2017-05-29-3-2-2-2-2-2-2-2018-10-29-2/2020-02-17/
CATEGORIES:live music
ATTACH;FMTTYPE=image/jpeg:https://sanchosmx.com/wp-content/uploads/2018/05/jazz-time-group-400.jpg
END:VEVENT
BEGIN:VEVENT
DTSTART;TZID=America/Chicago:20200216T190000
DTEND;TZID=America/Chicago:20200216T220000
DTSTAMP:20260425T072201
CREATED:20200128T063522Z
LAST-MODIFIED:20200128T063522Z
UID:10014815-1581879600-1581890400@sanchosmx.com
SUMMARY:Los Callejeros
DESCRIPTION:Enjoy a night of abuela approved Tex-Mex music at by Los Callejeros de San Anto (now with 15% more cumbia songs) \n✅ Abuela Approved\n✅ Puros Exitos\n✅ Good Times
URL:https://sanchosmx.com/sanchos-event/los-callejeros-2-16-2020/
CATEGORIES:live music
ATTACH;FMTTYPE=image/jpeg:https://sanchosmx.com/wp-content/uploads/2018/08/los-callejeros-e1535610413365.jpg
END:VEVENT
BEGIN:VEVENT
DTSTART;TZID=America/Chicago:20200215T220000
DTEND;TZID=America/Chicago:20200216T000000
DTSTAMP:20260425T072201
CREATED:20200128T063353Z
LAST-MODIFIED:20200128T063353Z
UID:10014814-1581804000-1581811200@sanchosmx.com
SUMMARY:The Lucky Odds
DESCRIPTION:
URL:https://sanchosmx.com/sanchos-event/the-lucky-odds-2-15-2020/
CATEGORIES:live music
ATTACH;FMTTYPE=image/jpeg:https://sanchosmx.com/wp-content/uploads/2017/03/lucky-odds.jpeg
END:VEVENT
BEGIN:VEVENT
DTSTART;TZID=America/Chicago:20200215T190000
DTEND;TZID=America/Chicago:20200215T210000
DTSTAMP:20260425T072201
CREATED:20200128T063317Z
LAST-MODIFIED:20200128T063317Z
UID:10014813-1581793200-1581800400@sanchosmx.com
SUMMARY:Brian Volante Band
DESCRIPTION:The Brian Volante Band (BVB) serves up some covers by well known artists such as Hendrix\, SRV\, the King Brothers\, Kenny Wayne Shepherd\, Robin Trower\, ZZ Top and a few others but we are most excited about our CD of Originals coming soon! We've got some Improvs\, electrified jams and some good ole hard hitting Blues Rock coming your way! \nWebsite
URL:https://sanchosmx.com/sanchos-event/brian-volante-band-2-15-2020/
CATEGORIES:live music
ATTACH;FMTTYPE=image/jpeg:https://sanchosmx.com/wp-content/uploads/2018/06/brian-volante-band.jpg
END:VEVENT
BEGIN:VEVENT
DTSTART;TZID=America/Chicago:20200214T230000
DTEND;TZID=America/Chicago:20200215T010000
DTSTAMP:20260425T072201
CREATED:20200128T063226Z
LAST-MODIFIED:20200128T063226Z
UID:10014812-1581721200-1581728400@sanchosmx.com
SUMMARY:Los #3 Dinners
DESCRIPTION:Los #3 Dinners perform original songs about livin' and lovin' in the Alamo Town. \n 
URL:https://sanchosmx.com/sanchos-event/los-3-dinners-2-14-2020/
CATEGORIES:live music
ATTACH;FMTTYPE=image/jpeg:https://sanchosmx.com/wp-content/uploads/2018/03/los-3-dinners.jpg
END:VEVENT
BEGIN:VEVENT
DTSTART;TZID=America/Chicago:20200214T193000
DTEND;TZID=America/Chicago:20200214T230000
DTSTAMP:20260425T072201
CREATED:20200109T050120Z
LAST-MODIFIED:20200129T054323Z
UID:10014794-1581708600-1581721200@sanchosmx.com
SUMMARY:Joe King Carrasco
DESCRIPTION:Sanchos is turning 5 and we are doing it in style! Known as the King of Tex-Mex rock and roll\, Joe King Carrasco creates a stylistic borderland of pop rock and Latin rhythms. His cross-cultural stew blends cumbias\, vamp\, salsa\, surf\, reggae\, blues\, and Latin-tinged polkas \nThis is a FREE Rooftop Deck show. Rooftop seating is limited and not guaranteed without a reservation. Reserve a table for set one or set two with a $50 gift card (table seats 6). Standing spots will be free\, first-come\, first-served with wrist bands handed out the morning of the concert. The concert will be performed twice to allow everyone a chance to see it. The deck will clear after the first set to allow everyone to have a chance to see the show. (To reserve a table\, come by Sanchos or call (210) 320-1840) \nIn case of rain\, the concert will be moved inside. \nWebsite
URL:https://sanchosmx.com/sanchos-event/joe-king-carrasco/
CATEGORIES:live music
ATTACH;FMTTYPE=image/jpeg:https://sanchosmx.com/wp-content/uploads/2020/01/joe-king.jpg
END:VEVENT
BEGIN:VEVENT
DTSTART;TZID=America/Chicago:20200214T170000
DTEND;TZID=America/Chicago:20200214T190000
DTSTAMP:20260425T072201
CREATED:20200128T063141Z
LAST-MODIFIED:20200128T063141Z
UID:10014811-1581699600-1581706800@sanchosmx.com
SUMMARY:Ed Morales and Brance Arnold
DESCRIPTION:Ed Morales of "Ed Morales & The River"\, performing music from his critically-acclaimed albums along with a selection of classics from 70's and 80's
URL:https://sanchosmx.com/sanchos-event/ed-morales-and-brance-arnold-2-14-20-2/
CATEGORIES:live music
ATTACH;FMTTYPE=image/jpeg:https://sanchosmx.com/wp-content/uploads/2019/02/Ed-Morales-solo.jpg
END:VEVENT
BEGIN:VEVENT
DTSTART;TZID=America/Chicago:20200213T213000
DTEND;TZID=America/Chicago:20200213T233000
DTSTAMP:20260425T072201
CREATED:20200128T063021Z
LAST-MODIFIED:20200128T063021Z
UID:10014810-1581629400-1581636600@sanchosmx.com
SUMMARY:Irie Tower
DESCRIPTION:feel-good\, reggae cover music
URL:https://sanchosmx.com/sanchos-event/irie-tower-2-13-2020/
CATEGORIES:live music
ATTACH;FMTTYPE=image/jpeg:https://sanchosmx.com/wp-content/uploads/2019/11/Irie-Tower-crop.jpg
END:VEVENT
BEGIN:VEVENT
DTSTART;TZID=America/Chicago:20200213T183000
DTEND;TZID=America/Chicago:20200213T203000
DTSTAMP:20260425T072201
CREATED:20191028T053148Z
LAST-MODIFIED:20200210T234411Z
UID:10014800-1581618600-1581625800@sanchosmx.com
SUMMARY:Claude Morgan & the Bandaholics w/Augie Meyer
DESCRIPTION:One and Only Augie Meyers will join the Bandaholics with his signature sound and several of his signature songs. San Antonio is so blessed to have Augie as a musical ambassador. He's played all over the worlds but has never forgotten his roots. We are really looking forward to having him join us. Better get there early\, it's going to be a packed house.\nTrevor Doak Morgan-Drums\nRobert Robar Adams-Bass\nClaude Butch Morgan-Guitar
URL:https://sanchosmx.com/sanchos-event/claude-morgan-the-bandaholics-2020-02-13/
CATEGORIES:live music
ATTACH;FMTTYPE=image/jpeg:https://sanchosmx.com/wp-content/uploads/2019/10/bandaholics.jpg
END:VEVENT
BEGIN:VEVENT
DTSTART;TZID=America/Chicago:20200212T210000
DTEND;TZID=America/Chicago:20200212T230000
DTSTAMP:20260425T072201
CREATED:20180331T074020Z
LAST-MODIFIED:20200224T041142Z
UID:10013016-1581541200-1581548400@sanchosmx.com
SUMMARY:The Chris Cuevas Project
DESCRIPTION:Blues\, Funk\, Soul\, Jazz with the Chris Cuevas Project
URL:https://sanchosmx.com/sanchos-event/chris-cuevas-project-36-3-2019-10-30/2020-02-12/
CATEGORIES:live music
END:VEVENT
BEGIN:VEVENT
DTSTART;TZID=America/Chicago:20200212T183000
DTEND;TZID=America/Chicago:20200212T203000
DTSTAMP:20260425T072201
CREATED:20191027T180951Z
LAST-MODIFIED:20200317T041012Z
UID:10013589-1581532200-1581539400@sanchosmx.com
SUMMARY:Ruben V
DESCRIPTION:“The power of music is amazing. I’ve known my whole life that this is what I’ve wanted to do and I’ve had confirmations at every step that this is what I’m supposed to do.”\nhttp://www.rubenv.com/
URL:https://sanchosmx.com/sanchos-event/ruben-v-5-2019-10-23-2/2020-02-12/
CATEGORIES:live music
ATTACH;FMTTYPE=image/jpeg:https://sanchosmx.com/wp-content/uploads/2015/08/ruben-v.jpg
END:VEVENT
END:VCALENDAR