BEGIN:VCALENDAR
VERSION:2.0
PRODID:-//Sanchos Cocina y Cantina - ECPv6.15.20//NONSGML v1.0//EN
CALSCALE:GREGORIAN
METHOD:PUBLISH
X-ORIGINAL-URL:https://sanchosmx.com
X-WR-CALDESC:Events for Sanchos Cocina y Cantina
REFRESH-INTERVAL;VALUE=DURATION:PT1H
X-Robots-Tag:noindex
X-PUBLISHED-TTL:PT1H
BEGIN:VTIMEZONE
TZID:America/Chicago
BEGIN:DAYLIGHT
TZOFFSETFROM:-0600
TZOFFSETTO:-0500
TZNAME:CDT
DTSTART:20190310T080000
END:DAYLIGHT
BEGIN:STANDARD
TZOFFSETFROM:-0500
TZOFFSETTO:-0600
TZNAME:CST
DTSTART:20191103T070000
END:STANDARD
BEGIN:DAYLIGHT
TZOFFSETFROM:-0600
TZOFFSETTO:-0500
TZNAME:CDT
DTSTART:20200308T080000
END:DAYLIGHT
BEGIN:STANDARD
TZOFFSETFROM:-0500
TZOFFSETTO:-0600
TZNAME:CST
DTSTART:20201101T070000
END:STANDARD
BEGIN:DAYLIGHT
TZOFFSETFROM:-0600
TZOFFSETTO:-0500
TZNAME:CDT
DTSTART:20210314T080000
END:DAYLIGHT
BEGIN:STANDARD
TZOFFSETFROM:-0500
TZOFFSETTO:-0600
TZNAME:CST
DTSTART:20211107T070000
END:STANDARD
END:VTIMEZONE
BEGIN:VEVENT
DTSTART;TZID=America/Chicago:20200925T200000
DTEND;TZID=America/Chicago:20200925T220000
DTSTAMP:20260425T083749
CREATED:20200828T053147Z
LAST-MODIFIED:20210427T194629Z
UID:10014873-1601064000-1601071200@sanchosmx.com
SUMMARY:Noah Peterson Solo Sax Sessions
DESCRIPTION:The Solo Sax Sessions is an innovation One Man Jams excursion into funky music.  Tropical tunes\, dance music\, and Louisiana Blues are all on the menu.  Great ready for some electronic musical wizardry. \n\nThis is a “weather permitting” event. All seating is outside\, masks required for entry and when away from your table.
URL:https://sanchosmx.com/sanchos-event/noah-peterson-solos-sax-sessions-9-4-2020/2020-09-25/
CATEGORIES:live music
ATTACH;FMTTYPE=image/jpeg:https://sanchosmx.com/wp-content/uploads/2019/02/noah-peterson.jpg
END:VEVENT
BEGIN:VEVENT
DTSTART;TZID=America/Chicago:20200924T190000
DTEND;TZID=America/Chicago:20200924T210000
DTSTAMP:20260425T083749
CREATED:20200828T053843Z
LAST-MODIFIED:20200918T051310Z
UID:10014902-1600974000-1600981200@sanchosmx.com
SUMMARY:The Bandaholics with Paul Kandera
DESCRIPTION:This is the home of Claude Butch Morgan and his BANDAHOLICS!\nEvery Thursday nite we ride off into the wild musical FUN-tier and you get to ride along with us.\nCome one\, come all\, become an EAR-Regular and lend us your ears and cheers. We will do our very best to put a smile on your face and joy in your heart.\nTrevor Doak Morgan-Drums\nRobert Robar Adams-Bass\nSpecial guest Paul Kandera-Guitar \nThis is a “weather permitting” event. All seating is outside\, masks required for entry and when away from your table.
URL:https://sanchosmx.com/sanchos-event/claude-morgan-the-bandaholics-2-2-2020-09-24/
CATEGORIES:live music
ATTACH;FMTTYPE=image/jpeg:https://sanchosmx.com/wp-content/uploads/2019/10/bandaholics.jpg
END:VEVENT
BEGIN:VEVENT
DTSTART;TZID=America/Chicago:20200920T140000
DTEND;TZID=America/Chicago:20200920T190000
DTSTAMP:20260425T083749
CREATED:20180830T055513Z
LAST-MODIFIED:20210514T221222Z
UID:10013140-1600610400-1600628400@sanchosmx.com
SUMMARY:Sanchos Domingo
DESCRIPTION:Sanchos Cantina is home to your perfect Sunday afternoon soundtrack... Live DJs spinning vinyl records of all genres... From oldies\, Texican music\, blues & rhythm\, soul jazz\, garage rocks\, cumbias... a bit of everything. Sit back and chill while the kitchen cooks up good eats. Order something from the full bar and kick it on the patio\, rooftop deck\, or the dancefloor!\nNo cover and plenty of parking available. Let's groove! \nThis is a “weather permitting” event. All seating is outside\, masks required for entry and when at your table.
URL:https://sanchosmx.com/sanchos-event/sanchos-domingo-7/2020-09-20/
CATEGORIES:DJ
END:VEVENT
BEGIN:VEVENT
DTSTART;TZID=America/Chicago:20200919T200000
DTEND;TZID=America/Chicago:20200919T220000
DTSTAMP:20260425T083749
CREATED:20200828T054933Z
LAST-MODIFIED:20200829T041141Z
UID:10014907-1600545600-1600552800@sanchosmx.com
SUMMARY:Ed Morales & The River
DESCRIPTION:Texas Singer-Songwriter Ed Morales with his band The River featuring Brance Arnold (lead guitar)\, Mark Munoz (bass)\, and Monte Ramirez (drums). Performing songs from critically-acclaimed albums “BorderTown”\, “Thinking Man’s Heart” and covers of timeless classics. \nWeather permitting\, Outside seating only\, Masks require for entry and when you leave your table \nWebsite
URL:https://sanchosmx.com/sanchos-event/ed-morales-river-9-19-2020/
CATEGORIES:live music
END:VEVENT
BEGIN:VEVENT
DTSTART;TZID=America/Chicago:20200918T210000
DTEND;TZID=America/Chicago:20200918T230000
DTSTAMP:20260425T083749
CREATED:20200828T053147Z
LAST-MODIFIED:20200918T050118Z
UID:10014898-1600462800-1600470000@sanchosmx.com
SUMMARY:Noah Peterson Solo Sax Sessions
DESCRIPTION:The Solo Sax Sessions is an innovation One Man Jams excursion into funky music.  Tropical tunes\, dance music\, and Louisiana Blues are all on the menu.  Great ready for some electronic musical wizardry. \n\nThis is a “weather permitting” event. All seating is outside\, masks required for entry and when away from your table.
URL:https://sanchosmx.com/sanchos-event/noah-peterson-solos-sax-sessions-9-4-2020-2020-09-18/
CATEGORIES:live music
ATTACH;FMTTYPE=image/jpeg:https://sanchosmx.com/wp-content/uploads/2019/02/noah-peterson.jpg
END:VEVENT
BEGIN:VEVENT
DTSTART;TZID=America/Chicago:20200918T190000
DTEND;TZID=America/Chicago:20200918T204500
DTSTAMP:20260425T083749
CREATED:20200828T053843Z
LAST-MODIFIED:20200918T050028Z
UID:10014901-1600455600-1600461900@sanchosmx.com
SUMMARY:The Bandaholics with Dub Robinson
DESCRIPTION:Weather permitting\, outside dining only\, masks required for entry and when not at your table.\nMy good pal and superb singer/songwriter/guitarist Mr Dub Robinson will be sitting in for me this Thursday. I need to time off to recover my lost energy and stamina. I'll be back soon don't worry.\nEvery Thursday nite we ride off into the wild musical FUN-tier and you get to ride along with us.\nCome one\, come all\, become an EAR-Regular and lend us your ears and cheers. We will do our very best to put a smile on your face and joy in your heart.\nTrevor Doak Morgan-Drums\nRobert Robar Adams-Bass\nSpecial guest Dub Robinson-Guitar
URL:https://sanchosmx.com/sanchos-event/claude-morgan-the-bandaholics-2-2/
CATEGORIES:live music
ATTACH;FMTTYPE=image/jpeg:https://sanchosmx.com/wp-content/uploads/2019/10/bandaholics.jpg
END:VEVENT
BEGIN:VEVENT
DTSTART;TZID=America/Chicago:20200913T140000
DTEND;TZID=America/Chicago:20200913T190000
DTSTAMP:20260425T083749
CREATED:20180830T055513Z
LAST-MODIFIED:20210514T221222Z
UID:10013139-1600005600-1600023600@sanchosmx.com
SUMMARY:Sanchos Domingo
DESCRIPTION:Sanchos Cantina is home to your perfect Sunday afternoon soundtrack... Live DJs spinning vinyl records of all genres... From oldies\, Texican music\, blues & rhythm\, soul jazz\, garage rocks\, cumbias... a bit of everything. Sit back and chill while the kitchen cooks up good eats. Order something from the full bar and kick it on the patio\, rooftop deck\, or the dancefloor!\nNo cover and plenty of parking available. Let's groove! \nThis is a “weather permitting” event. All seating is outside\, masks required for entry and when at your table.
URL:https://sanchosmx.com/sanchos-event/sanchos-domingo-7/2020-09-13/
CATEGORIES:DJ
END:VEVENT
BEGIN:VEVENT
DTSTART;TZID=America/Chicago:20200912T200000
DTEND;TZID=America/Chicago:20200912T220000
DTSTAMP:20260425T083749
CREATED:20200828T054414Z
LAST-MODIFIED:20200828T054414Z
UID:10014906-1599940800-1599948000@sanchosmx.com
SUMMARY:Tommy T & The 210's
DESCRIPTION:high energy old school R&B / Funk \n\nThis is a “weather permitting” event. All seating is outside\, masks required for entry and when away from your table\, limited seating.
URL:https://sanchosmx.com/sanchos-event/tommy-t-the-210s/
CATEGORIES:live music
END:VEVENT
BEGIN:VEVENT
DTSTART;TZID=America/Chicago:20200911T200000
DTEND;TZID=America/Chicago:20200911T220000
DTSTAMP:20260425T083749
CREATED:20200828T053147Z
LAST-MODIFIED:20210427T194629Z
UID:10014872-1599854400-1599861600@sanchosmx.com
SUMMARY:Noah Peterson Solo Sax Sessions
DESCRIPTION:The Solo Sax Sessions is an innovation One Man Jams excursion into funky music.  Tropical tunes\, dance music\, and Louisiana Blues are all on the menu.  Great ready for some electronic musical wizardry. \n\nThis is a “weather permitting” event. All seating is outside\, masks required for entry and when away from your table.
URL:https://sanchosmx.com/sanchos-event/noah-peterson-solos-sax-sessions-9-4-2020/2020-09-11/
CATEGORIES:live music
ATTACH;FMTTYPE=image/jpeg:https://sanchosmx.com/wp-content/uploads/2019/02/noah-peterson.jpg
END:VEVENT
BEGIN:VEVENT
DTSTART;TZID=America/Chicago:20200910T190000
DTEND;TZID=America/Chicago:20200910T210000
DTSTAMP:20260425T083749
CREATED:20200828T051445Z
LAST-MODIFIED:20200910T192600Z
UID:10014900-1599764400-1599771600@sanchosmx.com
SUMMARY:Cancelled: Claude Morgan & the Bandaholics
DESCRIPTION:Tonight's event is cancelled due to weather \n  \nThis is the home of Claude Butch Morgan and his BANDAHOLICS!\nEvery Thursday nite we ride off into the wild musical FUN-tier and you get to ride along with us.\nCome one\, come all\, become an EAR-Regular and lend us your ears and cheers. We will do our very best to put a smile on your face and joy in your heart.\nTrevor Doak Morgan-Drums\nRobert Robar Adams-Bass\nClaude Butch Morgan-Guitar \nThis is a “weather permitting” event. All seating is outside\, masks required for entry and when away from your table.
URL:https://sanchosmx.com/sanchos-event/claude-morgan-the-bandaholics-2-2020-09-10/
CATEGORIES:live music
ATTACH;FMTTYPE=image/jpeg:https://sanchosmx.com/wp-content/uploads/2019/10/bandaholics.jpg
END:VEVENT
BEGIN:VEVENT
DTSTART;TZID=America/Chicago:20200906T140000
DTEND;TZID=America/Chicago:20200906T190000
DTSTAMP:20260425T083749
CREATED:20180830T055513Z
LAST-MODIFIED:20210514T221222Z
UID:10013138-1599400800-1599418800@sanchosmx.com
SUMMARY:Sanchos Domingo
DESCRIPTION:Sanchos Cantina is home to your perfect Sunday afternoon soundtrack... Live DJs spinning vinyl records of all genres... From oldies\, Texican music\, blues & rhythm\, soul jazz\, garage rocks\, cumbias... a bit of everything. Sit back and chill while the kitchen cooks up good eats. Order something from the full bar and kick it on the patio\, rooftop deck\, or the dancefloor!\nNo cover and plenty of parking available. Let's groove! \nThis is a “weather permitting” event. All seating is outside\, masks required for entry and when at your table.
URL:https://sanchosmx.com/sanchos-event/sanchos-domingo-7/2020-09-06/
CATEGORIES:DJ
END:VEVENT
BEGIN:VEVENT
DTSTART;TZID=America/Chicago:20200905T200000
DTEND;TZID=America/Chicago:20200905T220000
DTSTAMP:20260425T083749
CREATED:20200828T054044Z
LAST-MODIFIED:20200828T054044Z
UID:10014904-1599336000-1599343200@sanchosmx.com
SUMMARY:Irie Tower
DESCRIPTION:feel-good\, reggae cover music\nWeather permitting\, Outside seating only\, Masks require for entry and when you leave your table
URL:https://sanchosmx.com/sanchos-event/irie-tower-9-5-2020/
CATEGORIES:live music
ATTACH;FMTTYPE=image/jpeg:https://sanchosmx.com/wp-content/uploads/2019/11/Irie-Tower-crop.jpg
END:VEVENT
BEGIN:VEVENT
DTSTART;TZID=America/Chicago:20200904T200000
DTEND;TZID=America/Chicago:20200904T220000
DTSTAMP:20260425T083749
CREATED:20200828T053147Z
LAST-MODIFIED:20210427T194629Z
UID:10014871-1599249600-1599256800@sanchosmx.com
SUMMARY:Noah Peterson Solo Sax Sessions
DESCRIPTION:The Solo Sax Sessions is an innovation One Man Jams excursion into funky music.  Tropical tunes\, dance music\, and Louisiana Blues are all on the menu.  Great ready for some electronic musical wizardry. \n\nThis is a “weather permitting” event. All seating is outside\, masks required for entry and when away from your table.
URL:https://sanchosmx.com/sanchos-event/noah-peterson-solos-sax-sessions-9-4-2020/2020-09-04/
CATEGORIES:live music
ATTACH;FMTTYPE=image/jpeg:https://sanchosmx.com/wp-content/uploads/2019/02/noah-peterson.jpg
END:VEVENT
BEGIN:VEVENT
DTSTART;TZID=America/Chicago:20200830T140000
DTEND;TZID=America/Chicago:20200830T190000
DTSTAMP:20260425T083749
CREATED:20180830T055513Z
LAST-MODIFIED:20210514T221222Z
UID:10013137-1598796000-1598814000@sanchosmx.com
SUMMARY:Sanchos Domingo
DESCRIPTION:Sanchos Cantina is home to your perfect Sunday afternoon soundtrack... Live DJs spinning vinyl records of all genres... From oldies\, Texican music\, blues & rhythm\, soul jazz\, garage rocks\, cumbias... a bit of everything. Sit back and chill while the kitchen cooks up good eats. Order something from the full bar and kick it on the patio\, rooftop deck\, or the dancefloor!\nNo cover and plenty of parking available. Let's groove! \nThis is a “weather permitting” event. All seating is outside\, masks required for entry and when at your table.
URL:https://sanchosmx.com/sanchos-event/sanchos-domingo-7/2020-08-30/
CATEGORIES:DJ
END:VEVENT
BEGIN:VEVENT
DTSTART;TZID=America/Chicago:20200827T190000
DTEND;TZID=America/Chicago:20200827T210000
DTSTAMP:20260425T083749
CREATED:20200828T051445Z
LAST-MODIFIED:20200828T054638Z
UID:10014870-1598554800-1598562000@sanchosmx.com
SUMMARY:Claude Morgan & the Bandaholics
DESCRIPTION:This is the home of Claude Butch Morgan and his BANDAHOLICS!\nEvery Thursday nite we ride off into the wild musical FUN-tier and you get to ride along with us.\nCome one\, come all\, become an EAR-Regular and lend us your ears and cheers. We will do our very best to put a smile on your face and joy in your heart.\nTrevor Doak Morgan-Drums\nRobert Robar Adams-Bass\nClaude Butch Morgan-Guitar \nThis is a “weather permitting” event. All seating is outside\, masks required for entry and when away from your table.
URL:https://sanchosmx.com/sanchos-event/claude-morgan-the-bandaholics-2/2020-08-27/
CATEGORIES:live music
ATTACH;FMTTYPE=image/jpeg:https://sanchosmx.com/wp-content/uploads/2019/10/bandaholics.jpg
END:VEVENT
BEGIN:VEVENT
DTSTART;TZID=America/Chicago:20200823T140000
DTEND;TZID=America/Chicago:20200823T190000
DTSTAMP:20260425T083749
CREATED:20180830T055513Z
LAST-MODIFIED:20210514T221222Z
UID:10013136-1598191200-1598209200@sanchosmx.com
SUMMARY:Sanchos Domingo
DESCRIPTION:Sanchos Cantina is home to your perfect Sunday afternoon soundtrack... Live DJs spinning vinyl records of all genres... From oldies\, Texican music\, blues & rhythm\, soul jazz\, garage rocks\, cumbias... a bit of everything. Sit back and chill while the kitchen cooks up good eats. Order something from the full bar and kick it on the patio\, rooftop deck\, or the dancefloor!\nNo cover and plenty of parking available. Let's groove! \nThis is a “weather permitting” event. All seating is outside\, masks required for entry and when at your table.
URL:https://sanchosmx.com/sanchos-event/sanchos-domingo-7/2020-08-23/
CATEGORIES:DJ
END:VEVENT
BEGIN:VEVENT
DTSTART;TZID=America/Chicago:20200820T190000
DTEND;TZID=America/Chicago:20200820T210000
DTSTAMP:20260425T083749
CREATED:20200828T051445Z
LAST-MODIFIED:20200828T054638Z
UID:10014869-1597950000-1597957200@sanchosmx.com
SUMMARY:Claude Morgan & the Bandaholics
DESCRIPTION:This is the home of Claude Butch Morgan and his BANDAHOLICS!\nEvery Thursday nite we ride off into the wild musical FUN-tier and you get to ride along with us.\nCome one\, come all\, become an EAR-Regular and lend us your ears and cheers. We will do our very best to put a smile on your face and joy in your heart.\nTrevor Doak Morgan-Drums\nRobert Robar Adams-Bass\nClaude Butch Morgan-Guitar \nThis is a “weather permitting” event. All seating is outside\, masks required for entry and when away from your table.
URL:https://sanchosmx.com/sanchos-event/claude-morgan-the-bandaholics-2/2020-08-20/
CATEGORIES:live music
ATTACH;FMTTYPE=image/jpeg:https://sanchosmx.com/wp-content/uploads/2019/10/bandaholics.jpg
END:VEVENT
BEGIN:VEVENT
DTSTART;TZID=America/Chicago:20200816T140000
DTEND;TZID=America/Chicago:20200816T190000
DTSTAMP:20260425T083749
CREATED:20200807T042814Z
LAST-MODIFIED:20200807T042814Z
UID:10014868-1597586400-1597604400@sanchosmx.com
SUMMARY:Sanchos Domingo 5th Anniversary
DESCRIPTION:Bring your facemasks and dancing shoes!\nWe celebrate 5 years of Sunday afternoon vinyl at Sanchos. After our 2 month break break from the action\, it’ll be great to see y’all again!
URL:https://sanchosmx.com/sanchos-event/sanchos-domingo-5th-anniversary/
CATEGORIES:DJ
END:VEVENT
BEGIN:VEVENT
DTSTART;TZID=America/Chicago:20200816T140000
DTEND;TZID=America/Chicago:20200816T190000
DTSTAMP:20260425T083749
CREATED:20180830T055513Z
LAST-MODIFIED:20210514T221222Z
UID:10013135-1597586400-1597604400@sanchosmx.com
SUMMARY:Sanchos Domingo
DESCRIPTION:Sanchos Cantina is home to your perfect Sunday afternoon soundtrack... Live DJs spinning vinyl records of all genres... From oldies\, Texican music\, blues & rhythm\, soul jazz\, garage rocks\, cumbias... a bit of everything. Sit back and chill while the kitchen cooks up good eats. Order something from the full bar and kick it on the patio\, rooftop deck\, or the dancefloor!\nNo cover and plenty of parking available. Let's groove! \nThis is a “weather permitting” event. All seating is outside\, masks required for entry and when at your table.
URL:https://sanchosmx.com/sanchos-event/sanchos-domingo-7/2020-08-16/
CATEGORIES:DJ
END:VEVENT
BEGIN:VEVENT
DTSTART;TZID=America/Chicago:20200625T190000
DTEND;TZID=America/Chicago:20200625T210000
DTSTAMP:20260425T083749
CREATED:20191028T053148Z
LAST-MODIFIED:20200626T175038Z
UID:10014706-1593111600-1593118800@sanchosmx.com
SUMMARY:Claude Morgan & the Bandaholics
DESCRIPTION:This is the home of Claude Butch Morgan and his BANDAHOLICS!\nEvery Thursday nite we ride off into the wild musical FUN-tier and you get to ride along with us.\nCome one\, come all\, become an EAR-Regular and lend us your ears and cheers. We will do our very best to put a smile on your face and joy in your heart.\nTrevor Doak Morgan-Drums\nRobert Robar Adams-Bass\nClaude Butch Morgan-Guitar \nThis is a “weather permitting” event. All seating is outside\, masks required for entry and when at your table.
URL:https://sanchosmx.com/sanchos-event/claude-morgan-the-bandaholics/2020-06-25/
CATEGORIES:live music
ATTACH;FMTTYPE=image/jpeg:https://sanchosmx.com/wp-content/uploads/2019/10/bandaholics.jpg
END:VEVENT
BEGIN:VEVENT
DTSTART;TZID=America/Chicago:20200620T200000
DTEND;TZID=America/Chicago:20200620T220000
DTSTAMP:20260425T083749
CREATED:20200603T054222Z
LAST-MODIFIED:20200603T054222Z
UID:10014866-1592683200-1592690400@sanchosmx.com
SUMMARY:Los #3 Dinners
DESCRIPTION:Los #3 Dinners perform original songs about livin' and lovin' in the Alamo Town. \n\nThis is a “weather permitting” event. All seating is outside\, masks required for entry and when at your table. \n\n  \n 
URL:https://sanchosmx.com/sanchos-event/los-3-dinners-6-20-2020/
CATEGORIES:live music
ATTACH;FMTTYPE=image/jpeg:https://sanchosmx.com/wp-content/uploads/2018/03/los-3-dinners.jpg
END:VEVENT
BEGIN:VEVENT
DTSTART;TZID=America/Chicago:20200619T200000
DTEND;TZID=America/Chicago:20200619T220000
DTSTAMP:20260425T083749
CREATED:20200603T053918Z
LAST-MODIFIED:20200603T053918Z
UID:10014864-1592596800-1592604000@sanchosmx.com
SUMMARY:Noah Peterson Solo Sax Sessions
DESCRIPTION:The Solo Sax Sessions is an innovation One Man Jams excursion into funky music.  Tropical tunes\, dance music\, and Louisiana Blues are all on the menu.  Great ready for some electronic musical wizardry. \n\nThis is a “weather permitting” event. All seating is outside\, masks required for entry and when at your table.
URL:https://sanchosmx.com/sanchos-event/noah-peterson-solos-sax-sessions-6-19-2020/
CATEGORIES:live music
ATTACH;FMTTYPE=image/jpeg:https://sanchosmx.com/wp-content/uploads/2019/02/noah-peterson.jpg
END:VEVENT
BEGIN:VEVENT
DTSTART;TZID=America/Chicago:20200618T190000
DTEND;TZID=America/Chicago:20200618T210000
DTSTAMP:20260425T083749
CREATED:20191028T053148Z
LAST-MODIFIED:20200626T175038Z
UID:10014705-1592506800-1592514000@sanchosmx.com
SUMMARY:Claude Morgan & the Bandaholics
DESCRIPTION:This is the home of Claude Butch Morgan and his BANDAHOLICS!\nEvery Thursday nite we ride off into the wild musical FUN-tier and you get to ride along with us.\nCome one\, come all\, become an EAR-Regular and lend us your ears and cheers. We will do our very best to put a smile on your face and joy in your heart.\nTrevor Doak Morgan-Drums\nRobert Robar Adams-Bass\nClaude Butch Morgan-Guitar \nThis is a “weather permitting” event. All seating is outside\, masks required for entry and when at your table.
URL:https://sanchosmx.com/sanchos-event/claude-morgan-the-bandaholics/2020-06-18/
CATEGORIES:live music
ATTACH;FMTTYPE=image/jpeg:https://sanchosmx.com/wp-content/uploads/2019/10/bandaholics.jpg
END:VEVENT
BEGIN:VEVENT
DTSTART;TZID=America/Chicago:20200615T190000
DTEND;TZID=America/Chicago:20200615T220000
DTSTAMP:20260425T083749
CREATED:20200523T204034Z
LAST-MODIFIED:20200626T180451Z
UID:10014859-1592247600-1592258400@sanchosmx.com
SUMMARY:Jazz Time (no jam)
DESCRIPTION:Jazz from Yesterday to Tomorrow with George Prado and Friends.  No jamming for the time being. This is a "weather permitting" event. All seating is outside\, masks required for entry and when at your table.
URL:https://sanchosmx.com/sanchos-event/jazz-time/2020-06-15/
CATEGORIES:live music
ATTACH;FMTTYPE=image/jpeg:https://sanchosmx.com/wp-content/uploads/2018/05/jazz-time-group-400.jpg
END:VEVENT
BEGIN:VEVENT
DTSTART;TZID=America/Chicago:20200613T200000
DTEND;TZID=America/Chicago:20200613T220000
DTSTAMP:20260425T083749
CREATED:20200530T154740Z
LAST-MODIFIED:20200530T154740Z
UID:10014862-1592078400-1592085600@sanchosmx.com
SUMMARY:Brian Volante Band
DESCRIPTION:Weather permitting\, Outside seating only\, Masks require for entry and when you leave your table\, no groups larger than 6 people. \nThe Brian Volante Band (BVB) serves up some covers by well known artists such as Hendrix\, SRV\, the King Brothers\, Kenny Wayne Shepherd\, Robin Trower\, ZZ Top and a few others but we are most excited about our CD of Originals coming soon! We've got some Improvs\, electrified jams and some good ole hard hitting Blues Rock coming your way! \nWebsite
URL:https://sanchosmx.com/sanchos-event/brian-volante-band-6-13-2020/
CATEGORIES:live music
ATTACH;FMTTYPE=image/jpeg:https://sanchosmx.com/wp-content/uploads/2018/06/brian-volante-band.jpg
END:VEVENT
BEGIN:VEVENT
DTSTART;TZID=America/Chicago:20200612T200000
DTEND;TZID=America/Chicago:20200612T220000
DTSTAMP:20260425T083749
CREATED:20200603T054059Z
LAST-MODIFIED:20200603T054059Z
UID:10014865-1591992000-1591999200@sanchosmx.com
SUMMARY:Ed Morales and Brance Arnold
DESCRIPTION:Ed Morales of "Ed Morales & The River"\, performing music from his critically-acclaimed albums along with a selection of classics from 70's and 80's \n\nThis is a “weather permitting” event. All seating is outside\, masks required for entry and when at your table.
URL:https://sanchosmx.com/sanchos-event/ed-morales-and-brance-arnold-6-12-2020/
CATEGORIES:live music
ATTACH;FMTTYPE=image/jpeg:https://sanchosmx.com/wp-content/uploads/2019/02/Ed-Morales-solo.jpg
END:VEVENT
BEGIN:VEVENT
DTSTART;TZID=America/Chicago:20200611T190000
DTEND;TZID=America/Chicago:20200611T210000
DTSTAMP:20260425T083749
CREATED:20191028T053148Z
LAST-MODIFIED:20200626T175038Z
UID:10014704-1591902000-1591909200@sanchosmx.com
SUMMARY:Claude Morgan & the Bandaholics
DESCRIPTION:This is the home of Claude Butch Morgan and his BANDAHOLICS!\nEvery Thursday nite we ride off into the wild musical FUN-tier and you get to ride along with us.\nCome one\, come all\, become an EAR-Regular and lend us your ears and cheers. We will do our very best to put a smile on your face and joy in your heart.\nTrevor Doak Morgan-Drums\nRobert Robar Adams-Bass\nClaude Butch Morgan-Guitar \nThis is a “weather permitting” event. All seating is outside\, masks required for entry and when at your table.
URL:https://sanchosmx.com/sanchos-event/claude-morgan-the-bandaholics/2020-06-11/
CATEGORIES:live music
ATTACH;FMTTYPE=image/jpeg:https://sanchosmx.com/wp-content/uploads/2019/10/bandaholics.jpg
END:VEVENT
BEGIN:VEVENT
DTSTART;TZID=America/Chicago:20200608T190000
DTEND;TZID=America/Chicago:20200608T220000
DTSTAMP:20260425T083749
CREATED:20200523T204034Z
LAST-MODIFIED:20200626T180451Z
UID:10014858-1591642800-1591653600@sanchosmx.com
SUMMARY:Jazz Time (no jam)
DESCRIPTION:Jazz from Yesterday to Tomorrow with George Prado and Friends.  No jamming for the time being. This is a "weather permitting" event. All seating is outside\, masks required for entry and when at your table.
URL:https://sanchosmx.com/sanchos-event/jazz-time/2020-06-08/
CATEGORIES:live music
ATTACH;FMTTYPE=image/jpeg:https://sanchosmx.com/wp-content/uploads/2018/05/jazz-time-group-400.jpg
END:VEVENT
BEGIN:VEVENT
DTSTART;TZID=America/Chicago:20200606T200000
DTEND;TZID=America/Chicago:20200606T220000
DTSTAMP:20260425T083749
CREATED:20200530T155234Z
LAST-MODIFIED:20200530T155234Z
UID:10014863-1591473600-1591480800@sanchosmx.com
SUMMARY:Irie Tower
DESCRIPTION:feel-good\, reggae cover music\nWeather permitting\, Outside seating only\, Masks require for entry and when you leave your table\, no groups larger than 6 people.
URL:https://sanchosmx.com/sanchos-event/irie-tower-6-6-2020/
CATEGORIES:live music
ATTACH;FMTTYPE=image/jpeg:https://sanchosmx.com/wp-content/uploads/2019/11/Irie-Tower-crop.jpg
END:VEVENT
BEGIN:VEVENT
DTSTART;TZID=America/Chicago:20200604T190000
DTEND;TZID=America/Chicago:20200604T210000
DTSTAMP:20260425T083749
CREATED:20191028T053148Z
LAST-MODIFIED:20200626T175038Z
UID:10014703-1591297200-1591304400@sanchosmx.com
SUMMARY:Claude Morgan & the Bandaholics
DESCRIPTION:This is the home of Claude Butch Morgan and his BANDAHOLICS!\nEvery Thursday nite we ride off into the wild musical FUN-tier and you get to ride along with us.\nCome one\, come all\, become an EAR-Regular and lend us your ears and cheers. We will do our very best to put a smile on your face and joy in your heart.\nTrevor Doak Morgan-Drums\nRobert Robar Adams-Bass\nClaude Butch Morgan-Guitar \nThis is a “weather permitting” event. All seating is outside\, masks required for entry and when at your table.
URL:https://sanchosmx.com/sanchos-event/claude-morgan-the-bandaholics/2020-06-04/
CATEGORIES:live music
ATTACH;FMTTYPE=image/jpeg:https://sanchosmx.com/wp-content/uploads/2019/10/bandaholics.jpg
END:VEVENT
END:VCALENDAR