BEGIN:VCALENDAR
VERSION:2.0
PRODID:-//Sanchos Cocina y Cantina - ECPv6.15.20//NONSGML v1.0//EN
CALSCALE:GREGORIAN
METHOD:PUBLISH
X-WR-CALNAME:Sanchos Cocina y Cantina
X-ORIGINAL-URL:https://sanchosmx.com
X-WR-CALDESC:Events for Sanchos Cocina y Cantina
REFRESH-INTERVAL;VALUE=DURATION:PT1H
X-Robots-Tag:noindex
X-PUBLISHED-TTL:PT1H
BEGIN:VTIMEZONE
TZID:America/Chicago
BEGIN:DAYLIGHT
TZOFFSETFROM:-0600
TZOFFSETTO:-0500
TZNAME:CDT
DTSTART:20200308T080000
END:DAYLIGHT
BEGIN:STANDARD
TZOFFSETFROM:-0500
TZOFFSETTO:-0600
TZNAME:CST
DTSTART:20201101T070000
END:STANDARD
BEGIN:DAYLIGHT
TZOFFSETFROM:-0600
TZOFFSETTO:-0500
TZNAME:CDT
DTSTART:20210314T080000
END:DAYLIGHT
BEGIN:STANDARD
TZOFFSETFROM:-0500
TZOFFSETTO:-0600
TZNAME:CST
DTSTART:20211107T070000
END:STANDARD
BEGIN:DAYLIGHT
TZOFFSETFROM:-0600
TZOFFSETTO:-0500
TZNAME:CDT
DTSTART:20220313T080000
END:DAYLIGHT
BEGIN:STANDARD
TZOFFSETFROM:-0500
TZOFFSETTO:-0600
TZNAME:CST
DTSTART:20221106T070000
END:STANDARD
END:VTIMEZONE
BEGIN:VEVENT
DTSTART;TZID=America/Chicago:20211211T160000
DTEND;TZID=America/Chicago:20211211T180000
DTSTAMP:20260425T145149
CREATED:20211128T055138Z
LAST-MODIFIED:20211130T021654Z
UID:10015486-1639238400-1639245600@sanchosmx.com
SUMMARY:Tardes Tejanos w DJ Sabes Que
DESCRIPTION:Website
URL:https://sanchosmx.com/sanchos-event/tardes-tejanos-w-dj-sabes-que/2021-12-11/
LOCATION:TX
CATEGORIES:DJ
END:VEVENT
BEGIN:VEVENT
DTSTART;TZID=America/Chicago:20211210T200000
DTEND;TZID=America/Chicago:20211210T220000
DTSTAMP:20260425T145149
CREATED:20211128T055534Z
LAST-MODIFIED:20211128T055534Z
UID:10015489-1639166400-1639173600@sanchosmx.com
SUMMARY:Brother Dave and the Barrio Blasters
DESCRIPTION:Brother Dave and the Barrio Blasters! are a Hard Groovin'\, Sharp Dressed band with a songbook as diverse as our beloved hometown San Antonio\, Texas. Rock\, Soul\, Blues\, Honky Tonk\, and Funk all come together to create a tasty groove that is Puro San Antonio!
URL:https://sanchosmx.com/sanchos-event/brother-dave-barrio-blasters-2-21-2020-2-2-2-2-2-2-2/
LOCATION:TX
CATEGORIES:live music
ATTACH;FMTTYPE=image/jpeg:https://sanchosmx.com/wp-content/uploads/2016/10/brother-dave.jpg
END:VEVENT
BEGIN:VEVENT
DTSTART;TZID=America/Chicago:20211209T190000
DTEND;TZID=America/Chicago:20211209T210000
DTSTAMP:20260425T145149
CREATED:20210427T153307Z
LAST-MODIFIED:20260324T220610Z
UID:10015035-1639076400-1639083600@sanchosmx.com
SUMMARY:Claude Butch Morgan & His Bandaholics
DESCRIPTION:This is the home of Claude Butch Morgan and his BANDAHOLICS!\nEvery Thursday nite we ride off into the wild musical FUN-tier and you get to ride along with us.\nCome one\, come all\, become an EAR-Regular and lend us your ears and cheers. We will do our very best to put a smile on your face and joy in your heart.
URL:https://sanchosmx.com/sanchos-event/claude-butch-morgan-his-bandaholics/2021-12-09/
LOCATION:Sanchos\, 628 Jackson St\, San Antonio\, TX\, 78212\, United States
CATEGORIES:live music
ATTACH;FMTTYPE=image/jpeg:https://sanchosmx.com/wp-content/uploads/2019/10/bandaholics.jpg
GEO:29.4241219;-98.4936282
X-APPLE-STRUCTURED-LOCATION;VALUE=URI;X-ADDRESS=Sanchos 628 Jackson St San Antonio TX 78212 United States;X-APPLE-RADIUS=500;X-TITLE=628 Jackson St:geo:-98.4936282,29.4241219
END:VEVENT
BEGIN:VEVENT
DTSTART;TZID=America/Chicago:20211208T190000
DTEND;TZID=America/Chicago:20211208T210000
DTSTAMP:20260425T145149
CREATED:20211110T200849Z
LAST-MODIFIED:20220228T063420Z
UID:10015465-1638990000-1638997200@sanchosmx.com
SUMMARY:FuZion Mariachi
DESCRIPTION:A new era of mariachi!\nKumbia • Mariachi • Rock • Pop\n\nWebsite
URL:https://sanchosmx.com/sanchos-event/fuzion-mariachi/2021-12-08/
LOCATION:TX
CATEGORIES:live music
ATTACH;FMTTYPE=image/jpeg:https://sanchosmx.com/wp-content/uploads/2021/11/fuzion.jpg
END:VEVENT
BEGIN:VEVENT
DTSTART;TZID=America/Chicago:20211207T190000
DTEND;TZID=America/Chicago:20211207T220000
DTSTAMP:20260425T145149
CREATED:20211029T015022Z
LAST-MODIFIED:20211128T054504Z
UID:10015450-1638903600-1638914400@sanchosmx.com
SUMMARY:Open Mic w/ Kyle Ray Wilson
DESCRIPTION:Come show off your skills behind the Mic at Sanchos. Hosted by Kyle Ray.\nSign up sheet available \, check in with host.
URL:https://sanchosmx.com/sanchos-event/open-mic-w-kyle-ray-wilson-2/2021-12-07/
LOCATION:TX
CATEGORIES:live music,open mic
ATTACH;FMTTYPE=image/jpeg:https://sanchosmx.com/wp-content/uploads/2021/05/open-mic-kyle.jpg
END:VEVENT
BEGIN:VEVENT
DTSTART;TZID=America/Chicago:20211206T180000
DTEND;TZID=America/Chicago:20211207T010000
DTSTAMP:20260425T145149
CREATED:20211206T042059Z
LAST-MODIFIED:20211206T042059Z
UID:10015496-1638813600-1638838800@sanchosmx.com
SUMMARY:Closing at 6pm
DESCRIPTION:We will be closing early for our staff holiday party.
URL:https://sanchosmx.com/sanchos-event/closing-at-6pm/
LOCATION:TX
END:VEVENT
BEGIN:VEVENT
DTSTART;TZID=America/Chicago:20211205T160000
DTEND;TZID=America/Chicago:20211205T180000
DTSTAMP:20260425T145149
CREATED:20210928T060814Z
LAST-MODIFIED:20211213T231612Z
UID:10015364-1638720000-1638727200@sanchosmx.com
SUMMARY:Tardes Tejanos w DJ Sabes Que
DESCRIPTION:Website
URL:https://sanchosmx.com/sanchos-event/tardes-tejano-w-dj-sabes-que/2021-12-05/
LOCATION:TX
CATEGORIES:DJ
END:VEVENT
BEGIN:VEVENT
DTSTART;TZID=America/Chicago:20211204T200000
DTEND;TZID=America/Chicago:20211204T220000
DTSTAMP:20260425T145149
CREATED:20211128T055901Z
LAST-MODIFIED:20211128T055901Z
UID:10015491-1638648000-1638655200@sanchosmx.com
SUMMARY:Brother Dave Trio
DESCRIPTION:Brother Dave back at it again on our patio stage to bring down the house ! \nRock n Roll !
URL:https://sanchosmx.com/sanchos-event/brother-dave-trio-2-2-2-2-2/
LOCATION:TX
CATEGORIES:live music
ATTACH;FMTTYPE=image/jpeg:https://sanchosmx.com/wp-content/uploads/2021/05/180208619_1988265797998911_6634107337412862399_n.jpg
END:VEVENT
BEGIN:VEVENT
DTSTART;TZID=America/Chicago:20211204T160000
DTEND;TZID=America/Chicago:20211204T180000
DTSTAMP:20260425T145149
CREATED:20211128T055138Z
LAST-MODIFIED:20211130T021654Z
UID:10015485-1638633600-1638640800@sanchosmx.com
SUMMARY:Tardes Tejanos w DJ Sabes Que
DESCRIPTION:Website
URL:https://sanchosmx.com/sanchos-event/tardes-tejanos-w-dj-sabes-que/2021-12-04/
LOCATION:TX
CATEGORIES:DJ
END:VEVENT
BEGIN:VEVENT
DTSTART;TZID=America/Chicago:20211203T200000
DTEND;TZID=America/Chicago:20211203T220000
DTSTAMP:20260425T145149
CREATED:20211128T055454Z
LAST-MODIFIED:20211128T055454Z
UID:10015488-1638561600-1638568800@sanchosmx.com
SUMMARY:Irie Tower
DESCRIPTION:feel-good\, reggae cover music\nWeather permitting\, Outside seating only\, Masks require for entry and when you leave your table
URL:https://sanchosmx.com/sanchos-event/irie-tower-12-5-2020-2-2-2-2-2/
LOCATION:TX
CATEGORIES:live music
ATTACH;FMTTYPE=image/jpeg:https://sanchosmx.com/wp-content/uploads/2019/11/Irie-Tower-crop.jpg
END:VEVENT
BEGIN:VEVENT
DTSTART;TZID=America/Chicago:20211202T190000
DTEND;TZID=America/Chicago:20211202T210000
DTSTAMP:20260425T145149
CREATED:20210427T153307Z
LAST-MODIFIED:20260324T220610Z
UID:10015034-1638471600-1638478800@sanchosmx.com
SUMMARY:Claude Butch Morgan & His Bandaholics
DESCRIPTION:This is the home of Claude Butch Morgan and his BANDAHOLICS!\nEvery Thursday nite we ride off into the wild musical FUN-tier and you get to ride along with us.\nCome one\, come all\, become an EAR-Regular and lend us your ears and cheers. We will do our very best to put a smile on your face and joy in your heart.
URL:https://sanchosmx.com/sanchos-event/claude-butch-morgan-his-bandaholics/2021-12-02/
LOCATION:Sanchos\, 628 Jackson St\, San Antonio\, TX\, 78212\, United States
CATEGORIES:live music
ATTACH;FMTTYPE=image/jpeg:https://sanchosmx.com/wp-content/uploads/2019/10/bandaholics.jpg
GEO:29.4241219;-98.4936282
X-APPLE-STRUCTURED-LOCATION;VALUE=URI;X-ADDRESS=Sanchos 628 Jackson St San Antonio TX 78212 United States;X-APPLE-RADIUS=500;X-TITLE=628 Jackson St:geo:-98.4936282,29.4241219
END:VEVENT
BEGIN:VEVENT
DTSTART;TZID=America/Chicago:20211201T190000
DTEND;TZID=America/Chicago:20211201T210000
DTSTAMP:20260425T145149
CREATED:20211110T200849Z
LAST-MODIFIED:20220228T063420Z
UID:10015464-1638385200-1638392400@sanchosmx.com
SUMMARY:FuZion Mariachi
DESCRIPTION:A new era of mariachi!\nKumbia • Mariachi • Rock • Pop\n\nWebsite
URL:https://sanchosmx.com/sanchos-event/fuzion-mariachi/2021-12-01/
LOCATION:TX
CATEGORIES:live music
ATTACH;FMTTYPE=image/jpeg:https://sanchosmx.com/wp-content/uploads/2021/11/fuzion.jpg
END:VEVENT
BEGIN:VEVENT
DTSTART;TZID=America/Chicago:20211130T190000
DTEND;TZID=America/Chicago:20211130T220000
DTSTAMP:20260425T145149
CREATED:20211029T015022Z
LAST-MODIFIED:20211128T054504Z
UID:10015449-1638298800-1638309600@sanchosmx.com
SUMMARY:Open Mic w/ Kyle Ray Wilson
DESCRIPTION:Come show off your skills behind the Mic at Sanchos. Hosted by Kyle Ray.\nSign up sheet available \, check in with host.
URL:https://sanchosmx.com/sanchos-event/open-mic-w-kyle-ray-wilson-2/2021-11-30/
LOCATION:TX
CATEGORIES:live music,open mic
ATTACH;FMTTYPE=image/jpeg:https://sanchosmx.com/wp-content/uploads/2021/05/open-mic-kyle.jpg
END:VEVENT
BEGIN:VEVENT
DTSTART;TZID=America/Chicago:20211129T190000
DTEND;TZID=America/Chicago:20211129T210000
DTSTAMP:20260425T145149
CREATED:20211029T014719Z
LAST-MODIFIED:20230127T222010Z
UID:10015385-1638212400-1638219600@sanchosmx.com
SUMMARY:The Hess Brothers and Company Jazz Session
DESCRIPTION:Dynamic combo of some of the most award winning jazz musicians in San Antonio. 
URL:https://sanchosmx.com/sanchos-event/prado-hess-jazz-duo/2021-11-29/
LOCATION:Sanchos\, 628 Jackson St\, San Antonio\, TX\, 78212\, United States
CATEGORIES:live music
ATTACH;FMTTYPE=image/jpeg:https://sanchosmx.com/wp-content/uploads/2021/10/245779532_2112330442259112_821500283828505130_n.jpg
GEO:29.4241219;-98.4936282
X-APPLE-STRUCTURED-LOCATION;VALUE=URI;X-ADDRESS=Sanchos 628 Jackson St San Antonio TX 78212 United States;X-APPLE-RADIUS=500;X-TITLE=628 Jackson St:geo:-98.4936282,29.4241219
END:VEVENT
BEGIN:VEVENT
DTSTART;TZID=America/Chicago:20211128T160000
DTEND;TZID=America/Chicago:20211128T180000
DTSTAMP:20260425T145149
CREATED:20210928T060814Z
LAST-MODIFIED:20211213T231612Z
UID:10015363-1638115200-1638122400@sanchosmx.com
SUMMARY:Tardes Tejanos w DJ Sabes Que
DESCRIPTION:Website
URL:https://sanchosmx.com/sanchos-event/tardes-tejano-w-dj-sabes-que/2021-11-28/
LOCATION:TX
CATEGORIES:DJ
END:VEVENT
BEGIN:VEVENT
DTSTART;TZID=America/Chicago:20211127T200000
DTEND;TZID=America/Chicago:20211127T220000
DTSTAMP:20260425T145149
CREATED:20211110T202817Z
LAST-MODIFIED:20211110T202817Z
UID:10015482-1638043200-1638050400@sanchosmx.com
SUMMARY:Unknown Soldiers
DESCRIPTION:San Antonio's “The Unknown Soldiers”. The Bohemian Army is here.
URL:https://sanchosmx.com/sanchos-event/unknown-soldiers-2-2-2-2-2-2/
LOCATION:TX
CATEGORIES:live music
ATTACH;FMTTYPE=image/jpeg:https://sanchosmx.com/wp-content/uploads/2021/04/124970553_4032206770142229_1462172039236812555_n.jpg
END:VEVENT
BEGIN:VEVENT
DTSTART;TZID=America/Chicago:20211126T200000
DTEND;TZID=America/Chicago:20211126T220000
DTSTAMP:20260425T145149
CREATED:20211109T043352Z
LAST-MODIFIED:20211109T043352Z
UID:10015460-1637956800-1637964000@sanchosmx.com
SUMMARY:Unknown Soldiers
DESCRIPTION:San Antonio's “The Unknown Soldiers”. The Bohemian Army is here.
URL:https://sanchosmx.com/sanchos-event/unknown-soldiers-2-2-2-2-2/
LOCATION:TX
CATEGORIES:live music
ATTACH;FMTTYPE=image/jpeg:https://sanchosmx.com/wp-content/uploads/2021/04/124970553_4032206770142229_1462172039236812555_n.jpg
END:VEVENT
BEGIN:VEVENT
DTSTART;TZID=America/Chicago:20211125T180000
DTEND;TZID=America/Chicago:20211125T220000
DTSTAMP:20260425T145149
CREATED:20211123T231509Z
LAST-MODIFIED:20211123T231720Z
UID:10015483-1637863200-1637877600@sanchosmx.com
SUMMARY:Turkey Tracks w DJ Sabes Que
DESCRIPTION:Spinning tejano and cumbia \nWebsite
URL:https://sanchosmx.com/sanchos-event/tardes-tejano-w-dj-sabes-que-2021-10-31-2-2021-11-06-2/
LOCATION:TX
CATEGORIES:DJ
END:VEVENT
BEGIN:VEVENT
DTSTART;TZID=America/Chicago:20211124T213000
DTEND;TZID=America/Chicago:20211125T000000
DTSTAMP:20260425T145149
CREATED:20211124T200248Z
LAST-MODIFIED:20211124T200248Z
UID:10015484-1637789400-1637798400@sanchosmx.com
SUMMARY:Nuclear Juarez
DESCRIPTION:physcobilly rock n roll
URL:https://sanchosmx.com/sanchos-event/nuclear-juarez-12-2-2/
LOCATION:TX
CATEGORIES:live music
ATTACH;FMTTYPE=image/jpeg:https://sanchosmx.com/wp-content/uploads/2021/11/nuclear-juarez-thanksgiving.jpg
END:VEVENT
BEGIN:VEVENT
DTSTART;TZID=America/Chicago:20211124T190000
DTEND;TZID=America/Chicago:20211124T210000
DTSTAMP:20260425T145149
CREATED:20211110T200849Z
LAST-MODIFIED:20220228T063420Z
UID:10015463-1637780400-1637787600@sanchosmx.com
SUMMARY:FuZion Mariachi
DESCRIPTION:A new era of mariachi!\nKumbia • Mariachi • Rock • Pop\n\nWebsite
URL:https://sanchosmx.com/sanchos-event/fuzion-mariachi/2021-11-24/
LOCATION:TX
CATEGORIES:live music
ATTACH;FMTTYPE=image/jpeg:https://sanchosmx.com/wp-content/uploads/2021/11/fuzion.jpg
END:VEVENT
BEGIN:VEVENT
DTSTART;TZID=America/Chicago:20211123T190000
DTEND;TZID=America/Chicago:20211123T220000
DTSTAMP:20260425T145149
CREATED:20211029T015022Z
LAST-MODIFIED:20211128T054504Z
UID:10015448-1637694000-1637704800@sanchosmx.com
SUMMARY:Open Mic w/ Kyle Ray Wilson
DESCRIPTION:Come show off your skills behind the Mic at Sanchos. Hosted by Kyle Ray.\nSign up sheet available \, check in with host.
URL:https://sanchosmx.com/sanchos-event/open-mic-w-kyle-ray-wilson-2/2021-11-23/
LOCATION:TX
CATEGORIES:live music,open mic
ATTACH;FMTTYPE=image/jpeg:https://sanchosmx.com/wp-content/uploads/2021/05/open-mic-kyle.jpg
END:VEVENT
BEGIN:VEVENT
DTSTART;TZID=America/Chicago:20211122T190000
DTEND;TZID=America/Chicago:20211122T210000
DTSTAMP:20260425T145149
CREATED:20211029T014719Z
LAST-MODIFIED:20230127T222010Z
UID:10015384-1637607600-1637614800@sanchosmx.com
SUMMARY:The Hess Brothers and Company Jazz Session
DESCRIPTION:Dynamic combo of some of the most award winning jazz musicians in San Antonio. 
URL:https://sanchosmx.com/sanchos-event/prado-hess-jazz-duo/2021-11-22/
LOCATION:Sanchos\, 628 Jackson St\, San Antonio\, TX\, 78212\, United States
CATEGORIES:live music
ATTACH;FMTTYPE=image/jpeg:https://sanchosmx.com/wp-content/uploads/2021/10/245779532_2112330442259112_821500283828505130_n.jpg
GEO:29.4241219;-98.4936282
X-APPLE-STRUCTURED-LOCATION;VALUE=URI;X-ADDRESS=Sanchos 628 Jackson St San Antonio TX 78212 United States;X-APPLE-RADIUS=500;X-TITLE=628 Jackson St:geo:-98.4936282,29.4241219
END:VEVENT
BEGIN:VEVENT
DTSTART;TZID=America/Chicago:20211121T160000
DTEND;TZID=America/Chicago:20211121T180000
DTSTAMP:20260425T145149
CREATED:20210928T060814Z
LAST-MODIFIED:20211213T231612Z
UID:10015362-1637510400-1637517600@sanchosmx.com
SUMMARY:Tardes Tejanos w DJ Sabes Que
DESCRIPTION:Website
URL:https://sanchosmx.com/sanchos-event/tardes-tejano-w-dj-sabes-que/2021-11-21/
LOCATION:TX
CATEGORIES:DJ
END:VEVENT
BEGIN:VEVENT
DTSTART;TZID=America/Chicago:20211120T200000
DTEND;TZID=America/Chicago:20211120T220000
DTSTAMP:20260425T145149
CREATED:20211029T210124Z
LAST-MODIFIED:20211116T025851Z
UID:10015459-1637438400-1637445600@sanchosmx.com
SUMMARY:W.C. Clark Skyline Deck Concert
DESCRIPTION:Enjoy an evening with "The Godfather of the Austin Blues"\, part of our Skyline Deck Concert Series. \nReserve a seat for $15.  (all deck seating will be reserved. Only 9 tables available.) \nWebsite \nKnown as the "Godfather of Austin Blues"\, WC Clark has mentored countless blues/soul players in Austin. Blues stars Stevie Ray & Jimmie Vaughan\, Angela Strehli\, Lou Ann Barton & Marcia Ball have all perfected their craft under Clark's tutelage. He has won WC Handy Award for "Best Blues Song" & "Best Blues/Soul Record" and been nominated for many more categories. Blues Revue says "Clark conjures the vocal power of Otis Redding & Wilson Pickett & the guitar of Steve Cropper & Albert King". Living Blues calls him "a first-rate & funky\, passionate & powerful performer..a singularly skilled leader among modern blues artist". Guitar Player says Clark is "armed with a powerful\, gospel-approved voice & delivers his songs with God-fearing intensity". Clark's soulful singing & blistering guitar playing guarantees that his constantly growing fan base will never stop shouting for more. \n \n  \n 
URL:https://sanchosmx.com/sanchos-event/w-c-clark-skyline-deck-concert/
LOCATION:TX
CATEGORIES:live music
ATTACH;FMTTYPE=image/jpeg:https://sanchosmx.com/wp-content/uploads/2021/10/wc-clark-e1635540690111.jpg
END:VEVENT
BEGIN:VEVENT
DTSTART;TZID=America/Chicago:20211120T180000
DTEND;TZID=America/Chicago:20211120T200000
DTSTAMP:20260425T145149
CREATED:20211029T015827Z
LAST-MODIFIED:20211129T231127Z
UID:10015457-1637431200-1637438400@sanchosmx.com
SUMMARY:Los #3 Dinners
DESCRIPTION:Los #3 Dinners perform original songs about livin' and lovin' in the Alamo Town. \n\n  \n\n  \n 
URL:https://sanchosmx.com/sanchos-event/los-3-dinners-11-21-2020-2-2-2-2-2-2-2-2-2-2-2/
LOCATION:TX
CATEGORIES:live music
ATTACH;FMTTYPE=image/jpeg:https://sanchosmx.com/wp-content/uploads/2018/03/los-3-dinners.jpg
END:VEVENT
BEGIN:VEVENT
DTSTART;TZID=America/Chicago:20211119T200000
DTEND;TZID=America/Chicago:20211119T220000
DTSTAMP:20260425T145149
CREATED:20211029T015453Z
LAST-MODIFIED:20211029T015453Z
UID:10015455-1637352000-1637359200@sanchosmx.com
SUMMARY:RDO Trio
DESCRIPTION:Blues\, R&B\, pop\, 70s and more. \nWebsite
URL:https://sanchosmx.com/sanchos-event/rdo-trio-2-1-2020-2-2-2/
LOCATION:TX
CATEGORIES:live music
ATTACH;FMTTYPE=image/jpeg:https://sanchosmx.com/wp-content/uploads/2015/11/rdo-trio-web.jpg
END:VEVENT
BEGIN:VEVENT
DTSTART;TZID=America/Chicago:20211118T190000
DTEND;TZID=America/Chicago:20211118T210000
DTSTAMP:20260425T145149
CREATED:20210427T153307Z
LAST-MODIFIED:20260324T220610Z
UID:10015033-1637262000-1637269200@sanchosmx.com
SUMMARY:Claude Butch Morgan & His Bandaholics
DESCRIPTION:This is the home of Claude Butch Morgan and his BANDAHOLICS!\nEvery Thursday nite we ride off into the wild musical FUN-tier and you get to ride along with us.\nCome one\, come all\, become an EAR-Regular and lend us your ears and cheers. We will do our very best to put a smile on your face and joy in your heart.
URL:https://sanchosmx.com/sanchos-event/claude-butch-morgan-his-bandaholics/2021-11-18/
LOCATION:Sanchos\, 628 Jackson St\, San Antonio\, TX\, 78212\, United States
CATEGORIES:live music
ATTACH;FMTTYPE=image/jpeg:https://sanchosmx.com/wp-content/uploads/2019/10/bandaholics.jpg
GEO:29.4241219;-98.4936282
X-APPLE-STRUCTURED-LOCATION;VALUE=URI;X-ADDRESS=Sanchos 628 Jackson St San Antonio TX 78212 United States;X-APPLE-RADIUS=500;X-TITLE=628 Jackson St:geo:-98.4936282,29.4241219
END:VEVENT
BEGIN:VEVENT
DTSTART;TZID=America/Chicago:20211117T190000
DTEND;TZID=America/Chicago:20211117T210000
DTSTAMP:20260425T145149
CREATED:20211110T200849Z
LAST-MODIFIED:20220228T063420Z
UID:10015462-1637175600-1637182800@sanchosmx.com
SUMMARY:FuZion Mariachi
DESCRIPTION:A new era of mariachi!\nKumbia • Mariachi • Rock • Pop\n\nWebsite
URL:https://sanchosmx.com/sanchos-event/fuzion-mariachi/2021-11-17/
LOCATION:TX
CATEGORIES:live music
ATTACH;FMTTYPE=image/jpeg:https://sanchosmx.com/wp-content/uploads/2021/11/fuzion.jpg
END:VEVENT
BEGIN:VEVENT
DTSTART;TZID=America/Chicago:20211116T190000
DTEND;TZID=America/Chicago:20211116T220000
DTSTAMP:20260425T145149
CREATED:20211029T015022Z
LAST-MODIFIED:20211128T054504Z
UID:10015447-1637089200-1637100000@sanchosmx.com
SUMMARY:Open Mic w/ Kyle Ray Wilson
DESCRIPTION:Come show off your skills behind the Mic at Sanchos. Hosted by Kyle Ray.\nSign up sheet available \, check in with host.
URL:https://sanchosmx.com/sanchos-event/open-mic-w-kyle-ray-wilson-2/2021-11-16/
LOCATION:TX
CATEGORIES:live music,open mic
ATTACH;FMTTYPE=image/jpeg:https://sanchosmx.com/wp-content/uploads/2021/05/open-mic-kyle.jpg
END:VEVENT
BEGIN:VEVENT
DTSTART;TZID=America/Chicago:20211115T190000
DTEND;TZID=America/Chicago:20211115T210000
DTSTAMP:20260425T145149
CREATED:20211029T014719Z
LAST-MODIFIED:20230127T222010Z
UID:10015383-1637002800-1637010000@sanchosmx.com
SUMMARY:The Hess Brothers and Company Jazz Session
DESCRIPTION:Dynamic combo of some of the most award winning jazz musicians in San Antonio. 
URL:https://sanchosmx.com/sanchos-event/prado-hess-jazz-duo/2021-11-15/
LOCATION:Sanchos\, 628 Jackson St\, San Antonio\, TX\, 78212\, United States
CATEGORIES:live music
ATTACH;FMTTYPE=image/jpeg:https://sanchosmx.com/wp-content/uploads/2021/10/245779532_2112330442259112_821500283828505130_n.jpg
GEO:29.4241219;-98.4936282
X-APPLE-STRUCTURED-LOCATION;VALUE=URI;X-ADDRESS=Sanchos 628 Jackson St San Antonio TX 78212 United States;X-APPLE-RADIUS=500;X-TITLE=628 Jackson St:geo:-98.4936282,29.4241219
END:VEVENT
END:VCALENDAR