BEGIN:VCALENDAR
VERSION:2.0
PRODID:-//Sanchos Cocina y Cantina - ECPv6.15.20//NONSGML v1.0//EN
CALSCALE:GREGORIAN
METHOD:PUBLISH
X-WR-CALNAME:Sanchos Cocina y Cantina
X-ORIGINAL-URL:https://sanchosmx.com
X-WR-CALDESC:Events for Sanchos Cocina y Cantina
REFRESH-INTERVAL;VALUE=DURATION:PT1H
X-Robots-Tag:noindex
X-PUBLISHED-TTL:PT1H
BEGIN:VTIMEZONE
TZID:America/Chicago
BEGIN:DAYLIGHT
TZOFFSETFROM:-0600
TZOFFSETTO:-0500
TZNAME:CDT
DTSTART:20210314T080000
END:DAYLIGHT
BEGIN:STANDARD
TZOFFSETFROM:-0500
TZOFFSETTO:-0600
TZNAME:CST
DTSTART:20211107T070000
END:STANDARD
BEGIN:DAYLIGHT
TZOFFSETFROM:-0600
TZOFFSETTO:-0500
TZNAME:CDT
DTSTART:20220313T080000
END:DAYLIGHT
BEGIN:STANDARD
TZOFFSETFROM:-0500
TZOFFSETTO:-0600
TZNAME:CST
DTSTART:20221106T070000
END:STANDARD
BEGIN:DAYLIGHT
TZOFFSETFROM:-0600
TZOFFSETTO:-0500
TZNAME:CDT
DTSTART:20230312T080000
END:DAYLIGHT
BEGIN:STANDARD
TZOFFSETFROM:-0500
TZOFFSETTO:-0600
TZNAME:CST
DTSTART:20231105T070000
END:STANDARD
END:VTIMEZONE
BEGIN:VEVENT
DTSTART;TZID=America/Chicago:20221215T220000
DTEND;TZID=America/Chicago:20221216T010000
DTSTAMP:20260421T000555
CREATED:20220830T215233Z
LAST-MODIFIED:20250225T223401Z
UID:10015761-1671141600-1671152400@sanchosmx.com
SUMMARY:Noche de Karaoke
DESCRIPTION:Come sing your favorites with our host!
URL:https://sanchosmx.com/sanchos-event/noche-de-karaoke/2022-12-15/
CATEGORIES:Karaoke
ATTACH;FMTTYPE=image/jpeg:https://sanchosmx.com/wp-content/uploads/2022/04/kareoke-e1651121037428.jpg
END:VEVENT
BEGIN:VEVENT
DTSTART;TZID=America/Chicago:20221215T190000
DTEND;TZID=America/Chicago:20221215T210000
DTSTAMP:20260421T000555
CREATED:20210427T153307Z
LAST-MODIFIED:20260324T220610Z
UID:10015084-1671130800-1671138000@sanchosmx.com
SUMMARY:Claude Butch Morgan & His Bandaholics
DESCRIPTION:This is the home of Claude Butch Morgan and his BANDAHOLICS!\nEvery Thursday nite we ride off into the wild musical FUN-tier and you get to ride along with us.\nCome one\, come all\, become an EAR-Regular and lend us your ears and cheers. We will do our very best to put a smile on your face and joy in your heart.
URL:https://sanchosmx.com/sanchos-event/claude-butch-morgan-his-bandaholics/2022-12-15/
LOCATION:Sanchos\, 628 Jackson St\, San Antonio\, TX\, 78212\, United States
CATEGORIES:live music
ATTACH;FMTTYPE=image/jpeg:https://sanchosmx.com/wp-content/uploads/2019/10/bandaholics.jpg
GEO:29.4241219;-98.4936282
X-APPLE-STRUCTURED-LOCATION;VALUE=URI;X-ADDRESS=Sanchos 628 Jackson St San Antonio TX 78212 United States;X-APPLE-RADIUS=500;X-TITLE=628 Jackson St:geo:-98.4936282,29.4241219
END:VEVENT
BEGIN:VEVENT
DTSTART;TZID=America/Chicago:20221214T190000
DTEND;TZID=America/Chicago:20221214T220000
DTSTAMP:20260421T000555
CREATED:20220428T042416Z
LAST-MODIFIED:20230601T194133Z
UID:10015584-1671044400-1671055200@sanchosmx.com
SUMMARY:RDO Trio
DESCRIPTION:Blues\, R&B\, pop\, 70s and more. \nWebsite
URL:https://sanchosmx.com/sanchos-event/rdo-trio-14/2022-12-14/
CATEGORIES:live music
ATTACH;FMTTYPE=image/jpeg:https://sanchosmx.com/wp-content/uploads/2015/11/rdo-trio-web.jpg
END:VEVENT
BEGIN:VEVENT
DTSTART;TZID=America/Chicago:20221213T190000
DTEND;TZID=America/Chicago:20221213T210000
DTSTAMP:20260421T000555
CREATED:20221129T174720Z
LAST-MODIFIED:20221129T174720Z
UID:10015923-1670958000-1670965200@sanchosmx.com
SUMMARY:The Flow
DESCRIPTION:duo
URL:https://sanchosmx.com/sanchos-event/the-flow-2/
CATEGORIES:live music
ATTACH;FMTTYPE=image/jpeg:https://sanchosmx.com/wp-content/uploads/2022/01/the-flow-e1643141533474.jpg
END:VEVENT
BEGIN:VEVENT
DTSTART;TZID=America/Chicago:20221212T210000
DTEND;TZID=America/Chicago:20221212T230000
DTSTAMP:20260421T000555
CREATED:20220809T221622Z
LAST-MODIFIED:20230525T172206Z
UID:10015723-1670878800-1670886000@sanchosmx.com
SUMMARY:Open Mic w/ CJ Duran
DESCRIPTION:Come show off your skills behind the Mic at Sanchos. Hosted by CJ Duran\nSign up sheet available \, check in with host.
URL:https://sanchosmx.com/sanchos-event/open-mic-w-cj-duran/2022-12-12/
LOCATION:Sanchos\, 628 Jackson St\, San Antonio\, TX\, 78212\, United States
CATEGORIES:live music,open mic
ATTACH;FMTTYPE=image/jpeg:https://sanchosmx.com/wp-content/uploads/2022/08/CJ-Duran.jpeg
GEO:29.4241219;-98.4936282
X-APPLE-STRUCTURED-LOCATION;VALUE=URI;X-ADDRESS=Sanchos 628 Jackson St San Antonio TX 78212 United States;X-APPLE-RADIUS=500;X-TITLE=628 Jackson St:geo:-98.4936282,29.4241219
END:VEVENT
BEGIN:VEVENT
DTSTART;TZID=America/Chicago:20221212T190000
DTEND;TZID=America/Chicago:20221212T210000
DTSTAMP:20260421T000555
CREATED:20211029T014719Z
LAST-MODIFIED:20230127T222010Z
UID:10015436-1670871600-1670878800@sanchosmx.com
SUMMARY:The Hess Brothers and Company Jazz Session
DESCRIPTION:Dynamic combo of some of the most award winning jazz musicians in San Antonio. 
URL:https://sanchosmx.com/sanchos-event/prado-hess-jazz-duo/2022-12-12/
LOCATION:Sanchos\, 628 Jackson St\, San Antonio\, TX\, 78212\, United States
CATEGORIES:live music
ATTACH;FMTTYPE=image/jpeg:https://sanchosmx.com/wp-content/uploads/2021/10/245779532_2112330442259112_821500283828505130_n.jpg
GEO:29.4241219;-98.4936282
X-APPLE-STRUCTURED-LOCATION;VALUE=URI;X-ADDRESS=Sanchos 628 Jackson St San Antonio TX 78212 United States;X-APPLE-RADIUS=500;X-TITLE=628 Jackson St:geo:-98.4936282,29.4241219
END:VEVENT
BEGIN:VEVENT
DTSTART;TZID=America/Chicago:20221211T140000
DTEND;TZID=America/Chicago:20221211T180000
DTSTAMP:20260421T000555
CREATED:20221210T193522Z
LAST-MODIFIED:20221210T193522Z
UID:10015939-1670767200-1670781600@sanchosmx.com
SUMMARY:DJ Mad Mike
DESCRIPTION:It's Sunday Funday! Come relax and enjoy the music!
URL:https://sanchosmx.com/sanchos-event/dj-mad-mike/
LOCATION:Sanchos\, 628 Jackson St\, San Antonio\, TX\, 78212\, United States
CATEGORIES:DJ
GEO:29.4241219;-98.4936282
X-APPLE-STRUCTURED-LOCATION;VALUE=URI;X-ADDRESS=Sanchos 628 Jackson St San Antonio TX 78212 United States;X-APPLE-RADIUS=500;X-TITLE=628 Jackson St:geo:-98.4936282,29.4241219
END:VEVENT
BEGIN:VEVENT
DTSTART;TZID=America/Chicago:20221210T200000
DTEND;TZID=America/Chicago:20221210T220000
DTSTAMP:20260421T000555
CREATED:20221129T180346Z
LAST-MODIFIED:20221129T180346Z
UID:10015930-1670702400-1670709600@sanchosmx.com
SUMMARY:Brother Dave and the Barrio Blasters
DESCRIPTION:Brother Dave and the Barrio Blasters! are a Hard Groovin'\, Sharp Dressed band with a songbook as diverse as our beloved hometown San Antonio\, Texas. Rock\, Soul\, Blues\, Honky Tonk\, and Funk all come together to create a tasty groove that is Puro San Antonio!
URL:https://sanchosmx.com/sanchos-event/brother-dave-and-the-barrio-blasters-sept-2022-2-2-2/
LOCATION:Sanchos\, 628 Jackson St\, San Antonio\, TX\, 78212\, United States
CATEGORIES:live music
ATTACH;FMTTYPE=image/jpeg:https://sanchosmx.com/wp-content/uploads/2016/10/brother-dave.jpg
GEO:29.4241219;-98.4936282
X-APPLE-STRUCTURED-LOCATION;VALUE=URI;X-ADDRESS=Sanchos 628 Jackson St San Antonio TX 78212 United States;X-APPLE-RADIUS=500;X-TITLE=628 Jackson St:geo:-98.4936282,29.4241219
END:VEVENT
BEGIN:VEVENT
DTSTART;TZID=America/Chicago:20221209T200000
DTEND;TZID=America/Chicago:20221209T220000
DTSTAMP:20260421T000555
CREATED:20221129T180223Z
LAST-MODIFIED:20221129T180223Z
UID:10015929-1670616000-1670623200@sanchosmx.com
SUMMARY:Ghost Tracks
DESCRIPTION:Roots Rock\, Tejano
URL:https://sanchosmx.com/sanchos-event/ghost-tracks/
LOCATION:Sanchos\, 628 Jackson St\, San Antonio\, TX\, 78212\, United States
CATEGORIES:live music
ATTACH;FMTTYPE=image/jpeg:https://sanchosmx.com/wp-content/uploads/2022/11/Ghost-tracks.jpg
GEO:29.4241219;-98.4936282
X-APPLE-STRUCTURED-LOCATION;VALUE=URI;X-ADDRESS=Sanchos 628 Jackson St San Antonio TX 78212 United States;X-APPLE-RADIUS=500;X-TITLE=628 Jackson St:geo:-98.4936282,29.4241219
END:VEVENT
BEGIN:VEVENT
DTSTART;TZID=America/Chicago:20221209T180000
DTEND;TZID=America/Chicago:20221209T200000
DTSTAMP:20260421T000555
CREATED:20221129T175332Z
LAST-MODIFIED:20221129T175332Z
UID:10015927-1670608800-1670616000@sanchosmx.com
SUMMARY:Bongo Katz
DESCRIPTION:We perform music for all occasions. Though we specialize primarily in a latin style of ska music\, or “Caliche” as we call it\, we do feature a variety of cover songs by artists such as Blood\, Sweat & Tears\, Chicago\, Sublime\, and Stevie Wonder.  Our gifted horn and rhythm section will always make sure you’re enjoying yourself. By the end of the show\, I guarantee you’ll be singing our catchy lyrics on your way home!
URL:https://sanchosmx.com/sanchos-event/bongo-katz-sept-2022-2-2-2-2/
LOCATION:Sanchos\, 628 Jackson St\, San Antonio\, TX\, 78212\, United States
CATEGORIES:live music
ATTACH;FMTTYPE=image/jpeg:https://sanchosmx.com/wp-content/uploads/2015/07/bongo-katz.jpg
GEO:29.4241219;-98.4936282
X-APPLE-STRUCTURED-LOCATION;VALUE=URI;X-ADDRESS=Sanchos 628 Jackson St San Antonio TX 78212 United States;X-APPLE-RADIUS=500;X-TITLE=628 Jackson St:geo:-98.4936282,29.4241219
END:VEVENT
BEGIN:VEVENT
DTSTART;TZID=America/Chicago:20221208T220000
DTEND;TZID=America/Chicago:20221209T010000
DTSTAMP:20260421T000555
CREATED:20220830T215233Z
LAST-MODIFIED:20250225T223401Z
UID:10015760-1670536800-1670547600@sanchosmx.com
SUMMARY:Noche de Karaoke
DESCRIPTION:Come sing your favorites with our host!
URL:https://sanchosmx.com/sanchos-event/noche-de-karaoke/2022-12-08/
CATEGORIES:Karaoke
ATTACH;FMTTYPE=image/jpeg:https://sanchosmx.com/wp-content/uploads/2022/04/kareoke-e1651121037428.jpg
END:VEVENT
BEGIN:VEVENT
DTSTART;TZID=America/Chicago:20221208T190000
DTEND;TZID=America/Chicago:20221208T210000
DTSTAMP:20260421T000555
CREATED:20210427T153307Z
LAST-MODIFIED:20260324T220610Z
UID:10015083-1670526000-1670533200@sanchosmx.com
SUMMARY:Claude Butch Morgan & His Bandaholics
DESCRIPTION:This is the home of Claude Butch Morgan and his BANDAHOLICS!\nEvery Thursday nite we ride off into the wild musical FUN-tier and you get to ride along with us.\nCome one\, come all\, become an EAR-Regular and lend us your ears and cheers. We will do our very best to put a smile on your face and joy in your heart.
URL:https://sanchosmx.com/sanchos-event/claude-butch-morgan-his-bandaholics/2022-12-08/
LOCATION:Sanchos\, 628 Jackson St\, San Antonio\, TX\, 78212\, United States
CATEGORIES:live music
ATTACH;FMTTYPE=image/jpeg:https://sanchosmx.com/wp-content/uploads/2019/10/bandaholics.jpg
GEO:29.4241219;-98.4936282
X-APPLE-STRUCTURED-LOCATION;VALUE=URI;X-ADDRESS=Sanchos 628 Jackson St San Antonio TX 78212 United States;X-APPLE-RADIUS=500;X-TITLE=628 Jackson St:geo:-98.4936282,29.4241219
END:VEVENT
BEGIN:VEVENT
DTSTART;TZID=America/Chicago:20221207T190000
DTEND;TZID=America/Chicago:20221207T220000
DTSTAMP:20260421T000555
CREATED:20220428T042416Z
LAST-MODIFIED:20230601T194133Z
UID:10015583-1670439600-1670450400@sanchosmx.com
SUMMARY:RDO Trio
DESCRIPTION:Blues\, R&B\, pop\, 70s and more. \nWebsite
URL:https://sanchosmx.com/sanchos-event/rdo-trio-14/2022-12-07/
CATEGORIES:live music
ATTACH;FMTTYPE=image/jpeg:https://sanchosmx.com/wp-content/uploads/2015/11/rdo-trio-web.jpg
END:VEVENT
BEGIN:VEVENT
DTSTART;TZID=America/Chicago:20221206T190000
DTEND;TZID=America/Chicago:20221206T210000
DTSTAMP:20260421T000555
CREATED:20221129T174457Z
LAST-MODIFIED:20221129T174457Z
UID:10015922-1670353200-1670360400@sanchosmx.com
SUMMARY:The Fleeks
DESCRIPTION:Texas classic rock n roll indie music \nClick here to listen.
URL:https://sanchosmx.com/sanchos-event/the-fleeks-oct-2022-2-2-2/
CATEGORIES:live music
ATTACH;FMTTYPE=image/jpeg:https://sanchosmx.com/wp-content/uploads/2020/06/the-fleeks.jpeg
END:VEVENT
BEGIN:VEVENT
DTSTART;TZID=America/Chicago:20221203T200000
DTEND;TZID=America/Chicago:20221203T220000
DTSTAMP:20260421T000555
CREATED:20221128T224331Z
LAST-MODIFIED:20221128T224331Z
UID:10015921-1670097600-1670104800@sanchosmx.com
SUMMARY:Cotilla
DESCRIPTION:Cotilla features original music by Pablo Mancias\, Dan Klein\, Mike Deosdade\, and Charlie Wehn. Our music is influenced by our Latin and Indigenous roots and crosses many genres from Pop and Rock to Reggae and Ska. \nWebsite
URL:https://sanchosmx.com/sanchos-event/cotilla-oct-2022-2-2/
CATEGORIES:live music
ATTACH;FMTTYPE=image/jpeg:https://sanchosmx.com/wp-content/uploads/2021/09/168068088_907924859941802_2276965405788340836_n.jpg
END:VEVENT
BEGIN:VEVENT
DTSTART;TZID=America/Chicago:20221202T200000
DTEND;TZID=America/Chicago:20221202T220000
DTSTAMP:20260421T000555
CREATED:20221128T224151Z
LAST-MODIFIED:20221128T224151Z
UID:10015920-1670011200-1670018400@sanchosmx.com
SUMMARY:Blue Sundries
DESCRIPTION:Bluesy San Antonio Rock and Roll \nWebsite
URL:https://sanchosmx.com/sanchos-event/blue-sundries-sept-2022-2-2-2/
LOCATION:Sanchos\, 628 Jackson St\, San Antonio\, TX\, 78212\, United States
CATEGORIES:live music
ATTACH;FMTTYPE=image/jpeg:https://sanchosmx.com/wp-content/uploads/2021/11/03a89f6e-2ff5-4f0d-935c-c63cc150b590.jpg
GEO:29.4241219;-98.4936282
X-APPLE-STRUCTURED-LOCATION;VALUE=URI;X-ADDRESS=Sanchos 628 Jackson St San Antonio TX 78212 United States;X-APPLE-RADIUS=500;X-TITLE=628 Jackson St:geo:-98.4936282,29.4241219
END:VEVENT
BEGIN:VEVENT
DTSTART;TZID=America/Chicago:20221202T180000
DTEND;TZID=America/Chicago:20221202T200000
DTSTAMP:20260421T000555
CREATED:20221129T175254Z
LAST-MODIFIED:20221129T175254Z
UID:10015926-1670004000-1670011200@sanchosmx.com
SUMMARY:Bongo Katz
DESCRIPTION:We perform music for all occasions. Though we specialize primarily in a latin style of ska music\, or “Caliche” as we call it\, we do feature a variety of cover songs by artists such as Blood\, Sweat & Tears\, Chicago\, Sublime\, and Stevie Wonder.  Our gifted horn and rhythm section will always make sure you’re enjoying yourself. By the end of the show\, I guarantee you’ll be singing our catchy lyrics on your way home!
URL:https://sanchosmx.com/sanchos-event/bongo-katz-sept-2022-2-2-2/
LOCATION:Sanchos\, 628 Jackson St\, San Antonio\, TX\, 78212\, United States
CATEGORIES:live music
ATTACH;FMTTYPE=image/jpeg:https://sanchosmx.com/wp-content/uploads/2015/07/bongo-katz.jpg
GEO:29.4241219;-98.4936282
X-APPLE-STRUCTURED-LOCATION;VALUE=URI;X-ADDRESS=Sanchos 628 Jackson St San Antonio TX 78212 United States;X-APPLE-RADIUS=500;X-TITLE=628 Jackson St:geo:-98.4936282,29.4241219
END:VEVENT
BEGIN:VEVENT
DTSTART;TZID=America/Chicago:20221201T220000
DTEND;TZID=America/Chicago:20221202T010000
DTSTAMP:20260421T000555
CREATED:20220830T215233Z
LAST-MODIFIED:20250225T223401Z
UID:10015759-1669932000-1669942800@sanchosmx.com
SUMMARY:Noche de Karaoke
DESCRIPTION:Come sing your favorites with our host!
URL:https://sanchosmx.com/sanchos-event/noche-de-karaoke/2022-12-01/
CATEGORIES:Karaoke
ATTACH;FMTTYPE=image/jpeg:https://sanchosmx.com/wp-content/uploads/2022/04/kareoke-e1651121037428.jpg
END:VEVENT
BEGIN:VEVENT
DTSTART;TZID=America/Chicago:20221201T190000
DTEND;TZID=America/Chicago:20221201T210000
DTSTAMP:20260421T000555
CREATED:20210427T153307Z
LAST-MODIFIED:20260324T220610Z
UID:10015082-1669921200-1669928400@sanchosmx.com
SUMMARY:Claude Butch Morgan & His Bandaholics
DESCRIPTION:This is the home of Claude Butch Morgan and his BANDAHOLICS!\nEvery Thursday nite we ride off into the wild musical FUN-tier and you get to ride along with us.\nCome one\, come all\, become an EAR-Regular and lend us your ears and cheers. We will do our very best to put a smile on your face and joy in your heart.
URL:https://sanchosmx.com/sanchos-event/claude-butch-morgan-his-bandaholics/2022-12-01/
LOCATION:Sanchos\, 628 Jackson St\, San Antonio\, TX\, 78212\, United States
CATEGORIES:live music
ATTACH;FMTTYPE=image/jpeg:https://sanchosmx.com/wp-content/uploads/2019/10/bandaholics.jpg
GEO:29.4241219;-98.4936282
X-APPLE-STRUCTURED-LOCATION;VALUE=URI;X-ADDRESS=Sanchos 628 Jackson St San Antonio TX 78212 United States;X-APPLE-RADIUS=500;X-TITLE=628 Jackson St:geo:-98.4936282,29.4241219
END:VEVENT
BEGIN:VEVENT
DTSTART;TZID=America/Chicago:20221130T190000
DTEND;TZID=America/Chicago:20221130T220000
DTSTAMP:20260421T000555
CREATED:20220428T042416Z
LAST-MODIFIED:20230601T194133Z
UID:10015582-1669834800-1669845600@sanchosmx.com
SUMMARY:RDO Trio
DESCRIPTION:Blues\, R&B\, pop\, 70s and more. \nWebsite
URL:https://sanchosmx.com/sanchos-event/rdo-trio-14/2022-11-30/
CATEGORIES:live music
ATTACH;FMTTYPE=image/jpeg:https://sanchosmx.com/wp-content/uploads/2015/11/rdo-trio-web.jpg
END:VEVENT
BEGIN:VEVENT
DTSTART;TZID=America/Chicago:20221128T210000
DTEND;TZID=America/Chicago:20221128T230000
DTSTAMP:20260421T000555
CREATED:20220809T221622Z
LAST-MODIFIED:20230525T172206Z
UID:10015722-1669669200-1669676400@sanchosmx.com
SUMMARY:Open Mic w/ CJ Duran
DESCRIPTION:Come show off your skills behind the Mic at Sanchos. Hosted by CJ Duran\nSign up sheet available \, check in with host.
URL:https://sanchosmx.com/sanchos-event/open-mic-w-cj-duran/2022-11-28/
LOCATION:Sanchos\, 628 Jackson St\, San Antonio\, TX\, 78212\, United States
CATEGORIES:live music,open mic
ATTACH;FMTTYPE=image/jpeg:https://sanchosmx.com/wp-content/uploads/2022/08/CJ-Duran.jpeg
GEO:29.4241219;-98.4936282
X-APPLE-STRUCTURED-LOCATION;VALUE=URI;X-ADDRESS=Sanchos 628 Jackson St San Antonio TX 78212 United States;X-APPLE-RADIUS=500;X-TITLE=628 Jackson St:geo:-98.4936282,29.4241219
END:VEVENT
BEGIN:VEVENT
DTSTART;TZID=America/Chicago:20221128T190000
DTEND;TZID=America/Chicago:20221128T210000
DTSTAMP:20260421T000555
CREATED:20211029T014719Z
LAST-MODIFIED:20230127T222010Z
UID:10015435-1669662000-1669669200@sanchosmx.com
SUMMARY:The Hess Brothers and Company Jazz Session
DESCRIPTION:Dynamic combo of some of the most award winning jazz musicians in San Antonio. 
URL:https://sanchosmx.com/sanchos-event/prado-hess-jazz-duo/2022-11-28/
LOCATION:Sanchos\, 628 Jackson St\, San Antonio\, TX\, 78212\, United States
CATEGORIES:live music
ATTACH;FMTTYPE=image/jpeg:https://sanchosmx.com/wp-content/uploads/2021/10/245779532_2112330442259112_821500283828505130_n.jpg
GEO:29.4241219;-98.4936282
X-APPLE-STRUCTURED-LOCATION;VALUE=URI;X-ADDRESS=Sanchos 628 Jackson St San Antonio TX 78212 United States;X-APPLE-RADIUS=500;X-TITLE=628 Jackson St:geo:-98.4936282,29.4241219
END:VEVENT
BEGIN:VEVENT
DTSTART;TZID=America/Chicago:20221127T140000
DTEND;TZID=America/Chicago:20221127T180000
DTSTAMP:20260421T000555
CREATED:20221102T163440Z
LAST-MODIFIED:20221102T163547Z
UID:10015918-1669557600-1669572000@sanchosmx.com
SUMMARY:Sunday Sucia DJ
DESCRIPTION:with Coley Duke. jock jams\, party favorites\, dance jams
URL:https://sanchosmx.com/sanchos-event/sunday-sucia-dj/2022-11-27/
LOCATION:Sanchos\, 628 Jackson St\, San Antonio\, TX\, 78212\, United States
CATEGORIES:open mic
GEO:29.4241219;-98.4936282
X-APPLE-STRUCTURED-LOCATION;VALUE=URI;X-ADDRESS=Sanchos 628 Jackson St San Antonio TX 78212 United States;X-APPLE-RADIUS=500;X-TITLE=628 Jackson St:geo:-98.4936282,29.4241219
END:VEVENT
BEGIN:VEVENT
DTSTART;TZID=America/Chicago:20221124T180000
DTEND;TZID=America/Chicago:20221125T010000
DTSTAMP:20260421T000555
CREATED:20171028T215125Z
LAST-MODIFIED:20221101T211613Z
UID:10012783-1669312800-1669338000@sanchosmx.com
SUMMARY:Thanksgiving-Open at 6pm
DESCRIPTION:We open at 6pm. Bring the crowd!
URL:https://sanchosmx.com/sanchos-event/thanksgiving-open-6pm/
ATTACH;FMTTYPE=image/jpeg:https://sanchosmx.com/wp-content/uploads/2017/10/thanksgiving.jpg
END:VEVENT
BEGIN:VEVENT
DTSTART;TZID=America/Chicago:20221123T190000
DTEND;TZID=America/Chicago:20221123T220000
DTSTAMP:20260421T000556
CREATED:20220428T042416Z
LAST-MODIFIED:20230601T194133Z
UID:10015581-1669230000-1669240800@sanchosmx.com
SUMMARY:RDO Trio
DESCRIPTION:Blues\, R&B\, pop\, 70s and more. \nWebsite
URL:https://sanchosmx.com/sanchos-event/rdo-trio-14/2022-11-23/
CATEGORIES:live music
ATTACH;FMTTYPE=image/jpeg:https://sanchosmx.com/wp-content/uploads/2015/11/rdo-trio-web.jpg
END:VEVENT
BEGIN:VEVENT
DTSTART;TZID=America/Chicago:20221122T190000
DTEND;TZID=America/Chicago:20221122T210000
DTSTAMP:20260421T000556
CREATED:20221101T212351Z
LAST-MODIFIED:20221101T212351Z
UID:10015909-1669143600-1669150800@sanchosmx.com
SUMMARY:Rain Dogs
DESCRIPTION:Glam Folk Duo from San Antonio
URL:https://sanchosmx.com/sanchos-event/rain-dogs-nov-2022-2/
CATEGORIES:live music
ATTACH;FMTTYPE=image/jpeg:https://sanchosmx.com/wp-content/uploads/2022/01/rain-dogs.jpg
END:VEVENT
BEGIN:VEVENT
DTSTART;TZID=America/Chicago:20221121T210000
DTEND;TZID=America/Chicago:20221121T230000
DTSTAMP:20260421T000556
CREATED:20220809T221622Z
LAST-MODIFIED:20230525T172206Z
UID:10015721-1669064400-1669071600@sanchosmx.com
SUMMARY:Open Mic w/ CJ Duran
DESCRIPTION:Come show off your skills behind the Mic at Sanchos. Hosted by CJ Duran\nSign up sheet available \, check in with host.
URL:https://sanchosmx.com/sanchos-event/open-mic-w-cj-duran/2022-11-21/
LOCATION:Sanchos\, 628 Jackson St\, San Antonio\, TX\, 78212\, United States
CATEGORIES:live music,open mic
ATTACH;FMTTYPE=image/jpeg:https://sanchosmx.com/wp-content/uploads/2022/08/CJ-Duran.jpeg
GEO:29.4241219;-98.4936282
X-APPLE-STRUCTURED-LOCATION;VALUE=URI;X-ADDRESS=Sanchos 628 Jackson St San Antonio TX 78212 United States;X-APPLE-RADIUS=500;X-TITLE=628 Jackson St:geo:-98.4936282,29.4241219
END:VEVENT
BEGIN:VEVENT
DTSTART;TZID=America/Chicago:20221121T190000
DTEND;TZID=America/Chicago:20221121T210000
DTSTAMP:20260421T000556
CREATED:20211029T014719Z
LAST-MODIFIED:20230127T222010Z
UID:10015434-1669057200-1669064400@sanchosmx.com
SUMMARY:The Hess Brothers and Company Jazz Session
DESCRIPTION:Dynamic combo of some of the most award winning jazz musicians in San Antonio. 
URL:https://sanchosmx.com/sanchos-event/prado-hess-jazz-duo/2022-11-21/
LOCATION:Sanchos\, 628 Jackson St\, San Antonio\, TX\, 78212\, United States
CATEGORIES:live music
ATTACH;FMTTYPE=image/jpeg:https://sanchosmx.com/wp-content/uploads/2021/10/245779532_2112330442259112_821500283828505130_n.jpg
GEO:29.4241219;-98.4936282
X-APPLE-STRUCTURED-LOCATION;VALUE=URI;X-ADDRESS=Sanchos 628 Jackson St San Antonio TX 78212 United States;X-APPLE-RADIUS=500;X-TITLE=628 Jackson St:geo:-98.4936282,29.4241219
END:VEVENT
BEGIN:VEVENT
DTSTART;TZID=America/Chicago:20221120T140000
DTEND;TZID=America/Chicago:20221120T180000
DTSTAMP:20260421T000556
CREATED:20221102T163440Z
LAST-MODIFIED:20221102T163547Z
UID:10015917-1668952800-1668967200@sanchosmx.com
SUMMARY:Sunday Sucia DJ
DESCRIPTION:with Coley Duke. jock jams\, party favorites\, dance jams
URL:https://sanchosmx.com/sanchos-event/sunday-sucia-dj/2022-11-20/
LOCATION:Sanchos\, 628 Jackson St\, San Antonio\, TX\, 78212\, United States
CATEGORIES:open mic
GEO:29.4241219;-98.4936282
X-APPLE-STRUCTURED-LOCATION;VALUE=URI;X-ADDRESS=Sanchos 628 Jackson St San Antonio TX 78212 United States;X-APPLE-RADIUS=500;X-TITLE=628 Jackson St:geo:-98.4936282,29.4241219
END:VEVENT
BEGIN:VEVENT
DTSTART;TZID=America/Chicago:20221119T200000
DTEND;TZID=America/Chicago:20221119T220000
DTSTAMP:20260421T000556
CREATED:20221101T212940Z
LAST-MODIFIED:20221101T212940Z
UID:10015914-1668888000-1668895200@sanchosmx.com
SUMMARY:Los #3 Dinners
DESCRIPTION:Los #3 Dinners perform original songs about livin' and lovin' in the Alamo Town. \n\n  \n\n  \n 
URL:https://sanchosmx.com/sanchos-event/los-3-dinners-nov-2022/
LOCATION:Sanchos\, 628 Jackson St\, San Antonio\, TX\, 78212\, United States
CATEGORIES:live music
ATTACH;FMTTYPE=image/jpeg:https://sanchosmx.com/wp-content/uploads/2018/03/los-3-dinners.jpg
GEO:29.4241219;-98.4936282
X-APPLE-STRUCTURED-LOCATION;VALUE=URI;X-ADDRESS=Sanchos 628 Jackson St San Antonio TX 78212 United States;X-APPLE-RADIUS=500;X-TITLE=628 Jackson St:geo:-98.4936282,29.4241219
END:VEVENT
END:VCALENDAR