BEGIN:VCALENDAR
VERSION:2.0
PRODID:-//Sanchos Cocina y Cantina - ECPv6.15.20//NONSGML v1.0//EN
CALSCALE:GREGORIAN
METHOD:PUBLISH
X-WR-CALNAME:Sanchos Cocina y Cantina
X-ORIGINAL-URL:https://sanchosmx.com
X-WR-CALDESC:Events for Sanchos Cocina y Cantina
REFRESH-INTERVAL;VALUE=DURATION:PT1H
X-Robots-Tag:noindex
X-PUBLISHED-TTL:PT1H
BEGIN:VTIMEZONE
TZID:America/Chicago
BEGIN:DAYLIGHT
TZOFFSETFROM:-0600
TZOFFSETTO:-0500
TZNAME:CDT
DTSTART:20210314T080000
END:DAYLIGHT
BEGIN:STANDARD
TZOFFSETFROM:-0500
TZOFFSETTO:-0600
TZNAME:CST
DTSTART:20211107T070000
END:STANDARD
BEGIN:DAYLIGHT
TZOFFSETFROM:-0600
TZOFFSETTO:-0500
TZNAME:CDT
DTSTART:20220313T080000
END:DAYLIGHT
BEGIN:STANDARD
TZOFFSETFROM:-0500
TZOFFSETTO:-0600
TZNAME:CST
DTSTART:20221106T070000
END:STANDARD
BEGIN:DAYLIGHT
TZOFFSETFROM:-0600
TZOFFSETTO:-0500
TZNAME:CDT
DTSTART:20230312T080000
END:DAYLIGHT
BEGIN:STANDARD
TZOFFSETFROM:-0500
TZOFFSETTO:-0600
TZNAME:CST
DTSTART:20231105T070000
END:STANDARD
BEGIN:DAYLIGHT
TZOFFSETFROM:-0600
TZOFFSETTO:-0500
TZNAME:CDT
DTSTART:20240310T080000
END:DAYLIGHT
BEGIN:STANDARD
TZOFFSETFROM:-0500
TZOFFSETTO:-0600
TZNAME:CST
DTSTART:20241103T070000
END:STANDARD
END:VTIMEZONE
BEGIN:VEVENT
DTSTART;TZID=America/Chicago:20230107T200000
DTEND;TZID=America/Chicago:20230107T220000
DTSTAMP:20260420T200740
CREATED:20230103T022728Z
LAST-MODIFIED:20230103T022728Z
UID:10016002-1673121600-1673128800@sanchosmx.com
SUMMARY:Cotilla
DESCRIPTION:Cotilla features original music by Pablo Mancias\, Dan Klein\, Mike Deosdade\, and Charlie Wehn. Our music is influenced by our Latin and Indigenous roots and crosses many genres from Pop and Rock to Reggae and Ska. \nWebsite
URL:https://sanchosmx.com/sanchos-event/cotilla-jan-2023/
CATEGORIES:live music
ATTACH;FMTTYPE=image/jpeg:https://sanchosmx.com/wp-content/uploads/2021/09/168068088_907924859941802_2276965405788340836_n.jpg
END:VEVENT
BEGIN:VEVENT
DTSTART;TZID=America/Chicago:20230106T200000
DTEND;TZID=America/Chicago:20230106T220000
DTSTAMP:20260420T200740
CREATED:20230103T022530Z
LAST-MODIFIED:20230103T022530Z
UID:10016001-1673035200-1673042400@sanchosmx.com
SUMMARY:Blue Sundries
DESCRIPTION:Bluesy San Antonio Rock and Roll \nWebsite
URL:https://sanchosmx.com/sanchos-event/blue-sundries-sept-2022-2-2-2-2-2/
LOCATION:Sanchos\, 628 Jackson St\, San Antonio\, TX\, 78212\, United States
CATEGORIES:live music
ATTACH;FMTTYPE=image/jpeg:https://sanchosmx.com/wp-content/uploads/2021/11/03a89f6e-2ff5-4f0d-935c-c63cc150b590.jpg
GEO:29.4241219;-98.4936282
X-APPLE-STRUCTURED-LOCATION;VALUE=URI;X-ADDRESS=Sanchos 628 Jackson St San Antonio TX 78212 United States;X-APPLE-RADIUS=500;X-TITLE=628 Jackson St:geo:-98.4936282,29.4241219
END:VEVENT
BEGIN:VEVENT
DTSTART;TZID=America/Chicago:20230106T170000
DTEND;TZID=America/Chicago:20230106T200000
DTSTAMP:20260420T200740
CREATED:20230102T044334Z
LAST-MODIFIED:20240123T040655Z
UID:10015942-1673024400-1673035200@sanchosmx.com
SUMMARY:The Fleeks
DESCRIPTION:Texas classic rock n roll indie music \nClick here to listen.
URL:https://sanchosmx.com/sanchos-event/the-fleeks-oct-2022-2-2-2-2-2/2023-01-06/
CATEGORIES:live music
ATTACH;FMTTYPE=image/jpeg:https://sanchosmx.com/wp-content/uploads/2020/06/the-fleeks.jpeg
END:VEVENT
BEGIN:VEVENT
DTSTART;TZID=America/Chicago:20230105T220000
DTEND;TZID=America/Chicago:20230106T010000
DTSTAMP:20260420T200740
CREATED:20220830T215233Z
LAST-MODIFIED:20250225T223401Z
UID:10015764-1672956000-1672966800@sanchosmx.com
SUMMARY:Noche de Karaoke
DESCRIPTION:Come sing your favorites with our host!
URL:https://sanchosmx.com/sanchos-event/noche-de-karaoke/2023-01-05/
CATEGORIES:Karaoke
ATTACH;FMTTYPE=image/jpeg:https://sanchosmx.com/wp-content/uploads/2022/04/kareoke-e1651121037428.jpg
END:VEVENT
BEGIN:VEVENT
DTSTART;TZID=America/Chicago:20230105T190000
DTEND;TZID=America/Chicago:20230105T210000
DTSTAMP:20260420T200740
CREATED:20210427T153307Z
LAST-MODIFIED:20260324T220610Z
UID:10015087-1672945200-1672952400@sanchosmx.com
SUMMARY:Claude Butch Morgan & His Bandaholics
DESCRIPTION:This is the home of Claude Butch Morgan and his BANDAHOLICS!\nEvery Thursday nite we ride off into the wild musical FUN-tier and you get to ride along with us.\nCome one\, come all\, become an EAR-Regular and lend us your ears and cheers. We will do our very best to put a smile on your face and joy in your heart.
URL:https://sanchosmx.com/sanchos-event/claude-butch-morgan-his-bandaholics/2023-01-05/
LOCATION:Sanchos\, 628 Jackson St\, San Antonio\, TX\, 78212\, United States
CATEGORIES:live music
ATTACH;FMTTYPE=image/jpeg:https://sanchosmx.com/wp-content/uploads/2019/10/bandaholics.jpg
GEO:29.4241219;-98.4936282
X-APPLE-STRUCTURED-LOCATION;VALUE=URI;X-ADDRESS=Sanchos 628 Jackson St San Antonio TX 78212 United States;X-APPLE-RADIUS=500;X-TITLE=628 Jackson St:geo:-98.4936282,29.4241219
END:VEVENT
BEGIN:VEVENT
DTSTART;TZID=America/Chicago:20230104T190000
DTEND;TZID=America/Chicago:20230104T220000
DTSTAMP:20260420T200740
CREATED:20220428T042416Z
LAST-MODIFIED:20230601T194133Z
UID:10015587-1672858800-1672869600@sanchosmx.com
SUMMARY:RDO Trio
DESCRIPTION:Blues\, R&B\, pop\, 70s and more. \nWebsite
URL:https://sanchosmx.com/sanchos-event/rdo-trio-14/2023-01-04/
CATEGORIES:live music
ATTACH;FMTTYPE=image/jpeg:https://sanchosmx.com/wp-content/uploads/2015/11/rdo-trio-web.jpg
END:VEVENT
BEGIN:VEVENT
DTSTART;TZID=America/Chicago:20230103T190000
DTEND;TZID=America/Chicago:20230103T210000
DTSTAMP:20260420T200740
CREATED:20230103T233815Z
LAST-MODIFIED:20230103T233815Z
UID:10016006-1672772400-1672779600@sanchosmx.com
SUMMARY:Chris Taylor and Ruben V
DESCRIPTION:Must CT-V\, Chris Taylor and Ruben V Song swap\, every First and Third Tuesday!
URL:https://sanchosmx.com/sanchos-event/chris-taylor-and-ruben-v/
LOCATION:Sanchos\, 628 Jackson St\, San Antonio\, TX\, 78212\, United States
CATEGORIES:live music
ATTACH;FMTTYPE=image/jpeg:https://sanchosmx.com/wp-content/uploads/2023/01/must-ct-v.jpg
GEO:29.4241219;-98.4936282
X-APPLE-STRUCTURED-LOCATION;VALUE=URI;X-ADDRESS=Sanchos 628 Jackson St San Antonio TX 78212 United States;X-APPLE-RADIUS=500;X-TITLE=628 Jackson St:geo:-98.4936282,29.4241219
END:VEVENT
BEGIN:VEVENT
DTSTART;TZID=America/Chicago:20230102T210000
DTEND;TZID=America/Chicago:20230102T230000
DTSTAMP:20260420T200740
CREATED:20220809T221622Z
LAST-MODIFIED:20230525T172206Z
UID:10015726-1672693200-1672700400@sanchosmx.com
SUMMARY:Open Mic w/ CJ Duran
DESCRIPTION:Come show off your skills behind the Mic at Sanchos. Hosted by CJ Duran\nSign up sheet available \, check in with host.
URL:https://sanchosmx.com/sanchos-event/open-mic-w-cj-duran/2023-01-02/
LOCATION:Sanchos\, 628 Jackson St\, San Antonio\, TX\, 78212\, United States
CATEGORIES:live music,open mic
ATTACH;FMTTYPE=image/jpeg:https://sanchosmx.com/wp-content/uploads/2022/08/CJ-Duran.jpeg
GEO:29.4241219;-98.4936282
X-APPLE-STRUCTURED-LOCATION;VALUE=URI;X-ADDRESS=Sanchos 628 Jackson St San Antonio TX 78212 United States;X-APPLE-RADIUS=500;X-TITLE=628 Jackson St:geo:-98.4936282,29.4241219
END:VEVENT
BEGIN:VEVENT
DTSTART;TZID=America/Chicago:20230102T190000
DTEND;TZID=America/Chicago:20230102T210000
DTSTAMP:20260420T200740
CREATED:20211029T014719Z
LAST-MODIFIED:20230127T222010Z
UID:10015439-1672686000-1672693200@sanchosmx.com
SUMMARY:The Hess Brothers and Company Jazz Session
DESCRIPTION:Dynamic combo of some of the most award winning jazz musicians in San Antonio. 
URL:https://sanchosmx.com/sanchos-event/prado-hess-jazz-duo/2023-01-02/
LOCATION:Sanchos\, 628 Jackson St\, San Antonio\, TX\, 78212\, United States
CATEGORIES:live music
ATTACH;FMTTYPE=image/jpeg:https://sanchosmx.com/wp-content/uploads/2021/10/245779532_2112330442259112_821500283828505130_n.jpg
GEO:29.4241219;-98.4936282
X-APPLE-STRUCTURED-LOCATION;VALUE=URI;X-ADDRESS=Sanchos 628 Jackson St San Antonio TX 78212 United States;X-APPLE-RADIUS=500;X-TITLE=628 Jackson St:geo:-98.4936282,29.4241219
END:VEVENT
BEGIN:VEVENT
DTSTART;TZID=America/Chicago:20221231T210000
DTEND;TZID=America/Chicago:20230101T010000
DTSTAMP:20260420T200740
CREATED:20221202T185334Z
LAST-MODIFIED:20221202T185501Z
UID:10015936-1672520400-1672534800@sanchosmx.com
SUMMARY:Professor Underfunk
DESCRIPTION:One of the best blues musicians & bassists you'll hear in Texas! Based in San Antonio\, Cecil Yancey draws from a wide range of musical influences and an equally extensive background of performance experience. \nThe Professor UnderFunk\, Cecil Yancey\, is a singer\, musician\, songwriter from San Antonio Texas. Cecil has been on stage performing since the age of 9 and has 40+ years of professional performance experience. Cecil has just completed the master recordings for his Debut Release "Elephant Tracks" and is gearing up for a promotional tour in support of his new music. Cecil is geared up to provide gaming\, video\, TV\, radio and commercial music and songwriting for Music Supervisors\, Ad Agencies and general business productions. His influences and music are reflective of such artist greats as Jimi Hendrix\, James Brown\, Stevie Wonder\, Stevie Ray Vaughn and Marvin Gaye \nWebsite
URL:https://sanchosmx.com/sanchos-event/professor-underfunk/
LOCATION:Sanchos\, 628 Jackson St\, San Antonio\, TX\, 78212\, United States
CATEGORIES:live music
ATTACH;FMTTYPE=image/jpeg:https://sanchosmx.com/wp-content/uploads/2019/06/professor-underfunk-e1559795943210.jpg
GEO:29.4241219;-98.4936282
X-APPLE-STRUCTURED-LOCATION;VALUE=URI;X-ADDRESS=Sanchos 628 Jackson St San Antonio TX 78212 United States;X-APPLE-RADIUS=500;X-TITLE=628 Jackson St:geo:-98.4936282,29.4241219
END:VEVENT
BEGIN:VEVENT
DTSTART;TZID=America/Chicago:20221231T200000
DTEND;TZID=America/Chicago:20230101T010000
DTSTAMP:20260420T200740
CREATED:20221202T025017Z
LAST-MODIFIED:20230101T001135Z
UID:10015934-1672516800-1672534800@sanchosmx.com
SUMMARY:New Year's Eve 2022
DESCRIPTION:Welcome 2023 celebrating on Sanchos Skyline Deck\, with great views of the downtown San Antonio Fireworks show! Reserved seats are just $10/person and include a midnight champagne pour. ONLINE TICKET SALES HAVE ENDED. LIMITED SEATS AVAILABLE AT THE DOOR AT 8PM.
URL:https://sanchosmx.com/sanchos-event/new-years-eve-2022/
LOCATION:Sanchos\, 628 Jackson St\, San Antonio\, TX\, 78212\, United States
CATEGORIES:live music
GEO:29.4241219;-98.4936282
X-APPLE-STRUCTURED-LOCATION;VALUE=URI;X-ADDRESS=Sanchos 628 Jackson St San Antonio TX 78212 United States;X-APPLE-RADIUS=500;X-TITLE=628 Jackson St:geo:-98.4936282,29.4241219
END:VEVENT
BEGIN:VEVENT
DTSTART;TZID=America/Chicago:20221230T200000
DTEND;TZID=America/Chicago:20221230T220000
DTSTAMP:20260420T200740
CREATED:20221209T041650Z
LAST-MODIFIED:20221209T041650Z
UID:10015938-1672430400-1672437600@sanchosmx.com
SUMMARY:Blue Sundries
DESCRIPTION:Bluesy San Antonio Rock and Roll \nWebsite
URL:https://sanchosmx.com/sanchos-event/blue-sundries-sept-2022-2-2-2-2/
LOCATION:Sanchos\, 628 Jackson St\, San Antonio\, TX\, 78212\, United States
CATEGORIES:live music
ATTACH;FMTTYPE=image/jpeg:https://sanchosmx.com/wp-content/uploads/2021/11/03a89f6e-2ff5-4f0d-935c-c63cc150b590.jpg
GEO:29.4241219;-98.4936282
X-APPLE-STRUCTURED-LOCATION;VALUE=URI;X-ADDRESS=Sanchos 628 Jackson St San Antonio TX 78212 United States;X-APPLE-RADIUS=500;X-TITLE=628 Jackson St:geo:-98.4936282,29.4241219
END:VEVENT
BEGIN:VEVENT
DTSTART;TZID=America/Chicago:20221229T220000
DTEND;TZID=America/Chicago:20221230T010000
DTSTAMP:20260420T200740
CREATED:20220830T215233Z
LAST-MODIFIED:20250225T223401Z
UID:10015763-1672351200-1672362000@sanchosmx.com
SUMMARY:Noche de Karaoke
DESCRIPTION:Come sing your favorites with our host!
URL:https://sanchosmx.com/sanchos-event/noche-de-karaoke/2022-12-29/
CATEGORIES:Karaoke
ATTACH;FMTTYPE=image/jpeg:https://sanchosmx.com/wp-content/uploads/2022/04/kareoke-e1651121037428.jpg
END:VEVENT
BEGIN:VEVENT
DTSTART;TZID=America/Chicago:20221229T190000
DTEND;TZID=America/Chicago:20221229T210000
DTSTAMP:20260420T200740
CREATED:20210427T153307Z
LAST-MODIFIED:20260324T220610Z
UID:10015086-1672340400-1672347600@sanchosmx.com
SUMMARY:Claude Butch Morgan & His Bandaholics
DESCRIPTION:This is the home of Claude Butch Morgan and his BANDAHOLICS!\nEvery Thursday nite we ride off into the wild musical FUN-tier and you get to ride along with us.\nCome one\, come all\, become an EAR-Regular and lend us your ears and cheers. We will do our very best to put a smile on your face and joy in your heart.
URL:https://sanchosmx.com/sanchos-event/claude-butch-morgan-his-bandaholics/2022-12-29/
LOCATION:Sanchos\, 628 Jackson St\, San Antonio\, TX\, 78212\, United States
CATEGORIES:live music
ATTACH;FMTTYPE=image/jpeg:https://sanchosmx.com/wp-content/uploads/2019/10/bandaholics.jpg
GEO:29.4241219;-98.4936282
X-APPLE-STRUCTURED-LOCATION;VALUE=URI;X-ADDRESS=Sanchos 628 Jackson St San Antonio TX 78212 United States;X-APPLE-RADIUS=500;X-TITLE=628 Jackson St:geo:-98.4936282,29.4241219
END:VEVENT
BEGIN:VEVENT
DTSTART;TZID=America/Chicago:20221228T190000
DTEND;TZID=America/Chicago:20221228T220000
DTSTAMP:20260420T200740
CREATED:20220428T042416Z
LAST-MODIFIED:20230601T194133Z
UID:10015586-1672254000-1672264800@sanchosmx.com
SUMMARY:RDO Trio
DESCRIPTION:Blues\, R&B\, pop\, 70s and more. \nWebsite
URL:https://sanchosmx.com/sanchos-event/rdo-trio-14/2022-12-28/
CATEGORIES:live music
ATTACH;FMTTYPE=image/jpeg:https://sanchosmx.com/wp-content/uploads/2015/11/rdo-trio-web.jpg
END:VEVENT
BEGIN:VEVENT
DTSTART;TZID=America/Chicago:20221227T190000
DTEND;TZID=America/Chicago:20221227T210000
DTSTAMP:20260420T200740
CREATED:20221129T174752Z
LAST-MODIFIED:20221129T174752Z
UID:10015924-1672167600-1672174800@sanchosmx.com
SUMMARY:The Flow
DESCRIPTION:duo
URL:https://sanchosmx.com/sanchos-event/the-flow-2-2/
CATEGORIES:live music
ATTACH;FMTTYPE=image/jpeg:https://sanchosmx.com/wp-content/uploads/2022/01/the-flow-e1643141533474.jpg
END:VEVENT
BEGIN:VEVENT
DTSTART;TZID=America/Chicago:20221226T210000
DTEND;TZID=America/Chicago:20221226T230000
DTSTAMP:20260420T200740
CREATED:20220809T221622Z
LAST-MODIFIED:20230525T172206Z
UID:10015725-1672088400-1672095600@sanchosmx.com
SUMMARY:Open Mic w/ CJ Duran
DESCRIPTION:Come show off your skills behind the Mic at Sanchos. Hosted by CJ Duran\nSign up sheet available \, check in with host.
URL:https://sanchosmx.com/sanchos-event/open-mic-w-cj-duran/2022-12-26/
LOCATION:Sanchos\, 628 Jackson St\, San Antonio\, TX\, 78212\, United States
CATEGORIES:live music,open mic
ATTACH;FMTTYPE=image/jpeg:https://sanchosmx.com/wp-content/uploads/2022/08/CJ-Duran.jpeg
GEO:29.4241219;-98.4936282
X-APPLE-STRUCTURED-LOCATION;VALUE=URI;X-ADDRESS=Sanchos 628 Jackson St San Antonio TX 78212 United States;X-APPLE-RADIUS=500;X-TITLE=628 Jackson St:geo:-98.4936282,29.4241219
END:VEVENT
BEGIN:VEVENT
DTSTART;TZID=America/Chicago:20221226T190000
DTEND;TZID=America/Chicago:20221226T210000
DTSTAMP:20260420T200740
CREATED:20211029T014719Z
LAST-MODIFIED:20230127T222010Z
UID:10015438-1672081200-1672088400@sanchosmx.com
SUMMARY:The Hess Brothers and Company Jazz Session
DESCRIPTION:Dynamic combo of some of the most award winning jazz musicians in San Antonio. 
URL:https://sanchosmx.com/sanchos-event/prado-hess-jazz-duo/2022-12-26/
LOCATION:Sanchos\, 628 Jackson St\, San Antonio\, TX\, 78212\, United States
CATEGORIES:live music
ATTACH;FMTTYPE=image/jpeg:https://sanchosmx.com/wp-content/uploads/2021/10/245779532_2112330442259112_821500283828505130_n.jpg
GEO:29.4241219;-98.4936282
X-APPLE-STRUCTURED-LOCATION;VALUE=URI;X-ADDRESS=Sanchos 628 Jackson St San Antonio TX 78212 United States;X-APPLE-RADIUS=500;X-TITLE=628 Jackson St:geo:-98.4936282,29.4241219
END:VEVENT
BEGIN:VEVENT
DTSTART;TZID=America/Chicago:20221224T200000
DTEND;TZID=America/Chicago:20221224T220000
DTSTAMP:20260420T200740
CREATED:20221129T180950Z
LAST-MODIFIED:20221129T180950Z
UID:10015933-1671912000-1671919200@sanchosmx.com
SUMMARY:Bongo Katz
DESCRIPTION:We perform music for all occasions. Though we specialize primarily in a latin style of ska music\, or “Caliche” as we call it\, we do feature a variety of cover songs by artists such as Blood\, Sweat & Tears\, Chicago\, Sublime\, and Stevie Wonder.  Our gifted horn and rhythm section will always make sure you’re enjoying yourself. By the end of the show\, I guarantee you’ll be singing our catchy lyrics on your way home!
URL:https://sanchosmx.com/sanchos-event/bongo-katz-sept-2022-2-2-2-2-2/
LOCATION:Sanchos\, 628 Jackson St\, San Antonio\, TX\, 78212\, United States
CATEGORIES:live music
ATTACH;FMTTYPE=image/jpeg:https://sanchosmx.com/wp-content/uploads/2015/07/bongo-katz.jpg
GEO:29.4241219;-98.4936282
X-APPLE-STRUCTURED-LOCATION;VALUE=URI;X-ADDRESS=Sanchos 628 Jackson St San Antonio TX 78212 United States;X-APPLE-RADIUS=500;X-TITLE=628 Jackson St:geo:-98.4936282,29.4241219
END:VEVENT
BEGIN:VEVENT
DTSTART;TZID=America/Chicago:20221223T200000
DTEND;TZID=America/Chicago:20221223T220000
DTSTAMP:20260420T200740
CREATED:20221209T041254Z
LAST-MODIFIED:20221209T041254Z
UID:10015937-1671825600-1671832800@sanchosmx.com
SUMMARY:SA Blue Cats
DESCRIPTION:Blues \nWebsite
URL:https://sanchosmx.com/sanchos-event/sa-blue-cats-3-2-2/
CATEGORIES:live music
ATTACH;FMTTYPE=image/jpeg:https://sanchosmx.com/wp-content/uploads/2018/07/sa-blue-cats.jpg
END:VEVENT
BEGIN:VEVENT
DTSTART;TZID=America/Chicago:20221222T220000
DTEND;TZID=America/Chicago:20221223T010000
DTSTAMP:20260420T200740
CREATED:20220830T215233Z
LAST-MODIFIED:20250225T223401Z
UID:10015762-1671746400-1671757200@sanchosmx.com
SUMMARY:Noche de Karaoke
DESCRIPTION:Come sing your favorites with our host!
URL:https://sanchosmx.com/sanchos-event/noche-de-karaoke/2022-12-22/
CATEGORIES:Karaoke
ATTACH;FMTTYPE=image/jpeg:https://sanchosmx.com/wp-content/uploads/2022/04/kareoke-e1651121037428.jpg
END:VEVENT
BEGIN:VEVENT
DTSTART;TZID=America/Chicago:20221222T190000
DTEND;TZID=America/Chicago:20221222T210000
DTSTAMP:20260420T200740
CREATED:20210427T153307Z
LAST-MODIFIED:20260324T220610Z
UID:10015085-1671735600-1671742800@sanchosmx.com
SUMMARY:Claude Butch Morgan & His Bandaholics
DESCRIPTION:This is the home of Claude Butch Morgan and his BANDAHOLICS!\nEvery Thursday nite we ride off into the wild musical FUN-tier and you get to ride along with us.\nCome one\, come all\, become an EAR-Regular and lend us your ears and cheers. We will do our very best to put a smile on your face and joy in your heart.
URL:https://sanchosmx.com/sanchos-event/claude-butch-morgan-his-bandaholics/2022-12-22/
LOCATION:Sanchos\, 628 Jackson St\, San Antonio\, TX\, 78212\, United States
CATEGORIES:live music
ATTACH;FMTTYPE=image/jpeg:https://sanchosmx.com/wp-content/uploads/2019/10/bandaholics.jpg
GEO:29.4241219;-98.4936282
X-APPLE-STRUCTURED-LOCATION;VALUE=URI;X-ADDRESS=Sanchos 628 Jackson St San Antonio TX 78212 United States;X-APPLE-RADIUS=500;X-TITLE=628 Jackson St:geo:-98.4936282,29.4241219
END:VEVENT
BEGIN:VEVENT
DTSTART;TZID=America/Chicago:20221221T190000
DTEND;TZID=America/Chicago:20221221T220000
DTSTAMP:20260420T200740
CREATED:20220428T042416Z
LAST-MODIFIED:20230601T194133Z
UID:10015585-1671649200-1671660000@sanchosmx.com
SUMMARY:RDO Trio
DESCRIPTION:Blues\, R&B\, pop\, 70s and more. \nWebsite
URL:https://sanchosmx.com/sanchos-event/rdo-trio-14/2022-12-21/
CATEGORIES:live music
ATTACH;FMTTYPE=image/jpeg:https://sanchosmx.com/wp-content/uploads/2015/11/rdo-trio-web.jpg
END:VEVENT
BEGIN:VEVENT
DTSTART;TZID=America/Chicago:20221220T190000
DTEND;TZID=America/Chicago:20221220T210000
DTSTAMP:20260420T200740
CREATED:20221129T174948Z
LAST-MODIFIED:20221129T174948Z
UID:10015925-1671562800-1671570000@sanchosmx.com
SUMMARY:Brother Dave Trio
DESCRIPTION:Brother Dave back at it again on our patio stage to bring down the house ! \nRock n Roll !
URL:https://sanchosmx.com/sanchos-event/brother-dave-trio-sept-2022-2-2-2/
CATEGORIES:live music
ATTACH;FMTTYPE=image/jpeg:https://sanchosmx.com/wp-content/uploads/2021/05/180208619_1988265797998911_6634107337412862399_n.jpg
END:VEVENT
BEGIN:VEVENT
DTSTART;TZID=America/Chicago:20221219T210000
DTEND;TZID=America/Chicago:20221219T230000
DTSTAMP:20260420T200740
CREATED:20220809T221622Z
LAST-MODIFIED:20230525T172206Z
UID:10015724-1671483600-1671490800@sanchosmx.com
SUMMARY:Open Mic w/ CJ Duran
DESCRIPTION:Come show off your skills behind the Mic at Sanchos. Hosted by CJ Duran\nSign up sheet available \, check in with host.
URL:https://sanchosmx.com/sanchos-event/open-mic-w-cj-duran/2022-12-19/
LOCATION:Sanchos\, 628 Jackson St\, San Antonio\, TX\, 78212\, United States
CATEGORIES:live music,open mic
ATTACH;FMTTYPE=image/jpeg:https://sanchosmx.com/wp-content/uploads/2022/08/CJ-Duran.jpeg
GEO:29.4241219;-98.4936282
X-APPLE-STRUCTURED-LOCATION;VALUE=URI;X-ADDRESS=Sanchos 628 Jackson St San Antonio TX 78212 United States;X-APPLE-RADIUS=500;X-TITLE=628 Jackson St:geo:-98.4936282,29.4241219
END:VEVENT
BEGIN:VEVENT
DTSTART;TZID=America/Chicago:20221219T190000
DTEND;TZID=America/Chicago:20221219T210000
DTSTAMP:20260420T200740
CREATED:20211029T014719Z
LAST-MODIFIED:20230127T222010Z
UID:10015437-1671476400-1671483600@sanchosmx.com
SUMMARY:The Hess Brothers and Company Jazz Session
DESCRIPTION:Dynamic combo of some of the most award winning jazz musicians in San Antonio. 
URL:https://sanchosmx.com/sanchos-event/prado-hess-jazz-duo/2022-12-19/
LOCATION:Sanchos\, 628 Jackson St\, San Antonio\, TX\, 78212\, United States
CATEGORIES:live music
ATTACH;FMTTYPE=image/jpeg:https://sanchosmx.com/wp-content/uploads/2021/10/245779532_2112330442259112_821500283828505130_n.jpg
GEO:29.4241219;-98.4936282
X-APPLE-STRUCTURED-LOCATION;VALUE=URI;X-ADDRESS=Sanchos 628 Jackson St San Antonio TX 78212 United States;X-APPLE-RADIUS=500;X-TITLE=628 Jackson St:geo:-98.4936282,29.4241219
END:VEVENT
BEGIN:VEVENT
DTSTART;TZID=America/Chicago:20221218T083000
DTEND;TZID=America/Chicago:20221219T010000
DTSTAMP:20260420T200740
CREATED:20221216T182724Z
LAST-MODIFIED:20221216T182724Z
UID:10015940-1671352200-1671411600@sanchosmx.com
SUMMARY:World Cup Final 2022
DESCRIPTION:We'll be opening early on Sunday for the World Cup Final! We're opening at 8:30am for the 9am game time. Enjoy the following specials during the game:\n$1 off Caguamas\n$4.75 Cazadores\n$6.50 TnT combo (12 oz Tecate or Tecate Light with a shot of house Tequila)\nDid you know we added a metal roof recently? Plus\, we've wrapped the premises in plastic to keep out the wind\, and will have our heaters on. Come watch the game in comfort!
URL:https://sanchosmx.com/sanchos-event/world-cup-final-2022/
LOCATION:Sanchos\, 628 Jackson St\, San Antonio\, TX\, 78212\, United States
CATEGORIES:soccer/futbol
ATTACH;FMTTYPE=image/jpeg:https://sanchosmx.com/wp-content/uploads/2022/12/UZLEVSKQ26UKIRXGCQ2LORQOBM.jpg
GEO:29.4241219;-98.4936282
X-APPLE-STRUCTURED-LOCATION;VALUE=URI;X-ADDRESS=Sanchos 628 Jackson St San Antonio TX 78212 United States;X-APPLE-RADIUS=500;X-TITLE=628 Jackson St:geo:-98.4936282,29.4241219
END:VEVENT
BEGIN:VEVENT
DTSTART;TZID=America/Chicago:20221217T200000
DTEND;TZID=America/Chicago:20221217T220000
DTSTAMP:20260420T200740
CREATED:20221129T180818Z
LAST-MODIFIED:20221129T180818Z
UID:10015932-1671307200-1671314400@sanchosmx.com
SUMMARY:Los #3 Dinners
DESCRIPTION:Los #3 Dinners perform original songs about livin' and lovin' in the Alamo Town. \n\n  \n\n  \n 
URL:https://sanchosmx.com/sanchos-event/los-3-dinners-nov-2022-2/
LOCATION:Sanchos\, 628 Jackson St\, San Antonio\, TX\, 78212\, United States
CATEGORIES:live music
ATTACH;FMTTYPE=image/jpeg:https://sanchosmx.com/wp-content/uploads/2018/03/los-3-dinners.jpg
GEO:29.4241219;-98.4936282
X-APPLE-STRUCTURED-LOCATION;VALUE=URI;X-ADDRESS=Sanchos 628 Jackson St San Antonio TX 78212 United States;X-APPLE-RADIUS=500;X-TITLE=628 Jackson St:geo:-98.4936282,29.4241219
END:VEVENT
BEGIN:VEVENT
DTSTART;TZID=America/Chicago:20221216T200000
DTEND;TZID=America/Chicago:20221216T220000
DTSTAMP:20260420T200740
CREATED:20221129T180643Z
LAST-MODIFIED:20221129T180643Z
UID:10015931-1671220800-1671228000@sanchosmx.com
SUMMARY:River Barons
DESCRIPTION:River Barons is a unique flavor of alt-country music. The San Antonio-based four-piece assemble from varied backgrounds to create what they call\, 'New Southern Rock'. \nWebsite
URL:https://sanchosmx.com/sanchos-event/river-barons-4-3/
ATTACH;FMTTYPE=image/png:https://sanchosmx.com/wp-content/uploads/2015/12/river-barons.png
END:VEVENT
BEGIN:VEVENT
DTSTART;TZID=America/Chicago:20221216T180000
DTEND;TZID=America/Chicago:20221216T200000
DTSTAMP:20260420T200740
CREATED:20221129T175506Z
LAST-MODIFIED:20221129T175506Z
UID:10015928-1671213600-1671220800@sanchosmx.com
SUMMARY:The Fleeks
DESCRIPTION:Texas classic rock n roll indie music \nClick here to listen.
URL:https://sanchosmx.com/sanchos-event/the-fleeks-oct-2022-2-2-2-2/
CATEGORIES:live music
ATTACH;FMTTYPE=image/jpeg:https://sanchosmx.com/wp-content/uploads/2020/06/the-fleeks.jpeg
END:VEVENT
END:VCALENDAR