BEGIN:VCALENDAR
VERSION:2.0
PRODID:-//Sanchos Cocina y Cantina - ECPv6.15.20//NONSGML v1.0//EN
CALSCALE:GREGORIAN
METHOD:PUBLISH
X-WR-CALNAME:Sanchos Cocina y Cantina
X-ORIGINAL-URL:https://sanchosmx.com
X-WR-CALDESC:Events for Sanchos Cocina y Cantina
REFRESH-INTERVAL;VALUE=DURATION:PT1H
X-Robots-Tag:noindex
X-PUBLISHED-TTL:PT1H
BEGIN:VTIMEZONE
TZID:America/Chicago
BEGIN:DAYLIGHT
TZOFFSETFROM:-0600
TZOFFSETTO:-0500
TZNAME:CDT
DTSTART:20210314T080000
END:DAYLIGHT
BEGIN:STANDARD
TZOFFSETFROM:-0500
TZOFFSETTO:-0600
TZNAME:CST
DTSTART:20211107T070000
END:STANDARD
BEGIN:DAYLIGHT
TZOFFSETFROM:-0600
TZOFFSETTO:-0500
TZNAME:CDT
DTSTART:20220313T080000
END:DAYLIGHT
BEGIN:STANDARD
TZOFFSETFROM:-0500
TZOFFSETTO:-0600
TZNAME:CST
DTSTART:20221106T070000
END:STANDARD
BEGIN:DAYLIGHT
TZOFFSETFROM:-0600
TZOFFSETTO:-0500
TZNAME:CDT
DTSTART:20230312T080000
END:DAYLIGHT
BEGIN:STANDARD
TZOFFSETFROM:-0500
TZOFFSETTO:-0600
TZNAME:CST
DTSTART:20231105T070000
END:STANDARD
BEGIN:DAYLIGHT
TZOFFSETFROM:-0600
TZOFFSETTO:-0500
TZNAME:CDT
DTSTART:20240310T080000
END:DAYLIGHT
BEGIN:STANDARD
TZOFFSETFROM:-0500
TZOFFSETTO:-0600
TZNAME:CST
DTSTART:20241103T070000
END:STANDARD
END:VTIMEZONE
BEGIN:VEVENT
DTSTART;TZID=America/Chicago:20230120T170000
DTEND;TZID=America/Chicago:20230120T200000
DTSTAMP:20260421T000549
CREATED:20230102T044334Z
LAST-MODIFIED:20240123T040655Z
UID:10015944-1674234000-1674244800@sanchosmx.com
SUMMARY:The Fleeks
DESCRIPTION:Texas classic rock n roll indie music \nClick here to listen.
URL:https://sanchosmx.com/sanchos-event/the-fleeks-oct-2022-2-2-2-2-2/2023-01-20/
CATEGORIES:live music
ATTACH;FMTTYPE=image/jpeg:https://sanchosmx.com/wp-content/uploads/2020/06/the-fleeks.jpeg
END:VEVENT
BEGIN:VEVENT
DTSTART;TZID=America/Chicago:20230119T220000
DTEND;TZID=America/Chicago:20230120T010000
DTSTAMP:20260421T000549
CREATED:20220830T215233Z
LAST-MODIFIED:20250225T223401Z
UID:10015766-1674165600-1674176400@sanchosmx.com
SUMMARY:Noche de Karaoke
DESCRIPTION:Come sing your favorites with our host!
URL:https://sanchosmx.com/sanchos-event/noche-de-karaoke/2023-01-19/
CATEGORIES:Karaoke
ATTACH;FMTTYPE=image/jpeg:https://sanchosmx.com/wp-content/uploads/2022/04/kareoke-e1651121037428.jpg
END:VEVENT
BEGIN:VEVENT
DTSTART;TZID=America/Chicago:20230119T190000
DTEND;TZID=America/Chicago:20230119T210000
DTSTAMP:20260421T000549
CREATED:20210427T153307Z
LAST-MODIFIED:20260324T220610Z
UID:10015089-1674154800-1674162000@sanchosmx.com
SUMMARY:Claude Butch Morgan & His Bandaholics
DESCRIPTION:This is the home of Claude Butch Morgan and his BANDAHOLICS!\nEvery Thursday nite we ride off into the wild musical FUN-tier and you get to ride along with us.\nCome one\, come all\, become an EAR-Regular and lend us your ears and cheers. We will do our very best to put a smile on your face and joy in your heart.
URL:https://sanchosmx.com/sanchos-event/claude-butch-morgan-his-bandaholics/2023-01-19/
LOCATION:Sanchos\, 628 Jackson St\, San Antonio\, TX\, 78212\, United States
CATEGORIES:live music
ATTACH;FMTTYPE=image/jpeg:https://sanchosmx.com/wp-content/uploads/2019/10/bandaholics.jpg
GEO:29.4241219;-98.4936282
X-APPLE-STRUCTURED-LOCATION;VALUE=URI;X-ADDRESS=Sanchos 628 Jackson St San Antonio TX 78212 United States;X-APPLE-RADIUS=500;X-TITLE=628 Jackson St:geo:-98.4936282,29.4241219
END:VEVENT
BEGIN:VEVENT
DTSTART;TZID=America/Chicago:20230118T190000
DTEND;TZID=America/Chicago:20230118T220000
DTSTAMP:20260421T000549
CREATED:20220428T042416Z
LAST-MODIFIED:20230601T194133Z
UID:10015589-1674068400-1674079200@sanchosmx.com
SUMMARY:RDO Trio
DESCRIPTION:Blues\, R&B\, pop\, 70s and more. \nWebsite
URL:https://sanchosmx.com/sanchos-event/rdo-trio-14/2023-01-18/
CATEGORIES:live music
ATTACH;FMTTYPE=image/jpeg:https://sanchosmx.com/wp-content/uploads/2015/11/rdo-trio-web.jpg
END:VEVENT
BEGIN:VEVENT
DTSTART;TZID=America/Chicago:20230117T190000
DTEND;TZID=America/Chicago:20230117T210000
DTSTAMP:20260421T000549
CREATED:20230103T233858Z
LAST-MODIFIED:20230103T233858Z
UID:10016007-1673982000-1673989200@sanchosmx.com
SUMMARY:Chris Taylor and Ruben V
DESCRIPTION:Must CT-V\, Chris Taylor and Ruben V Song swap\, every First and Third Tuesday!
URL:https://sanchosmx.com/sanchos-event/chris-taylor-and-ruben-v-2/
LOCATION:Sanchos\, 628 Jackson St\, San Antonio\, TX\, 78212\, United States
CATEGORIES:live music
ATTACH;FMTTYPE=image/jpeg:https://sanchosmx.com/wp-content/uploads/2023/01/must-ct-v.jpg
GEO:29.4241219;-98.4936282
X-APPLE-STRUCTURED-LOCATION;VALUE=URI;X-ADDRESS=Sanchos 628 Jackson St San Antonio TX 78212 United States;X-APPLE-RADIUS=500;X-TITLE=628 Jackson St:geo:-98.4936282,29.4241219
END:VEVENT
BEGIN:VEVENT
DTSTART;TZID=America/Chicago:20230116T210000
DTEND;TZID=America/Chicago:20230116T230000
DTSTAMP:20260421T000549
CREATED:20220809T221622Z
LAST-MODIFIED:20230525T172206Z
UID:10015728-1673902800-1673910000@sanchosmx.com
SUMMARY:Open Mic w/ CJ Duran
DESCRIPTION:Come show off your skills behind the Mic at Sanchos. Hosted by CJ Duran\nSign up sheet available \, check in with host.
URL:https://sanchosmx.com/sanchos-event/open-mic-w-cj-duran/2023-01-16/
LOCATION:Sanchos\, 628 Jackson St\, San Antonio\, TX\, 78212\, United States
CATEGORIES:live music,open mic
ATTACH;FMTTYPE=image/jpeg:https://sanchosmx.com/wp-content/uploads/2022/08/CJ-Duran.jpeg
GEO:29.4241219;-98.4936282
X-APPLE-STRUCTURED-LOCATION;VALUE=URI;X-ADDRESS=Sanchos 628 Jackson St San Antonio TX 78212 United States;X-APPLE-RADIUS=500;X-TITLE=628 Jackson St:geo:-98.4936282,29.4241219
END:VEVENT
BEGIN:VEVENT
DTSTART;TZID=America/Chicago:20230116T190000
DTEND;TZID=America/Chicago:20230116T210000
DTSTAMP:20260421T000549
CREATED:20211029T014719Z
LAST-MODIFIED:20230127T222010Z
UID:10015441-1673895600-1673902800@sanchosmx.com
SUMMARY:The Hess Brothers and Company Jazz Session
DESCRIPTION:Dynamic combo of some of the most award winning jazz musicians in San Antonio. 
URL:https://sanchosmx.com/sanchos-event/prado-hess-jazz-duo/2023-01-16/
LOCATION:Sanchos\, 628 Jackson St\, San Antonio\, TX\, 78212\, United States
CATEGORIES:live music
ATTACH;FMTTYPE=image/jpeg:https://sanchosmx.com/wp-content/uploads/2021/10/245779532_2112330442259112_821500283828505130_n.jpg
GEO:29.4241219;-98.4936282
X-APPLE-STRUCTURED-LOCATION;VALUE=URI;X-ADDRESS=Sanchos 628 Jackson St San Antonio TX 78212 United States;X-APPLE-RADIUS=500;X-TITLE=628 Jackson St:geo:-98.4936282,29.4241219
END:VEVENT
BEGIN:VEVENT
DTSTART;TZID=America/Chicago:20230114T200000
DTEND;TZID=America/Chicago:20230114T220000
DTSTAMP:20260421T000549
CREATED:20230103T023216Z
LAST-MODIFIED:20230103T023216Z
UID:10016004-1673726400-1673733600@sanchosmx.com
SUMMARY:Brother Dave and the Barrio Blasters
DESCRIPTION:Brother Dave and the Barrio Blasters! are a Hard Groovin'\, Sharp Dressed band with a songbook as diverse as our beloved hometown San Antonio\, Texas. Rock\, Soul\, Blues\, Honky Tonk\, and Funk all come together to create a tasty groove that is Puro San Antonio!
URL:https://sanchosmx.com/sanchos-event/brother-dave-and-the-barrio-blasters-jan-2023/
LOCATION:Sanchos\, 628 Jackson St\, San Antonio\, TX\, 78212\, United States
CATEGORIES:live music
ATTACH;FMTTYPE=image/jpeg:https://sanchosmx.com/wp-content/uploads/2016/10/brother-dave.jpg
GEO:29.4241219;-98.4936282
X-APPLE-STRUCTURED-LOCATION;VALUE=URI;X-ADDRESS=Sanchos 628 Jackson St San Antonio TX 78212 United States;X-APPLE-RADIUS=500;X-TITLE=628 Jackson St:geo:-98.4936282,29.4241219
END:VEVENT
BEGIN:VEVENT
DTSTART;TZID=America/Chicago:20230113T210000
DTEND;TZID=America/Chicago:20230113T230000
DTSTAMP:20260421T000549
CREATED:20230109T184548Z
LAST-MODIFIED:20230109T184548Z
UID:10016008-1673643600-1673650800@sanchosmx.com
SUMMARY:Unknown Soldiers
DESCRIPTION:San Antonio's “The Unknown Soldiers”. The Bohemian Army is here.
URL:https://sanchosmx.com/sanchos-event/unknown-soldiers-jan-2023/
CATEGORIES:live music
ATTACH;FMTTYPE=image/jpeg:https://sanchosmx.com/wp-content/uploads/2021/04/124970553_4032206770142229_1462172039236812555_n.jpg
END:VEVENT
BEGIN:VEVENT
DTSTART;TZID=America/Chicago:20230113T170000
DTEND;TZID=America/Chicago:20230113T200000
DTSTAMP:20260421T000549
CREATED:20230102T044334Z
LAST-MODIFIED:20240123T040655Z
UID:10015943-1673629200-1673640000@sanchosmx.com
SUMMARY:The Fleeks
DESCRIPTION:Texas classic rock n roll indie music \nClick here to listen.
URL:https://sanchosmx.com/sanchos-event/the-fleeks-oct-2022-2-2-2-2-2/2023-01-13/
CATEGORIES:live music
ATTACH;FMTTYPE=image/jpeg:https://sanchosmx.com/wp-content/uploads/2020/06/the-fleeks.jpeg
END:VEVENT
BEGIN:VEVENT
DTSTART;TZID=America/Chicago:20230112T220000
DTEND;TZID=America/Chicago:20230113T010000
DTSTAMP:20260421T000549
CREATED:20220830T215233Z
LAST-MODIFIED:20250225T223401Z
UID:10015765-1673560800-1673571600@sanchosmx.com
SUMMARY:Noche de Karaoke
DESCRIPTION:Come sing your favorites with our host!
URL:https://sanchosmx.com/sanchos-event/noche-de-karaoke/2023-01-12/
CATEGORIES:Karaoke
ATTACH;FMTTYPE=image/jpeg:https://sanchosmx.com/wp-content/uploads/2022/04/kareoke-e1651121037428.jpg
END:VEVENT
BEGIN:VEVENT
DTSTART;TZID=America/Chicago:20230112T190000
DTEND;TZID=America/Chicago:20230112T210000
DTSTAMP:20260421T000549
CREATED:20210427T153307Z
LAST-MODIFIED:20260324T220610Z
UID:10015088-1673550000-1673557200@sanchosmx.com
SUMMARY:Claude Butch Morgan & His Bandaholics
DESCRIPTION:This is the home of Claude Butch Morgan and his BANDAHOLICS!\nEvery Thursday nite we ride off into the wild musical FUN-tier and you get to ride along with us.\nCome one\, come all\, become an EAR-Regular and lend us your ears and cheers. We will do our very best to put a smile on your face and joy in your heart.
URL:https://sanchosmx.com/sanchos-event/claude-butch-morgan-his-bandaholics/2023-01-12/
LOCATION:Sanchos\, 628 Jackson St\, San Antonio\, TX\, 78212\, United States
CATEGORIES:live music
ATTACH;FMTTYPE=image/jpeg:https://sanchosmx.com/wp-content/uploads/2019/10/bandaholics.jpg
GEO:29.4241219;-98.4936282
X-APPLE-STRUCTURED-LOCATION;VALUE=URI;X-ADDRESS=Sanchos 628 Jackson St San Antonio TX 78212 United States;X-APPLE-RADIUS=500;X-TITLE=628 Jackson St:geo:-98.4936282,29.4241219
END:VEVENT
BEGIN:VEVENT
DTSTART;TZID=America/Chicago:20230111T190000
DTEND;TZID=America/Chicago:20230111T220000
DTSTAMP:20260421T000549
CREATED:20220428T042416Z
LAST-MODIFIED:20230601T194133Z
UID:10015588-1673463600-1673474400@sanchosmx.com
SUMMARY:RDO Trio
DESCRIPTION:Blues\, R&B\, pop\, 70s and more. \nWebsite
URL:https://sanchosmx.com/sanchos-event/rdo-trio-14/2023-01-11/
CATEGORIES:live music
ATTACH;FMTTYPE=image/jpeg:https://sanchosmx.com/wp-content/uploads/2015/11/rdo-trio-web.jpg
END:VEVENT
BEGIN:VEVENT
DTSTART;TZID=America/Chicago:20230110T190000
DTEND;TZID=America/Chicago:20230110T210000
DTSTAMP:20260421T000549
CREATED:20230109T185357Z
LAST-MODIFIED:20230109T185357Z
UID:10016009-1673377200-1673384400@sanchosmx.com
SUMMARY:The Flow
DESCRIPTION:duo
URL:https://sanchosmx.com/sanchos-event/the-flow-jan-23/
LOCATION:Sanchos\, 628 Jackson St\, San Antonio\, TX\, 78212\, United States
CATEGORIES:live music
ATTACH;FMTTYPE=image/jpeg:https://sanchosmx.com/wp-content/uploads/2022/01/the-flow-e1643141533474.jpg
GEO:29.4241219;-98.4936282
X-APPLE-STRUCTURED-LOCATION;VALUE=URI;X-ADDRESS=Sanchos 628 Jackson St San Antonio TX 78212 United States;X-APPLE-RADIUS=500;X-TITLE=628 Jackson St:geo:-98.4936282,29.4241219
END:VEVENT
BEGIN:VEVENT
DTSTART;TZID=America/Chicago:20230110T190000
DTEND;TZID=America/Chicago:20230110T210000
DTSTAMP:20260421T000549
CREATED:20230103T023018Z
LAST-MODIFIED:20230103T023018Z
UID:10016003-1673377200-1673384400@sanchosmx.com
SUMMARY:Rain Dogs
DESCRIPTION:Glam Folk Duo from San Antonio
URL:https://sanchosmx.com/sanchos-event/rain-dogs-jan-2023/
CATEGORIES:live music
ATTACH;FMTTYPE=image/jpeg:https://sanchosmx.com/wp-content/uploads/2022/01/rain-dogs.jpg
END:VEVENT
BEGIN:VEVENT
DTSTART;TZID=America/Chicago:20230109T210000
DTEND;TZID=America/Chicago:20230109T230000
DTSTAMP:20260421T000549
CREATED:20220809T221622Z
LAST-MODIFIED:20230525T172206Z
UID:10015727-1673298000-1673305200@sanchosmx.com
SUMMARY:Open Mic w/ CJ Duran
DESCRIPTION:Come show off your skills behind the Mic at Sanchos. Hosted by CJ Duran\nSign up sheet available \, check in with host.
URL:https://sanchosmx.com/sanchos-event/open-mic-w-cj-duran/2023-01-09/
LOCATION:Sanchos\, 628 Jackson St\, San Antonio\, TX\, 78212\, United States
CATEGORIES:live music,open mic
ATTACH;FMTTYPE=image/jpeg:https://sanchosmx.com/wp-content/uploads/2022/08/CJ-Duran.jpeg
GEO:29.4241219;-98.4936282
X-APPLE-STRUCTURED-LOCATION;VALUE=URI;X-ADDRESS=Sanchos 628 Jackson St San Antonio TX 78212 United States;X-APPLE-RADIUS=500;X-TITLE=628 Jackson St:geo:-98.4936282,29.4241219
END:VEVENT
BEGIN:VEVENT
DTSTART;TZID=America/Chicago:20230109T190000
DTEND;TZID=America/Chicago:20230109T210000
DTSTAMP:20260421T000549
CREATED:20211029T014719Z
LAST-MODIFIED:20230127T222010Z
UID:10015440-1673290800-1673298000@sanchosmx.com
SUMMARY:The Hess Brothers and Company Jazz Session
DESCRIPTION:Dynamic combo of some of the most award winning jazz musicians in San Antonio. 
URL:https://sanchosmx.com/sanchos-event/prado-hess-jazz-duo/2023-01-09/
LOCATION:Sanchos\, 628 Jackson St\, San Antonio\, TX\, 78212\, United States
CATEGORIES:live music
ATTACH;FMTTYPE=image/jpeg:https://sanchosmx.com/wp-content/uploads/2021/10/245779532_2112330442259112_821500283828505130_n.jpg
GEO:29.4241219;-98.4936282
X-APPLE-STRUCTURED-LOCATION;VALUE=URI;X-ADDRESS=Sanchos 628 Jackson St San Antonio TX 78212 United States;X-APPLE-RADIUS=500;X-TITLE=628 Jackson St:geo:-98.4936282,29.4241219
END:VEVENT
BEGIN:VEVENT
DTSTART;TZID=America/Chicago:20230107T200000
DTEND;TZID=America/Chicago:20230107T220000
DTSTAMP:20260421T000549
CREATED:20230103T022728Z
LAST-MODIFIED:20230103T022728Z
UID:10016002-1673121600-1673128800@sanchosmx.com
SUMMARY:Cotilla
DESCRIPTION:Cotilla features original music by Pablo Mancias\, Dan Klein\, Mike Deosdade\, and Charlie Wehn. Our music is influenced by our Latin and Indigenous roots and crosses many genres from Pop and Rock to Reggae and Ska. \nWebsite
URL:https://sanchosmx.com/sanchos-event/cotilla-jan-2023/
CATEGORIES:live music
ATTACH;FMTTYPE=image/jpeg:https://sanchosmx.com/wp-content/uploads/2021/09/168068088_907924859941802_2276965405788340836_n.jpg
END:VEVENT
BEGIN:VEVENT
DTSTART;TZID=America/Chicago:20230106T200000
DTEND;TZID=America/Chicago:20230106T220000
DTSTAMP:20260421T000549
CREATED:20230103T022530Z
LAST-MODIFIED:20230103T022530Z
UID:10016001-1673035200-1673042400@sanchosmx.com
SUMMARY:Blue Sundries
DESCRIPTION:Bluesy San Antonio Rock and Roll \nWebsite
URL:https://sanchosmx.com/sanchos-event/blue-sundries-sept-2022-2-2-2-2-2/
LOCATION:Sanchos\, 628 Jackson St\, San Antonio\, TX\, 78212\, United States
CATEGORIES:live music
ATTACH;FMTTYPE=image/jpeg:https://sanchosmx.com/wp-content/uploads/2021/11/03a89f6e-2ff5-4f0d-935c-c63cc150b590.jpg
GEO:29.4241219;-98.4936282
X-APPLE-STRUCTURED-LOCATION;VALUE=URI;X-ADDRESS=Sanchos 628 Jackson St San Antonio TX 78212 United States;X-APPLE-RADIUS=500;X-TITLE=628 Jackson St:geo:-98.4936282,29.4241219
END:VEVENT
BEGIN:VEVENT
DTSTART;TZID=America/Chicago:20230106T170000
DTEND;TZID=America/Chicago:20230106T200000
DTSTAMP:20260421T000549
CREATED:20230102T044334Z
LAST-MODIFIED:20240123T040655Z
UID:10015942-1673024400-1673035200@sanchosmx.com
SUMMARY:The Fleeks
DESCRIPTION:Texas classic rock n roll indie music \nClick here to listen.
URL:https://sanchosmx.com/sanchos-event/the-fleeks-oct-2022-2-2-2-2-2/2023-01-06/
CATEGORIES:live music
ATTACH;FMTTYPE=image/jpeg:https://sanchosmx.com/wp-content/uploads/2020/06/the-fleeks.jpeg
END:VEVENT
BEGIN:VEVENT
DTSTART;TZID=America/Chicago:20230105T220000
DTEND;TZID=America/Chicago:20230106T010000
DTSTAMP:20260421T000549
CREATED:20220830T215233Z
LAST-MODIFIED:20250225T223401Z
UID:10015764-1672956000-1672966800@sanchosmx.com
SUMMARY:Noche de Karaoke
DESCRIPTION:Come sing your favorites with our host!
URL:https://sanchosmx.com/sanchos-event/noche-de-karaoke/2023-01-05/
CATEGORIES:Karaoke
ATTACH;FMTTYPE=image/jpeg:https://sanchosmx.com/wp-content/uploads/2022/04/kareoke-e1651121037428.jpg
END:VEVENT
BEGIN:VEVENT
DTSTART;TZID=America/Chicago:20230105T190000
DTEND;TZID=America/Chicago:20230105T210000
DTSTAMP:20260421T000549
CREATED:20210427T153307Z
LAST-MODIFIED:20260324T220610Z
UID:10015087-1672945200-1672952400@sanchosmx.com
SUMMARY:Claude Butch Morgan & His Bandaholics
DESCRIPTION:This is the home of Claude Butch Morgan and his BANDAHOLICS!\nEvery Thursday nite we ride off into the wild musical FUN-tier and you get to ride along with us.\nCome one\, come all\, become an EAR-Regular and lend us your ears and cheers. We will do our very best to put a smile on your face and joy in your heart.
URL:https://sanchosmx.com/sanchos-event/claude-butch-morgan-his-bandaholics/2023-01-05/
LOCATION:Sanchos\, 628 Jackson St\, San Antonio\, TX\, 78212\, United States
CATEGORIES:live music
ATTACH;FMTTYPE=image/jpeg:https://sanchosmx.com/wp-content/uploads/2019/10/bandaholics.jpg
GEO:29.4241219;-98.4936282
X-APPLE-STRUCTURED-LOCATION;VALUE=URI;X-ADDRESS=Sanchos 628 Jackson St San Antonio TX 78212 United States;X-APPLE-RADIUS=500;X-TITLE=628 Jackson St:geo:-98.4936282,29.4241219
END:VEVENT
BEGIN:VEVENT
DTSTART;TZID=America/Chicago:20230104T190000
DTEND;TZID=America/Chicago:20230104T220000
DTSTAMP:20260421T000549
CREATED:20220428T042416Z
LAST-MODIFIED:20230601T194133Z
UID:10015587-1672858800-1672869600@sanchosmx.com
SUMMARY:RDO Trio
DESCRIPTION:Blues\, R&B\, pop\, 70s and more. \nWebsite
URL:https://sanchosmx.com/sanchos-event/rdo-trio-14/2023-01-04/
CATEGORIES:live music
ATTACH;FMTTYPE=image/jpeg:https://sanchosmx.com/wp-content/uploads/2015/11/rdo-trio-web.jpg
END:VEVENT
BEGIN:VEVENT
DTSTART;TZID=America/Chicago:20230103T190000
DTEND;TZID=America/Chicago:20230103T210000
DTSTAMP:20260421T000549
CREATED:20230103T233815Z
LAST-MODIFIED:20230103T233815Z
UID:10016006-1672772400-1672779600@sanchosmx.com
SUMMARY:Chris Taylor and Ruben V
DESCRIPTION:Must CT-V\, Chris Taylor and Ruben V Song swap\, every First and Third Tuesday!
URL:https://sanchosmx.com/sanchos-event/chris-taylor-and-ruben-v/
LOCATION:Sanchos\, 628 Jackson St\, San Antonio\, TX\, 78212\, United States
CATEGORIES:live music
ATTACH;FMTTYPE=image/jpeg:https://sanchosmx.com/wp-content/uploads/2023/01/must-ct-v.jpg
GEO:29.4241219;-98.4936282
X-APPLE-STRUCTURED-LOCATION;VALUE=URI;X-ADDRESS=Sanchos 628 Jackson St San Antonio TX 78212 United States;X-APPLE-RADIUS=500;X-TITLE=628 Jackson St:geo:-98.4936282,29.4241219
END:VEVENT
BEGIN:VEVENT
DTSTART;TZID=America/Chicago:20230102T210000
DTEND;TZID=America/Chicago:20230102T230000
DTSTAMP:20260421T000549
CREATED:20220809T221622Z
LAST-MODIFIED:20230525T172206Z
UID:10015726-1672693200-1672700400@sanchosmx.com
SUMMARY:Open Mic w/ CJ Duran
DESCRIPTION:Come show off your skills behind the Mic at Sanchos. Hosted by CJ Duran\nSign up sheet available \, check in with host.
URL:https://sanchosmx.com/sanchos-event/open-mic-w-cj-duran/2023-01-02/
LOCATION:Sanchos\, 628 Jackson St\, San Antonio\, TX\, 78212\, United States
CATEGORIES:live music,open mic
ATTACH;FMTTYPE=image/jpeg:https://sanchosmx.com/wp-content/uploads/2022/08/CJ-Duran.jpeg
GEO:29.4241219;-98.4936282
X-APPLE-STRUCTURED-LOCATION;VALUE=URI;X-ADDRESS=Sanchos 628 Jackson St San Antonio TX 78212 United States;X-APPLE-RADIUS=500;X-TITLE=628 Jackson St:geo:-98.4936282,29.4241219
END:VEVENT
BEGIN:VEVENT
DTSTART;TZID=America/Chicago:20230102T190000
DTEND;TZID=America/Chicago:20230102T210000
DTSTAMP:20260421T000549
CREATED:20211029T014719Z
LAST-MODIFIED:20230127T222010Z
UID:10015439-1672686000-1672693200@sanchosmx.com
SUMMARY:The Hess Brothers and Company Jazz Session
DESCRIPTION:Dynamic combo of some of the most award winning jazz musicians in San Antonio. 
URL:https://sanchosmx.com/sanchos-event/prado-hess-jazz-duo/2023-01-02/
LOCATION:Sanchos\, 628 Jackson St\, San Antonio\, TX\, 78212\, United States
CATEGORIES:live music
ATTACH;FMTTYPE=image/jpeg:https://sanchosmx.com/wp-content/uploads/2021/10/245779532_2112330442259112_821500283828505130_n.jpg
GEO:29.4241219;-98.4936282
X-APPLE-STRUCTURED-LOCATION;VALUE=URI;X-ADDRESS=Sanchos 628 Jackson St San Antonio TX 78212 United States;X-APPLE-RADIUS=500;X-TITLE=628 Jackson St:geo:-98.4936282,29.4241219
END:VEVENT
BEGIN:VEVENT
DTSTART;TZID=America/Chicago:20221231T210000
DTEND;TZID=America/Chicago:20230101T010000
DTSTAMP:20260421T000549
CREATED:20221202T185334Z
LAST-MODIFIED:20221202T185501Z
UID:10015936-1672520400-1672534800@sanchosmx.com
SUMMARY:Professor Underfunk
DESCRIPTION:One of the best blues musicians & bassists you'll hear in Texas! Based in San Antonio\, Cecil Yancey draws from a wide range of musical influences and an equally extensive background of performance experience. \nThe Professor UnderFunk\, Cecil Yancey\, is a singer\, musician\, songwriter from San Antonio Texas. Cecil has been on stage performing since the age of 9 and has 40+ years of professional performance experience. Cecil has just completed the master recordings for his Debut Release "Elephant Tracks" and is gearing up for a promotional tour in support of his new music. Cecil is geared up to provide gaming\, video\, TV\, radio and commercial music and songwriting for Music Supervisors\, Ad Agencies and general business productions. His influences and music are reflective of such artist greats as Jimi Hendrix\, James Brown\, Stevie Wonder\, Stevie Ray Vaughn and Marvin Gaye \nWebsite
URL:https://sanchosmx.com/sanchos-event/professor-underfunk/
LOCATION:Sanchos\, 628 Jackson St\, San Antonio\, TX\, 78212\, United States
CATEGORIES:live music
ATTACH;FMTTYPE=image/jpeg:https://sanchosmx.com/wp-content/uploads/2019/06/professor-underfunk-e1559795943210.jpg
GEO:29.4241219;-98.4936282
X-APPLE-STRUCTURED-LOCATION;VALUE=URI;X-ADDRESS=Sanchos 628 Jackson St San Antonio TX 78212 United States;X-APPLE-RADIUS=500;X-TITLE=628 Jackson St:geo:-98.4936282,29.4241219
END:VEVENT
BEGIN:VEVENT
DTSTART;TZID=America/Chicago:20221231T200000
DTEND;TZID=America/Chicago:20230101T010000
DTSTAMP:20260421T000549
CREATED:20221202T025017Z
LAST-MODIFIED:20230101T001135Z
UID:10015934-1672516800-1672534800@sanchosmx.com
SUMMARY:New Year's Eve 2022
DESCRIPTION:Welcome 2023 celebrating on Sanchos Skyline Deck\, with great views of the downtown San Antonio Fireworks show! Reserved seats are just $10/person and include a midnight champagne pour. ONLINE TICKET SALES HAVE ENDED. LIMITED SEATS AVAILABLE AT THE DOOR AT 8PM.
URL:https://sanchosmx.com/sanchos-event/new-years-eve-2022/
LOCATION:Sanchos\, 628 Jackson St\, San Antonio\, TX\, 78212\, United States
CATEGORIES:live music
GEO:29.4241219;-98.4936282
X-APPLE-STRUCTURED-LOCATION;VALUE=URI;X-ADDRESS=Sanchos 628 Jackson St San Antonio TX 78212 United States;X-APPLE-RADIUS=500;X-TITLE=628 Jackson St:geo:-98.4936282,29.4241219
END:VEVENT
BEGIN:VEVENT
DTSTART;TZID=America/Chicago:20221230T200000
DTEND;TZID=America/Chicago:20221230T220000
DTSTAMP:20260421T000549
CREATED:20221209T041650Z
LAST-MODIFIED:20221209T041650Z
UID:10015938-1672430400-1672437600@sanchosmx.com
SUMMARY:Blue Sundries
DESCRIPTION:Bluesy San Antonio Rock and Roll \nWebsite
URL:https://sanchosmx.com/sanchos-event/blue-sundries-sept-2022-2-2-2-2/
LOCATION:Sanchos\, 628 Jackson St\, San Antonio\, TX\, 78212\, United States
CATEGORIES:live music
ATTACH;FMTTYPE=image/jpeg:https://sanchosmx.com/wp-content/uploads/2021/11/03a89f6e-2ff5-4f0d-935c-c63cc150b590.jpg
GEO:29.4241219;-98.4936282
X-APPLE-STRUCTURED-LOCATION;VALUE=URI;X-ADDRESS=Sanchos 628 Jackson St San Antonio TX 78212 United States;X-APPLE-RADIUS=500;X-TITLE=628 Jackson St:geo:-98.4936282,29.4241219
END:VEVENT
BEGIN:VEVENT
DTSTART;TZID=America/Chicago:20221229T220000
DTEND;TZID=America/Chicago:20221230T010000
DTSTAMP:20260421T000549
CREATED:20220830T215233Z
LAST-MODIFIED:20250225T223401Z
UID:10015763-1672351200-1672362000@sanchosmx.com
SUMMARY:Noche de Karaoke
DESCRIPTION:Come sing your favorites with our host!
URL:https://sanchosmx.com/sanchos-event/noche-de-karaoke/2022-12-29/
CATEGORIES:Karaoke
ATTACH;FMTTYPE=image/jpeg:https://sanchosmx.com/wp-content/uploads/2022/04/kareoke-e1651121037428.jpg
END:VEVENT
END:VCALENDAR