BEGIN:VCALENDAR
VERSION:2.0
PRODID:-//Sanchos Cocina y Cantina - ECPv6.15.20//NONSGML v1.0//EN
CALSCALE:GREGORIAN
METHOD:PUBLISH
X-WR-CALNAME:Sanchos Cocina y Cantina
X-ORIGINAL-URL:https://sanchosmx.com
X-WR-CALDESC:Events for Sanchos Cocina y Cantina
REFRESH-INTERVAL;VALUE=DURATION:PT1H
X-Robots-Tag:noindex
X-PUBLISHED-TTL:PT1H
BEGIN:VTIMEZONE
TZID:America/Chicago
BEGIN:DAYLIGHT
TZOFFSETFROM:-0600
TZOFFSETTO:-0500
TZNAME:CDT
DTSTART:20180311T080000
END:DAYLIGHT
BEGIN:STANDARD
TZOFFSETFROM:-0500
TZOFFSETTO:-0600
TZNAME:CST
DTSTART:20181104T070000
END:STANDARD
BEGIN:DAYLIGHT
TZOFFSETFROM:-0600
TZOFFSETTO:-0500
TZNAME:CDT
DTSTART:20190310T080000
END:DAYLIGHT
BEGIN:STANDARD
TZOFFSETFROM:-0500
TZOFFSETTO:-0600
TZNAME:CST
DTSTART:20191103T070000
END:STANDARD
BEGIN:DAYLIGHT
TZOFFSETFROM:-0600
TZOFFSETTO:-0500
TZNAME:CDT
DTSTART:20200308T080000
END:DAYLIGHT
BEGIN:STANDARD
TZOFFSETFROM:-0500
TZOFFSETTO:-0600
TZNAME:CST
DTSTART:20201101T070000
END:STANDARD
END:VTIMEZONE
BEGIN:VEVENT
DTSTART;TZID=America/Chicago:20191225T200000
DTEND;TZID=America/Chicago:20191225T230000
DTSTAMP:20260425T203041
CREATED:20180331T074020Z
LAST-MODIFIED:20191224T012926Z
UID:10014736-1577304000-1577314800@sanchosmx.com
SUMMARY:The Chris Cuevas Project with Will Owen Gage
DESCRIPTION:Blues\, Funk\, Soul\, Jazz with the Chris Cuevas Project
URL:https://sanchosmx.com/sanchos-event/chris-cuevas-project-12-25-19/
CATEGORIES:live music
ATTACH;FMTTYPE=image/jpeg:https://sanchosmx.com/wp-content/uploads/2018/03/chris-cuevas-christmas-e1577150945943.jpg
END:VEVENT
BEGIN:VEVENT
DTSTART;TZID=America/Chicago:20191223T190000
DTEND;TZID=America/Chicago:20191223T220000
DTSTAMP:20260425T203041
CREATED:20180515T213851Z
LAST-MODIFIED:20200319T024945Z
UID:10012703-1577127600-1577138400@sanchosmx.com
SUMMARY:Jazz Time Jam
DESCRIPTION:Open Jazz Jam with George Prado and Friends. Jazz from Yesterday to Tomorrow.
URL:https://sanchosmx.com/sanchos-event/jazz-dogz-2017-05-29-3-2-2-2-2-2-2-2018-10-29-2/2019-12-23/
CATEGORIES:live music
ATTACH;FMTTYPE=image/jpeg:https://sanchosmx.com/wp-content/uploads/2018/05/jazz-time-group-400.jpg
END:VEVENT
BEGIN:VEVENT
DTSTART;TZID=America/Chicago:20191222T190000
DTEND;TZID=America/Chicago:20191222T220000
DTSTAMP:20260425T203041
CREATED:20191220T184543Z
LAST-MODIFIED:20191220T184543Z
UID:10014767-1577041200-1577052000@sanchosmx.com
SUMMARY:Beau Rodriguez Band
DESCRIPTION:Beau Anthony Rodriguez is a San Antonio local award winning guitarist. He recently landed a guitar endorsement with lower groove guitars out of Dodge City\, KS. Beau's been avidly playing guitar for 12 years now. Winning first place in San Antonio's guitar wars in 2010 and finishing in the top three for two years after\, he also plays in two bands in the city. Beau is self taught\, but did play the double bass in orchestra for three years in middle school. "At that time I hated it\, I would get teased because the instrument was so big and I was small. But I loved the way it sounded. I must to admit\, without that entry to music who knows where I would be. I started playing guitar at around age 16. It was captivating and when I wrote my first song and people were moved by it\, that's when I knew I had something there. You can feel so many emotions at  any given time\, and I feel playing music is the best way portray your feelings \nWebsite
URL:https://sanchosmx.com/sanchos-event/beau-rodriguez-2-2-2-2-3-2/
CATEGORIES:live music
END:VEVENT
BEGIN:VEVENT
DTSTART;TZID=America/Chicago:20191221T220000
DTEND;TZID=America/Chicago:20191222T000000
DTSTAMP:20260425T203041
CREATED:20191123T063948Z
LAST-MODIFIED:20191123T063948Z
UID:10014751-1576965600-1576972800@sanchosmx.com
SUMMARY:Los #3 Dinners
DESCRIPTION:Los #3 Dinners perform original songs about livin' and lovin' in the Alamo Town. \n 
URL:https://sanchosmx.com/sanchos-event/los-3-dinners-18-2-2-2-2-2-2-2-2-2-2-2-2-2-2-2-2-2-2-2/
CATEGORIES:live music
ATTACH;FMTTYPE=image/jpeg:https://sanchosmx.com/wp-content/uploads/2018/03/los-3-dinners.jpg
END:VEVENT
BEGIN:VEVENT
DTSTART;TZID=America/Chicago:20191221T190000
DTEND;TZID=America/Chicago:20191221T210000
DTSTAMP:20260425T203041
CREATED:20191123T063835Z
LAST-MODIFIED:20191123T063835Z
UID:10014750-1576954800-1576962000@sanchosmx.com
SUMMARY:Unknown Soldiers
DESCRIPTION:The Unknown Soldiers play Indie Rock.  It sounds like what the heart of San Antonio looks and feels like. Eclectic\, melodic\, haunting and rich in culture. \nWebsite
URL:https://sanchosmx.com/sanchos-event/unknown-soldiers/
CATEGORIES:live music
ATTACH;FMTTYPE=image/jpeg:https://sanchosmx.com/wp-content/uploads/2019/11/unknown-soldiers-400.jpg
END:VEVENT
BEGIN:VEVENT
DTSTART;TZID=America/Chicago:20191220T220000
DTEND;TZID=America/Chicago:20191221T000000
DTSTAMP:20260425T203041
CREATED:20191123T063212Z
LAST-MODIFIED:20191123T063212Z
UID:10014749-1576879200-1576886400@sanchosmx.com
SUMMARY:The Lucky Odds
DESCRIPTION:a rockabilly inspired rock-n-roll band from San Antonio \nWebsite
URL:https://sanchosmx.com/sanchos-event/the-lucky-odds-4-2-2-2-2-2-2-2-2-2-2/
CATEGORIES:live music
ATTACH;FMTTYPE=image/jpeg:https://sanchosmx.com/wp-content/uploads/2017/03/lucky-odds.jpeg
END:VEVENT
BEGIN:VEVENT
DTSTART;TZID=America/Chicago:20191220T190000
DTEND;TZID=America/Chicago:20191220T210000
DTSTAMP:20260425T203041
CREATED:20191123T063143Z
LAST-MODIFIED:20191123T063143Z
UID:10014748-1576868400-1576875600@sanchosmx.com
SUMMARY:Noah Peterson Solo Sax Sessions
DESCRIPTION:The Solo Sax Sessions is an innovation One Man Jams excursion into funky music.  Tropical tunes\, dance music\, and Louisiana Blues are all on the menu.  Great ready for some electronic musical wizardry.
URL:https://sanchosmx.com/sanchos-event/noah-peterson-solos-sax-sessions-2-2-2-2-2-2-2-3-2/
CATEGORIES:live music
ATTACH;FMTTYPE=image/jpeg:https://sanchosmx.com/wp-content/uploads/2019/02/noah-peterson.jpg
END:VEVENT
BEGIN:VEVENT
DTSTART;TZID=America/Chicago:20191219T213000
DTEND;TZID=America/Chicago:20191219T233000
DTSTAMP:20260425T203041
CREATED:20191123T063111Z
LAST-MODIFIED:20191123T063111Z
UID:10014747-1576791000-1576798200@sanchosmx.com
SUMMARY:The Acoustic Duo Experience
DESCRIPTION:We are an acoustic duo that plays widely known classic/modern rock and pop cover songs ranging from the 1950’s to now. \nYouTube
URL:https://sanchosmx.com/sanchos-event/the-acoustic-duo-experience-2-2-2-2-3-2/
CATEGORIES:live music
ATTACH;FMTTYPE=image/png:https://sanchosmx.com/wp-content/uploads/2019/07/acoustic-duo-experience.png
END:VEVENT
BEGIN:VEVENT
DTSTART;TZID=America/Chicago:20191219T190000
DTEND;TZID=America/Chicago:20191219T210000
DTSTAMP:20260425T203041
CREATED:20191028T053148Z
LAST-MODIFIED:20200626T175038Z
UID:10014685-1576782000-1576789200@sanchosmx.com
SUMMARY:Claude Morgan & the Bandaholics
DESCRIPTION:This is the home of Claude Butch Morgan and his BANDAHOLICS!\nEvery Thursday nite we ride off into the wild musical FUN-tier and you get to ride along with us.\nCome one\, come all\, become an EAR-Regular and lend us your ears and cheers. We will do our very best to put a smile on your face and joy in your heart.\nTrevor Doak Morgan-Drums\nRobert Robar Adams-Bass\nClaude Butch Morgan-Guitar \nThis is a “weather permitting” event. All seating is outside\, masks required for entry and when at your table.
URL:https://sanchosmx.com/sanchos-event/claude-morgan-the-bandaholics/2019-12-19/
CATEGORIES:live music
ATTACH;FMTTYPE=image/jpeg:https://sanchosmx.com/wp-content/uploads/2019/10/bandaholics.jpg
END:VEVENT
BEGIN:VEVENT
DTSTART;TZID=America/Chicago:20191218T210000
DTEND;TZID=America/Chicago:20191218T230000
DTSTAMP:20260425T203041
CREATED:20180331T074020Z
LAST-MODIFIED:20200224T041142Z
UID:10013009-1576702800-1576710000@sanchosmx.com
SUMMARY:The Chris Cuevas Project
DESCRIPTION:Blues\, Funk\, Soul\, Jazz with the Chris Cuevas Project
URL:https://sanchosmx.com/sanchos-event/chris-cuevas-project-36-3-2019-10-30/2019-12-18/
CATEGORIES:live music
END:VEVENT
BEGIN:VEVENT
DTSTART;TZID=America/Chicago:20191218T183000
DTEND;TZID=America/Chicago:20191218T203000
DTSTAMP:20260425T203041
CREATED:20191027T180951Z
LAST-MODIFIED:20200317T041012Z
UID:10013582-1576693800-1576701000@sanchosmx.com
SUMMARY:Ruben V
DESCRIPTION:“The power of music is amazing. I’ve known my whole life that this is what I’ve wanted to do and I’ve had confirmations at every step that this is what I’m supposed to do.”\nhttp://www.rubenv.com/
URL:https://sanchosmx.com/sanchos-event/ruben-v-5-2019-10-23-2/2019-12-18/
CATEGORIES:live music
ATTACH;FMTTYPE=image/jpeg:https://sanchosmx.com/wp-content/uploads/2015/08/ruben-v.jpg
END:VEVENT
BEGIN:VEVENT
DTSTART;TZID=America/Chicago:20191217T200000
DTEND;TZID=America/Chicago:20191217T220000
DTSTAMP:20260425T203041
CREATED:20191116T070515Z
LAST-MODIFIED:20191116T070515Z
UID:10014729-1576612800-1576620000@sanchosmx.com
SUMMARY:La Pantera Livecast
DESCRIPTION:La Pantera 87.9 Transmitting Live.
URL:https://sanchosmx.com/sanchos-event/la-pantera-livecast/2019-12-17/
CATEGORIES:DJ
ATTACH;FMTTYPE=image/jpeg:https://sanchosmx.com/wp-content/uploads/2019/11/la-pantera-400.jpg
END:VEVENT
BEGIN:VEVENT
DTSTART;TZID=America/Chicago:20191215T190000
DTEND;TZID=America/Chicago:20191215T210000
DTSTAMP:20260425T203041
CREATED:20191215T182823Z
LAST-MODIFIED:20191215T182823Z
UID:10014765-1576436400-1576443600@sanchosmx.com
SUMMARY:Fishbrain
DESCRIPTION:Fishbrain is a San Antonio band formed by Nicholas Federico (guitar/vocals)\, Ryan Ortiz (drums)\, and\nBobby Iruegas (bass). The band is known for heavy reverb\, and mix the breezy surf\nsounds of ’60s rock with heavy psychedelic effects of today. \nWebsite
URL:https://sanchosmx.com/sanchos-event/fishbrain-2-2-2-2-3/
CATEGORIES:live music
END:VEVENT
BEGIN:VEVENT
DTSTART;TZID=America/Chicago:20191214T213000
DTEND;TZID=America/Chicago:20191215T013000
DTSTAMP:20260425T203041
CREATED:20191204T023319Z
LAST-MODIFIED:20191204T023319Z
UID:10014760-1576359000-1576373400@sanchosmx.com
SUMMARY:AKAW! vs. Nuclear Juarez
DESCRIPTION:Sanchos welcomes one of Austin’s most dynamic instrumental-surf acts\, AKAW! Nuclear Juarez gets the action started.
URL:https://sanchosmx.com/sanchos-event/akaw-vs-nuclear-juarez/
CATEGORIES:live music
ATTACH;FMTTYPE=image/jpeg:https://sanchosmx.com/wp-content/uploads/2019/12/AKAW-vs.-Nuclear-Juarez.jpg
END:VEVENT
BEGIN:VEVENT
DTSTART;TZID=America/Chicago:20191214T190000
DTEND;TZID=America/Chicago:20191214T210000
DTSTAMP:20260425T203041
CREATED:20191214T170714Z
LAST-MODIFIED:20191214T170714Z
UID:10014764-1576350000-1576357200@sanchosmx.com
SUMMARY:Noah Peterson Solo Sax Sessions
DESCRIPTION:The Solo Sax Sessions is an innovation One Man Jams excursion into funky music.  Tropical tunes\, dance music\, and Louisiana Blues are all on the menu.  Great ready for some electronic musical wizardry.
URL:https://sanchosmx.com/sanchos-event/noah-peterson-solos-sax-sessions-dec-14-2019/
CATEGORIES:live music
ATTACH;FMTTYPE=image/jpeg:https://sanchosmx.com/wp-content/uploads/2019/02/noah-peterson.jpg
END:VEVENT
BEGIN:VEVENT
DTSTART;TZID=America/Chicago:20191213T220000
DTEND;TZID=America/Chicago:20191214T000000
DTSTAMP:20260425T203041
CREATED:20191123T055715Z
LAST-MODIFIED:20191123T055715Z
UID:10014746-1576274400-1576281600@sanchosmx.com
SUMMARY:Brother Dave and the Barrio Blasters
DESCRIPTION:Brother Dave and the Barrio Blasters! are a Hard Groovin'\, Sharp Dressed band with a songbook as diverse as our beloved hometown San Antonio\, Texas. Rock\, Soul\, Blues\, Honky Tonk\, and Funk all come together to create a tasty groove that is Puro San Antonio!
URL:https://sanchosmx.com/sanchos-event/brother-dave-barrio-blasters-10-2-2-2-2-2-3-2-2-2-2-2-2-2-2-2-2-2-3-2/
CATEGORIES:live music
ATTACH;FMTTYPE=image/jpeg:https://sanchosmx.com/wp-content/uploads/2016/10/brother-dave.jpg
END:VEVENT
BEGIN:VEVENT
DTSTART;TZID=America/Chicago:20191213T190000
DTEND;TZID=America/Chicago:20191213T210000
DTSTAMP:20260425T203041
CREATED:20191123T055610Z
LAST-MODIFIED:20191123T055610Z
UID:10014745-1576263600-1576270800@sanchosmx.com
SUMMARY:Sol y Motion
DESCRIPTION:Sol y Motion\, Houston's hottest Alternative Reggae/Chill band\, is making its debut in San Antonio at Sancho's.\nWebsite
URL:https://sanchosmx.com/sanchos-event/sol-y-motion-2-2-2-2/
CATEGORIES:live music
ATTACH;FMTTYPE=image/jpeg:https://sanchosmx.com/wp-content/uploads/2019/04/Sol-y-Motion-Press-Photo.jpg
END:VEVENT
BEGIN:VEVENT
DTSTART;TZID=America/Chicago:20191212T213000
DTEND;TZID=America/Chicago:20191212T233000
DTSTAMP:20260425T203041
CREATED:20191123T055248Z
LAST-MODIFIED:20191123T055248Z
UID:10014744-1576186200-1576193400@sanchosmx.com
SUMMARY:OTP
DESCRIPTION:We're a Somerville MA based band that lives by one idea: people come out for live music to have a good time. We play folk punk/country punk - Simple\, energetic pop storytelling that is full of sing-alongs\, drinking songs\, songs about life\, songs about death and a song about a dude pissing on the couch (yeah\, you). Come to a show and you'll have a good time\, we promise. \nWebsite
URL:https://sanchosmx.com/sanchos-event/otp/
CATEGORIES:live music
ATTACH;FMTTYPE=image/jpeg:https://sanchosmx.com/wp-content/uploads/2019/11/otp-400.jpg
END:VEVENT
BEGIN:VEVENT
DTSTART;TZID=America/Chicago:20191212T190000
DTEND;TZID=America/Chicago:20191212T210000
DTSTAMP:20260425T203041
CREATED:20191028T053148Z
LAST-MODIFIED:20200626T175038Z
UID:10014684-1576177200-1576184400@sanchosmx.com
SUMMARY:Claude Morgan & the Bandaholics
DESCRIPTION:This is the home of Claude Butch Morgan and his BANDAHOLICS!\nEvery Thursday nite we ride off into the wild musical FUN-tier and you get to ride along with us.\nCome one\, come all\, become an EAR-Regular and lend us your ears and cheers. We will do our very best to put a smile on your face and joy in your heart.\nTrevor Doak Morgan-Drums\nRobert Robar Adams-Bass\nClaude Butch Morgan-Guitar \nThis is a “weather permitting” event. All seating is outside\, masks required for entry and when at your table.
URL:https://sanchosmx.com/sanchos-event/claude-morgan-the-bandaholics/2019-12-12/
CATEGORIES:live music
ATTACH;FMTTYPE=image/jpeg:https://sanchosmx.com/wp-content/uploads/2019/10/bandaholics.jpg
END:VEVENT
BEGIN:VEVENT
DTSTART;TZID=America/Chicago:20191211T210000
DTEND;TZID=America/Chicago:20191211T230000
DTSTAMP:20260425T203041
CREATED:20180331T074020Z
LAST-MODIFIED:20200224T041142Z
UID:10013008-1576098000-1576105200@sanchosmx.com
SUMMARY:The Chris Cuevas Project
DESCRIPTION:Blues\, Funk\, Soul\, Jazz with the Chris Cuevas Project
URL:https://sanchosmx.com/sanchos-event/chris-cuevas-project-36-3-2019-10-30/2019-12-11/
CATEGORIES:live music
END:VEVENT
BEGIN:VEVENT
DTSTART;TZID=America/Chicago:20191211T183000
DTEND;TZID=America/Chicago:20191211T203000
DTSTAMP:20260425T203041
CREATED:20191209T185404Z
LAST-MODIFIED:20191209T185404Z
UID:10014762-1576089000-1576096200@sanchosmx.com
SUMMARY:Will Owen Gage Trio
DESCRIPTION:Roots\, Blues\, Rock\, American Traditional.  Playing originals and classic jams \nWebsite
URL:https://sanchosmx.com/sanchos-event/will-owen-gage-trio-4-2-2-2-2-3-2-3-2-2-2-2-3/
CATEGORIES:live music
ATTACH;FMTTYPE=image/jpeg:https://sanchosmx.com/wp-content/uploads/2016/02/will-owen-gage.jpg
END:VEVENT
BEGIN:VEVENT
DTSTART;TZID=America/Chicago:20191210T200000
DTEND;TZID=America/Chicago:20191210T220000
DTSTAMP:20260425T203041
CREATED:20191116T070515Z
LAST-MODIFIED:20191116T070515Z
UID:10014728-1576008000-1576015200@sanchosmx.com
SUMMARY:La Pantera Livecast
DESCRIPTION:La Pantera 87.9 Transmitting Live.
URL:https://sanchosmx.com/sanchos-event/la-pantera-livecast/2019-12-10/
CATEGORIES:DJ
ATTACH;FMTTYPE=image/jpeg:https://sanchosmx.com/wp-content/uploads/2019/11/la-pantera-400.jpg
END:VEVENT
BEGIN:VEVENT
DTSTART;TZID=America/Chicago:20191210T180000
DTEND;TZID=America/Chicago:20191210T200000
DTSTAMP:20260425T203041
CREATED:20191123T053203Z
LAST-MODIFIED:20191123T053203Z
UID:10014743-1576000800-1576008000@sanchosmx.com
SUMMARY:Silent Book Club
DESCRIPTION:This month we will have a White Elephant Book Exchange. Bring a wrapped book (used or new\, paperback or hardback) if you wish to participate. Be sure to also bring whatever you are currently reading! \nJoin us for San Antonio’s Silent Book Club meeting. All adults are welcome! At Silent Book Club\, you get to meet other book lovers without the pressure of having to finish a particular book or being prepared for in-depth discussion. At Silent Book Club\, we spend a few minutes chatting about what we are reading or just books in general\, then spend an hour sitting with one another reading (disclaimer: we haven't managed to do any reading at previous events--we enjoy talking about books!)\, then some more social time. Bring whatever you are reading right now and come spend some time with fellow book lovers! \nIf weather is nice\, we will be outside in the "alley" stage seating area. Look for signs. If raining\, we will be inside. Your host is Susan Smyli
URL:https://sanchosmx.com/sanchos-event/silent-book-club-12-10-19/
CATEGORIES:book club
ATTACH;FMTTYPE=image/jpeg:https://sanchosmx.com/wp-content/uploads/2019/11/silent-book-club.jpg
END:VEVENT
BEGIN:VEVENT
DTSTART;TZID=America/Chicago:20191209T190000
DTEND;TZID=America/Chicago:20191209T220000
DTSTAMP:20260425T203041
CREATED:20180515T213851Z
LAST-MODIFIED:20200319T024945Z
UID:10012702-1575918000-1575928800@sanchosmx.com
SUMMARY:Jazz Time Jam
DESCRIPTION:Open Jazz Jam with George Prado and Friends. Jazz from Yesterday to Tomorrow.
URL:https://sanchosmx.com/sanchos-event/jazz-dogz-2017-05-29-3-2-2-2-2-2-2-2018-10-29-2/2019-12-09/
CATEGORIES:live music
ATTACH;FMTTYPE=image/jpeg:https://sanchosmx.com/wp-content/uploads/2018/05/jazz-time-group-400.jpg
END:VEVENT
BEGIN:VEVENT
DTSTART;TZID=America/Chicago:20191208T190000
DTEND;TZID=America/Chicago:20191208T220000
DTSTAMP:20260425T203041
CREATED:20191123T052904Z
LAST-MODIFIED:20191123T052904Z
UID:10014742-1575831600-1575842400@sanchosmx.com
SUMMARY:Beau Rodriguez Band
DESCRIPTION:Beau Anthony Rodriguez is a San Antonio local award winning guitarist. He recently landed a guitar endorsement with lower groove guitars out of Dodge City\, KS. Beau's been avidly playing guitar for 12 years now. Winning first place in San Antonio's guitar wars in 2010 and finishing in the top three for two years after\, he also plays in two bands in the city. Beau is self taught\, but did play the double bass in orchestra for three years in middle school. "At that time I hated it\, I would get teased because the instrument was so big and I was small. But I loved the way it sounded. I must to admit\, without that entry to music who knows where I would be. I started playing guitar at around age 16. It was captivating and when I wrote my first song and people were moved by it\, that's when I knew I had something there. You can feel so many emotions at  any given time\, and I feel playing music is the best way portray your feelings \nWebsite
URL:https://sanchosmx.com/sanchos-event/beau-rodriguez-2-2-2-2-3/
CATEGORIES:live music
END:VEVENT
BEGIN:VEVENT
DTSTART;TZID=America/Chicago:20191207T220000
DTEND;TZID=America/Chicago:20191208T000000
DTSTAMP:20260425T203041
CREATED:20191123T052816Z
LAST-MODIFIED:20191123T052816Z
UID:10014741-1575756000-1575763200@sanchosmx.com
SUMMARY:I Ching Gatos
DESCRIPTION:I Ching Gatos play fun quirky songs written by Jose Sanchez as well as a few covers done Gato's style. The band\, established in 1989\, has morphed into many different configurations over 3 decades but the fun and originality has never changed. \nWebsite
URL:https://sanchosmx.com/sanchos-event/i-ching-gatos-2-2-2-3/
CATEGORIES:live music
END:VEVENT
BEGIN:VEVENT
DTSTART;TZID=America/Chicago:20191207T190000
DTEND;TZID=America/Chicago:20191207T210000
DTSTAMP:20260425T203041
CREATED:20191123T052708Z
LAST-MODIFIED:20191123T052708Z
UID:10014740-1575745200-1575752400@sanchosmx.com
SUMMARY:Mark's Brothers
DESCRIPTION:Mark's Brothers draws upon a broad range of influences incorporating swing\, country\, folk\, blues\, and rock from the 1920’s through the 1970’s to form its own blend of American music with some original’s thrown into the mix. \nWebsite
URL:https://sanchosmx.com/sanchos-event/marks-brothers-8-2-2-2-2-2-2-2-2-2-2-2-3-2-2-2-2-2/
CATEGORIES:live music
ATTACH;FMTTYPE=image/jpeg:https://sanchosmx.com/wp-content/uploads/2019/01/marks-brothers-400.jpg
END:VEVENT
BEGIN:VEVENT
DTSTART;TZID=America/Chicago:20191206T220000
DTEND;TZID=America/Chicago:20191207T000000
DTSTAMP:20260425T203041
CREATED:20191203T201823Z
LAST-MODIFIED:20191203T201823Z
UID:10014759-1575669600-1575676800@sanchosmx.com
SUMMARY:Los #3 Dinners
DESCRIPTION:Los #3 Dinners perform original songs about livin' and lovin' in the Alamo Town. \n 
URL:https://sanchosmx.com/sanchos-event/los-3-dinners-18-2-2-2-2-2-2-2-2-2-2-2-2-2-2-2-2-2-2-2-2/
CATEGORIES:live music
ATTACH;FMTTYPE=image/jpeg:https://sanchosmx.com/wp-content/uploads/2018/03/los-3-dinners.jpg
END:VEVENT
BEGIN:VEVENT
DTSTART;TZID=America/Chicago:20191206T193000
DTEND;TZID=America/Chicago:20191206T213000
DTSTAMP:20260425T203041
CREATED:20191123T052445Z
LAST-MODIFIED:20191123T052445Z
UID:10014739-1575660600-1575667800@sanchosmx.com
SUMMARY:Silvercloud
DESCRIPTION:Original songs / Americana Rock / straight from the heart of Texas
URL:https://sanchosmx.com/sanchos-event/silvercloud-2-3/
CATEGORIES:live music
END:VEVENT
BEGIN:VEVENT
DTSTART;TZID=America/Chicago:20191206T170000
DTEND;TZID=America/Chicago:20191206T183000
DTSTAMP:20260425T203041
CREATED:20191123T052332Z
LAST-MODIFIED:20191202T053406Z
UID:10014738-1575651600-1575657000@sanchosmx.com
SUMMARY:Ed Morales and Brance Arnold
DESCRIPTION:Ed Morales of "Ed Morales & The River"\, performing music from his critically-acclaimed albums along with a selection of classics from 70's and 80's
URL:https://sanchosmx.com/sanchos-event/ed-morales-and-brance-arnold-2-2-2-2-2-2-2-2-2/
CATEGORIES:live music
ATTACH;FMTTYPE=image/jpeg:https://sanchosmx.com/wp-content/uploads/2019/02/Ed-Morales-solo.jpg
END:VEVENT
END:VCALENDAR