BEGIN:VCALENDAR
VERSION:2.0
PRODID:-//Sanchos Cocina y Cantina - ECPv6.15.20//NONSGML v1.0//EN
CALSCALE:GREGORIAN
METHOD:PUBLISH
X-WR-CALNAME:Sanchos Cocina y Cantina
X-ORIGINAL-URL:https://sanchosmx.com
X-WR-CALDESC:Events for Sanchos Cocina y Cantina
REFRESH-INTERVAL;VALUE=DURATION:PT1H
X-Robots-Tag:noindex
X-PUBLISHED-TTL:PT1H
BEGIN:VTIMEZONE
TZID:America/Chicago
BEGIN:DAYLIGHT
TZOFFSETFROM:-0600
TZOFFSETTO:-0500
TZNAME:CDT
DTSTART:20190310T080000
END:DAYLIGHT
BEGIN:STANDARD
TZOFFSETFROM:-0500
TZOFFSETTO:-0600
TZNAME:CST
DTSTART:20191103T070000
END:STANDARD
BEGIN:DAYLIGHT
TZOFFSETFROM:-0600
TZOFFSETTO:-0500
TZNAME:CDT
DTSTART:20200308T080000
END:DAYLIGHT
BEGIN:STANDARD
TZOFFSETFROM:-0500
TZOFFSETTO:-0600
TZNAME:CST
DTSTART:20201101T070000
END:STANDARD
BEGIN:DAYLIGHT
TZOFFSETFROM:-0600
TZOFFSETTO:-0500
TZNAME:CDT
DTSTART:20210314T080000
END:DAYLIGHT
BEGIN:STANDARD
TZOFFSETFROM:-0500
TZOFFSETTO:-0600
TZNAME:CST
DTSTART:20211107T070000
END:STANDARD
END:VTIMEZONE
BEGIN:VEVENT
DTSTART;TZID=America/Chicago:20200820T190000
DTEND;TZID=America/Chicago:20200820T210000
DTSTAMP:20260425T070602
CREATED:20200828T051445Z
LAST-MODIFIED:20200828T054638Z
UID:10014869-1597950000-1597957200@sanchosmx.com
SUMMARY:Claude Morgan & the Bandaholics
DESCRIPTION:This is the home of Claude Butch Morgan and his BANDAHOLICS!\nEvery Thursday nite we ride off into the wild musical FUN-tier and you get to ride along with us.\nCome one\, come all\, become an EAR-Regular and lend us your ears and cheers. We will do our very best to put a smile on your face and joy in your heart.\nTrevor Doak Morgan-Drums\nRobert Robar Adams-Bass\nClaude Butch Morgan-Guitar \nThis is a “weather permitting” event. All seating is outside\, masks required for entry and when away from your table.
URL:https://sanchosmx.com/sanchos-event/claude-morgan-the-bandaholics-2/2020-08-20/
CATEGORIES:live music
ATTACH;FMTTYPE=image/jpeg:https://sanchosmx.com/wp-content/uploads/2019/10/bandaholics.jpg
END:VEVENT
BEGIN:VEVENT
DTSTART;TZID=America/Chicago:20200816T140000
DTEND;TZID=America/Chicago:20200816T190000
DTSTAMP:20260425T070603
CREATED:20200807T042814Z
LAST-MODIFIED:20200807T042814Z
UID:10014868-1597586400-1597604400@sanchosmx.com
SUMMARY:Sanchos Domingo 5th Anniversary
DESCRIPTION:Bring your facemasks and dancing shoes!\nWe celebrate 5 years of Sunday afternoon vinyl at Sanchos. After our 2 month break break from the action\, it’ll be great to see y’all again!
URL:https://sanchosmx.com/sanchos-event/sanchos-domingo-5th-anniversary/
CATEGORIES:DJ
END:VEVENT
BEGIN:VEVENT
DTSTART;TZID=America/Chicago:20200816T140000
DTEND;TZID=America/Chicago:20200816T190000
DTSTAMP:20260425T070603
CREATED:20180830T055513Z
LAST-MODIFIED:20210514T221222Z
UID:10013135-1597586400-1597604400@sanchosmx.com
SUMMARY:Sanchos Domingo
DESCRIPTION:Sanchos Cantina is home to your perfect Sunday afternoon soundtrack... Live DJs spinning vinyl records of all genres... From oldies\, Texican music\, blues & rhythm\, soul jazz\, garage rocks\, cumbias... a bit of everything. Sit back and chill while the kitchen cooks up good eats. Order something from the full bar and kick it on the patio\, rooftop deck\, or the dancefloor!\nNo cover and plenty of parking available. Let's groove! \nThis is a “weather permitting” event. All seating is outside\, masks required for entry and when at your table.
URL:https://sanchosmx.com/sanchos-event/sanchos-domingo-7/2020-08-16/
CATEGORIES:DJ
END:VEVENT
BEGIN:VEVENT
DTSTART;TZID=America/Chicago:20200625T190000
DTEND;TZID=America/Chicago:20200625T210000
DTSTAMP:20260425T070603
CREATED:20191028T053148Z
LAST-MODIFIED:20200626T175038Z
UID:10014706-1593111600-1593118800@sanchosmx.com
SUMMARY:Claude Morgan & the Bandaholics
DESCRIPTION:This is the home of Claude Butch Morgan and his BANDAHOLICS!\nEvery Thursday nite we ride off into the wild musical FUN-tier and you get to ride along with us.\nCome one\, come all\, become an EAR-Regular and lend us your ears and cheers. We will do our very best to put a smile on your face and joy in your heart.\nTrevor Doak Morgan-Drums\nRobert Robar Adams-Bass\nClaude Butch Morgan-Guitar \nThis is a “weather permitting” event. All seating is outside\, masks required for entry and when at your table.
URL:https://sanchosmx.com/sanchos-event/claude-morgan-the-bandaholics/2020-06-25/
CATEGORIES:live music
ATTACH;FMTTYPE=image/jpeg:https://sanchosmx.com/wp-content/uploads/2019/10/bandaholics.jpg
END:VEVENT
BEGIN:VEVENT
DTSTART;TZID=America/Chicago:20200620T200000
DTEND;TZID=America/Chicago:20200620T220000
DTSTAMP:20260425T070603
CREATED:20200603T054222Z
LAST-MODIFIED:20200603T054222Z
UID:10014866-1592683200-1592690400@sanchosmx.com
SUMMARY:Los #3 Dinners
DESCRIPTION:Los #3 Dinners perform original songs about livin' and lovin' in the Alamo Town. \n\nThis is a “weather permitting” event. All seating is outside\, masks required for entry and when at your table. \n\n  \n 
URL:https://sanchosmx.com/sanchos-event/los-3-dinners-6-20-2020/
CATEGORIES:live music
ATTACH;FMTTYPE=image/jpeg:https://sanchosmx.com/wp-content/uploads/2018/03/los-3-dinners.jpg
END:VEVENT
BEGIN:VEVENT
DTSTART;TZID=America/Chicago:20200619T200000
DTEND;TZID=America/Chicago:20200619T220000
DTSTAMP:20260425T070603
CREATED:20200603T053918Z
LAST-MODIFIED:20200603T053918Z
UID:10014864-1592596800-1592604000@sanchosmx.com
SUMMARY:Noah Peterson Solo Sax Sessions
DESCRIPTION:The Solo Sax Sessions is an innovation One Man Jams excursion into funky music.  Tropical tunes\, dance music\, and Louisiana Blues are all on the menu.  Great ready for some electronic musical wizardry. \n\nThis is a “weather permitting” event. All seating is outside\, masks required for entry and when at your table.
URL:https://sanchosmx.com/sanchos-event/noah-peterson-solos-sax-sessions-6-19-2020/
CATEGORIES:live music
ATTACH;FMTTYPE=image/jpeg:https://sanchosmx.com/wp-content/uploads/2019/02/noah-peterson.jpg
END:VEVENT
BEGIN:VEVENT
DTSTART;TZID=America/Chicago:20200618T190000
DTEND;TZID=America/Chicago:20200618T210000
DTSTAMP:20260425T070603
CREATED:20191028T053148Z
LAST-MODIFIED:20200626T175038Z
UID:10014705-1592506800-1592514000@sanchosmx.com
SUMMARY:Claude Morgan & the Bandaholics
DESCRIPTION:This is the home of Claude Butch Morgan and his BANDAHOLICS!\nEvery Thursday nite we ride off into the wild musical FUN-tier and you get to ride along with us.\nCome one\, come all\, become an EAR-Regular and lend us your ears and cheers. We will do our very best to put a smile on your face and joy in your heart.\nTrevor Doak Morgan-Drums\nRobert Robar Adams-Bass\nClaude Butch Morgan-Guitar \nThis is a “weather permitting” event. All seating is outside\, masks required for entry and when at your table.
URL:https://sanchosmx.com/sanchos-event/claude-morgan-the-bandaholics/2020-06-18/
CATEGORIES:live music
ATTACH;FMTTYPE=image/jpeg:https://sanchosmx.com/wp-content/uploads/2019/10/bandaholics.jpg
END:VEVENT
BEGIN:VEVENT
DTSTART;TZID=America/Chicago:20200615T190000
DTEND;TZID=America/Chicago:20200615T220000
DTSTAMP:20260425T070603
CREATED:20200523T204034Z
LAST-MODIFIED:20200626T180451Z
UID:10014859-1592247600-1592258400@sanchosmx.com
SUMMARY:Jazz Time (no jam)
DESCRIPTION:Jazz from Yesterday to Tomorrow with George Prado and Friends.  No jamming for the time being. This is a "weather permitting" event. All seating is outside\, masks required for entry and when at your table.
URL:https://sanchosmx.com/sanchos-event/jazz-time/2020-06-15/
CATEGORIES:live music
ATTACH;FMTTYPE=image/jpeg:https://sanchosmx.com/wp-content/uploads/2018/05/jazz-time-group-400.jpg
END:VEVENT
BEGIN:VEVENT
DTSTART;TZID=America/Chicago:20200613T200000
DTEND;TZID=America/Chicago:20200613T220000
DTSTAMP:20260425T070603
CREATED:20200530T154740Z
LAST-MODIFIED:20200530T154740Z
UID:10014862-1592078400-1592085600@sanchosmx.com
SUMMARY:Brian Volante Band
DESCRIPTION:Weather permitting\, Outside seating only\, Masks require for entry and when you leave your table\, no groups larger than 6 people. \nThe Brian Volante Band (BVB) serves up some covers by well known artists such as Hendrix\, SRV\, the King Brothers\, Kenny Wayne Shepherd\, Robin Trower\, ZZ Top and a few others but we are most excited about our CD of Originals coming soon! We've got some Improvs\, electrified jams and some good ole hard hitting Blues Rock coming your way! \nWebsite
URL:https://sanchosmx.com/sanchos-event/brian-volante-band-6-13-2020/
CATEGORIES:live music
ATTACH;FMTTYPE=image/jpeg:https://sanchosmx.com/wp-content/uploads/2018/06/brian-volante-band.jpg
END:VEVENT
BEGIN:VEVENT
DTSTART;TZID=America/Chicago:20200612T200000
DTEND;TZID=America/Chicago:20200612T220000
DTSTAMP:20260425T070603
CREATED:20200603T054059Z
LAST-MODIFIED:20200603T054059Z
UID:10014865-1591992000-1591999200@sanchosmx.com
SUMMARY:Ed Morales and Brance Arnold
DESCRIPTION:Ed Morales of "Ed Morales & The River"\, performing music from his critically-acclaimed albums along with a selection of classics from 70's and 80's \n\nThis is a “weather permitting” event. All seating is outside\, masks required for entry and when at your table.
URL:https://sanchosmx.com/sanchos-event/ed-morales-and-brance-arnold-6-12-2020/
CATEGORIES:live music
ATTACH;FMTTYPE=image/jpeg:https://sanchosmx.com/wp-content/uploads/2019/02/Ed-Morales-solo.jpg
END:VEVENT
BEGIN:VEVENT
DTSTART;TZID=America/Chicago:20200611T190000
DTEND;TZID=America/Chicago:20200611T210000
DTSTAMP:20260425T070603
CREATED:20191028T053148Z
LAST-MODIFIED:20200626T175038Z
UID:10014704-1591902000-1591909200@sanchosmx.com
SUMMARY:Claude Morgan & the Bandaholics
DESCRIPTION:This is the home of Claude Butch Morgan and his BANDAHOLICS!\nEvery Thursday nite we ride off into the wild musical FUN-tier and you get to ride along with us.\nCome one\, come all\, become an EAR-Regular and lend us your ears and cheers. We will do our very best to put a smile on your face and joy in your heart.\nTrevor Doak Morgan-Drums\nRobert Robar Adams-Bass\nClaude Butch Morgan-Guitar \nThis is a “weather permitting” event. All seating is outside\, masks required for entry and when at your table.
URL:https://sanchosmx.com/sanchos-event/claude-morgan-the-bandaholics/2020-06-11/
CATEGORIES:live music
ATTACH;FMTTYPE=image/jpeg:https://sanchosmx.com/wp-content/uploads/2019/10/bandaholics.jpg
END:VEVENT
BEGIN:VEVENT
DTSTART;TZID=America/Chicago:20200608T190000
DTEND;TZID=America/Chicago:20200608T220000
DTSTAMP:20260425T070603
CREATED:20200523T204034Z
LAST-MODIFIED:20200626T180451Z
UID:10014858-1591642800-1591653600@sanchosmx.com
SUMMARY:Jazz Time (no jam)
DESCRIPTION:Jazz from Yesterday to Tomorrow with George Prado and Friends.  No jamming for the time being. This is a "weather permitting" event. All seating is outside\, masks required for entry and when at your table.
URL:https://sanchosmx.com/sanchos-event/jazz-time/2020-06-08/
CATEGORIES:live music
ATTACH;FMTTYPE=image/jpeg:https://sanchosmx.com/wp-content/uploads/2018/05/jazz-time-group-400.jpg
END:VEVENT
BEGIN:VEVENT
DTSTART;TZID=America/Chicago:20200606T200000
DTEND;TZID=America/Chicago:20200606T220000
DTSTAMP:20260425T070603
CREATED:20200530T155234Z
LAST-MODIFIED:20200530T155234Z
UID:10014863-1591473600-1591480800@sanchosmx.com
SUMMARY:Irie Tower
DESCRIPTION:feel-good\, reggae cover music\nWeather permitting\, Outside seating only\, Masks require for entry and when you leave your table\, no groups larger than 6 people.
URL:https://sanchosmx.com/sanchos-event/irie-tower-6-6-2020/
CATEGORIES:live music
ATTACH;FMTTYPE=image/jpeg:https://sanchosmx.com/wp-content/uploads/2019/11/Irie-Tower-crop.jpg
END:VEVENT
BEGIN:VEVENT
DTSTART;TZID=America/Chicago:20200604T190000
DTEND;TZID=America/Chicago:20200604T210000
DTSTAMP:20260425T070603
CREATED:20191028T053148Z
LAST-MODIFIED:20200626T175038Z
UID:10014703-1591297200-1591304400@sanchosmx.com
SUMMARY:Claude Morgan & the Bandaholics
DESCRIPTION:This is the home of Claude Butch Morgan and his BANDAHOLICS!\nEvery Thursday nite we ride off into the wild musical FUN-tier and you get to ride along with us.\nCome one\, come all\, become an EAR-Regular and lend us your ears and cheers. We will do our very best to put a smile on your face and joy in your heart.\nTrevor Doak Morgan-Drums\nRobert Robar Adams-Bass\nClaude Butch Morgan-Guitar \nThis is a “weather permitting” event. All seating is outside\, masks required for entry and when at your table.
URL:https://sanchosmx.com/sanchos-event/claude-morgan-the-bandaholics/2020-06-04/
CATEGORIES:live music
ATTACH;FMTTYPE=image/jpeg:https://sanchosmx.com/wp-content/uploads/2019/10/bandaholics.jpg
END:VEVENT
BEGIN:VEVENT
DTSTART;TZID=America/Chicago:20200601T190000
DTEND;TZID=America/Chicago:20200601T220000
DTSTAMP:20260425T070603
CREATED:20200523T204034Z
LAST-MODIFIED:20200626T180451Z
UID:10014857-1591038000-1591048800@sanchosmx.com
SUMMARY:Jazz Time (no jam)
DESCRIPTION:Jazz from Yesterday to Tomorrow with George Prado and Friends.  No jamming for the time being. This is a "weather permitting" event. All seating is outside\, masks required for entry and when at your table.
URL:https://sanchosmx.com/sanchos-event/jazz-time/2020-06-01/
CATEGORIES:live music
ATTACH;FMTTYPE=image/jpeg:https://sanchosmx.com/wp-content/uploads/2018/05/jazz-time-group-400.jpg
END:VEVENT
BEGIN:VEVENT
DTSTART;TZID=America/Chicago:20200529T200000
DTEND;TZID=America/Chicago:20200529T220000
DTSTAMP:20260425T070603
CREATED:20191028T053148Z
LAST-MODIFIED:20200528T211342Z
UID:10014860-1590782400-1590789600@sanchosmx.com
SUMMARY:Claude Morgan & the Bandaholics
DESCRIPTION:This is the home of Claude Butch Morgan and his BANDAHOLICS!\nEvery Thursday nite we ride off into the wild musical FUN-tier and you get to ride along with us.\nCome one\, come all\, become an EAR-Regular and lend us your ears and cheers. We will do our very best to put a smile on your face and joy in your heart.\nTrevor Doak Morgan-Drums\nRobert Robar Adams-Bass\nClaude Butch Morgan-Guitar \nThis is a “weather permitting” event. All seating is outside\, masks required for entry and when at your table.
URL:https://sanchosmx.com/sanchos-event/claude-morgan-the-bandaholics-2020-05-28/
CATEGORIES:live music
ATTACH;FMTTYPE=image/jpeg:https://sanchosmx.com/wp-content/uploads/2019/10/bandaholics.jpg
END:VEVENT
BEGIN:VEVENT
DTSTART;TZID=America/Chicago:20200523T200000
DTEND;TZID=America/Chicago:20200523T220000
DTSTAMP:20260425T070603
CREATED:20200523T204748Z
LAST-MODIFIED:20200523T204748Z
UID:10014861-1590264000-1590271200@sanchosmx.com
SUMMARY:Mark's Brothers
DESCRIPTION:
URL:https://sanchosmx.com/sanchos-event/marks-brothers-5-23-2020/
CATEGORIES:live music
ATTACH;FMTTYPE=image/jpeg:https://sanchosmx.com/wp-content/uploads/2019/01/marks-brothers-400.jpg
END:VEVENT
BEGIN:VEVENT
DTSTART;TZID=America/Chicago:20200430T190000
DTEND;TZID=America/Chicago:20200430T210000
DTSTAMP:20260425T070603
CREATED:20191028T053148Z
LAST-MODIFIED:20200626T175038Z
UID:10014702-1588273200-1588280400@sanchosmx.com
SUMMARY:Claude Morgan & the Bandaholics
DESCRIPTION:This is the home of Claude Butch Morgan and his BANDAHOLICS!\nEvery Thursday nite we ride off into the wild musical FUN-tier and you get to ride along with us.\nCome one\, come all\, become an EAR-Regular and lend us your ears and cheers. We will do our very best to put a smile on your face and joy in your heart.\nTrevor Doak Morgan-Drums\nRobert Robar Adams-Bass\nClaude Butch Morgan-Guitar \nThis is a “weather permitting” event. All seating is outside\, masks required for entry and when at your table.
URL:https://sanchosmx.com/sanchos-event/claude-morgan-the-bandaholics/2020-04-30/
CATEGORIES:live music
ATTACH;FMTTYPE=image/jpeg:https://sanchosmx.com/wp-content/uploads/2019/10/bandaholics.jpg
END:VEVENT
BEGIN:VEVENT
DTSTART;TZID=America/Chicago:20200428T190000
DTEND;TZID=America/Chicago:20200428T220000
DTSTAMP:20260425T070603
CREATED:20200228T030127Z
LAST-MODIFIED:20200228T030127Z
UID:10014853-1588100400-1588111200@sanchosmx.com
SUMMARY:The Lucky Odds
DESCRIPTION:
URL:https://sanchosmx.com/sanchos-event/the-lucky-odds-3-13-2020-2/
CATEGORIES:live music
ATTACH;FMTTYPE=image/jpeg:https://sanchosmx.com/wp-content/uploads/2017/03/lucky-odds.jpeg
END:VEVENT
BEGIN:VEVENT
DTSTART;TZID=America/Chicago:20200428T190000
DTEND;TZID=America/Chicago:20200428T220000
DTSTAMP:20260425T070603
CREATED:20200228T025623Z
LAST-MODIFIED:20200228T030003Z
UID:10014852-1588100400-1588111200@sanchosmx.com
SUMMARY:The Lucky Odds
DESCRIPTION:
URL:https://sanchosmx.com/sanchos-event/the-lucky-odds-3-3-2020/2020-04-28/
CATEGORIES:live music
ATTACH;FMTTYPE=image/jpeg:https://sanchosmx.com/wp-content/uploads/2017/03/lucky-odds.jpeg
END:VEVENT
BEGIN:VEVENT
DTSTART;TZID=America/Chicago:20200423T190000
DTEND;TZID=America/Chicago:20200423T210000
DTSTAMP:20260425T070603
CREATED:20191028T053148Z
LAST-MODIFIED:20200626T175038Z
UID:10014701-1587668400-1587675600@sanchosmx.com
SUMMARY:Claude Morgan & the Bandaholics
DESCRIPTION:This is the home of Claude Butch Morgan and his BANDAHOLICS!\nEvery Thursday nite we ride off into the wild musical FUN-tier and you get to ride along with us.\nCome one\, come all\, become an EAR-Regular and lend us your ears and cheers. We will do our very best to put a smile on your face and joy in your heart.\nTrevor Doak Morgan-Drums\nRobert Robar Adams-Bass\nClaude Butch Morgan-Guitar \nThis is a “weather permitting” event. All seating is outside\, masks required for entry and when at your table.
URL:https://sanchosmx.com/sanchos-event/claude-morgan-the-bandaholics/2020-04-23/
CATEGORIES:live music
ATTACH;FMTTYPE=image/jpeg:https://sanchosmx.com/wp-content/uploads/2019/10/bandaholics.jpg
END:VEVENT
BEGIN:VEVENT
DTSTART;TZID=America/Chicago:20200416T190000
DTEND;TZID=America/Chicago:20200416T210000
DTSTAMP:20260425T070603
CREATED:20191028T053148Z
LAST-MODIFIED:20200626T175038Z
UID:10014700-1587063600-1587070800@sanchosmx.com
SUMMARY:Claude Morgan & the Bandaholics
DESCRIPTION:This is the home of Claude Butch Morgan and his BANDAHOLICS!\nEvery Thursday nite we ride off into the wild musical FUN-tier and you get to ride along with us.\nCome one\, come all\, become an EAR-Regular and lend us your ears and cheers. We will do our very best to put a smile on your face and joy in your heart.\nTrevor Doak Morgan-Drums\nRobert Robar Adams-Bass\nClaude Butch Morgan-Guitar \nThis is a “weather permitting” event. All seating is outside\, masks required for entry and when at your table.
URL:https://sanchosmx.com/sanchos-event/claude-morgan-the-bandaholics/2020-04-16/
CATEGORIES:live music
ATTACH;FMTTYPE=image/jpeg:https://sanchosmx.com/wp-content/uploads/2019/10/bandaholics.jpg
END:VEVENT
BEGIN:VEVENT
DTSTART;TZID=America/Chicago:20200414T190000
DTEND;TZID=America/Chicago:20200414T220000
DTSTAMP:20260425T070603
CREATED:20200228T025623Z
LAST-MODIFIED:20200228T030003Z
UID:10014851-1586890800-1586901600@sanchosmx.com
SUMMARY:The Lucky Odds
DESCRIPTION:
URL:https://sanchosmx.com/sanchos-event/the-lucky-odds-3-3-2020/2020-04-14/
CATEGORIES:live music
ATTACH;FMTTYPE=image/jpeg:https://sanchosmx.com/wp-content/uploads/2017/03/lucky-odds.jpeg
END:VEVENT
BEGIN:VEVENT
DTSTART;TZID=America/Chicago:20200409T190000
DTEND;TZID=America/Chicago:20200409T210000
DTSTAMP:20260425T070603
CREATED:20191028T053148Z
LAST-MODIFIED:20200626T175038Z
UID:10014699-1586458800-1586466000@sanchosmx.com
SUMMARY:Claude Morgan & the Bandaholics
DESCRIPTION:This is the home of Claude Butch Morgan and his BANDAHOLICS!\nEvery Thursday nite we ride off into the wild musical FUN-tier and you get to ride along with us.\nCome one\, come all\, become an EAR-Regular and lend us your ears and cheers. We will do our very best to put a smile on your face and joy in your heart.\nTrevor Doak Morgan-Drums\nRobert Robar Adams-Bass\nClaude Butch Morgan-Guitar \nThis is a “weather permitting” event. All seating is outside\, masks required for entry and when at your table.
URL:https://sanchosmx.com/sanchos-event/claude-morgan-the-bandaholics/2020-04-09/
CATEGORIES:live music
ATTACH;FMTTYPE=image/jpeg:https://sanchosmx.com/wp-content/uploads/2019/10/bandaholics.jpg
END:VEVENT
BEGIN:VEVENT
DTSTART;TZID=America/Chicago:20200402T190000
DTEND;TZID=America/Chicago:20200402T210000
DTSTAMP:20260425T070603
CREATED:20191028T053148Z
LAST-MODIFIED:20200626T175038Z
UID:10014698-1585854000-1585861200@sanchosmx.com
SUMMARY:Claude Morgan & the Bandaholics
DESCRIPTION:This is the home of Claude Butch Morgan and his BANDAHOLICS!\nEvery Thursday nite we ride off into the wild musical FUN-tier and you get to ride along with us.\nCome one\, come all\, become an EAR-Regular and lend us your ears and cheers. We will do our very best to put a smile on your face and joy in your heart.\nTrevor Doak Morgan-Drums\nRobert Robar Adams-Bass\nClaude Butch Morgan-Guitar \nThis is a “weather permitting” event. All seating is outside\, masks required for entry and when at your table.
URL:https://sanchosmx.com/sanchos-event/claude-morgan-the-bandaholics/2020-04-02/
CATEGORIES:live music
ATTACH;FMTTYPE=image/jpeg:https://sanchosmx.com/wp-content/uploads/2019/10/bandaholics.jpg
END:VEVENT
BEGIN:VEVENT
DTSTART;TZID=America/Chicago:20200331T190000
DTEND;TZID=America/Chicago:20200331T220000
DTSTAMP:20260425T070603
CREATED:20200228T025623Z
LAST-MODIFIED:20200228T030003Z
UID:10014850-1585681200-1585692000@sanchosmx.com
SUMMARY:The Lucky Odds
DESCRIPTION:
URL:https://sanchosmx.com/sanchos-event/the-lucky-odds-3-3-2020/2020-03-31/
CATEGORIES:live music
ATTACH;FMTTYPE=image/jpeg:https://sanchosmx.com/wp-content/uploads/2017/03/lucky-odds.jpeg
END:VEVENT
BEGIN:VEVENT
DTSTART;TZID=America/Chicago:20200330T190000
DTEND;TZID=America/Chicago:20200330T220000
DTSTAMP:20260425T070603
CREATED:20180515T213851Z
LAST-MODIFIED:20200319T024945Z
UID:10012716-1585594800-1585605600@sanchosmx.com
SUMMARY:Jazz Time Jam
DESCRIPTION:Open Jazz Jam with George Prado and Friends. Jazz from Yesterday to Tomorrow.
URL:https://sanchosmx.com/sanchos-event/jazz-dogz-2017-05-29-3-2-2-2-2-2-2-2018-10-29-2/2020-03-30/
CATEGORIES:live music
ATTACH;FMTTYPE=image/jpeg:https://sanchosmx.com/wp-content/uploads/2018/05/jazz-time-group-400.jpg
END:VEVENT
BEGIN:VEVENT
DTSTART;TZID=America/Chicago:20200329T220000
DTEND;TZID=America/Chicago:20200330T020000
DTSTAMP:20260425T070603
CREATED:20200307T042336Z
LAST-MODIFIED:20200307T042336Z
UID:10014854-1585519200-1585533600@sanchosmx.com
SUMMARY:Black Sunday
DESCRIPTION:First Black Sunday of the spring season bringing in new winds of music to Sancho's this March. Catch debut performances from our first 3 acts and the madmen from Medusa Complex as our headliners! Details on the flyer above. Let the moshing begin ???? \n10:00 - The Relics\n(Groovin rock wildcats) \n10:50 - Concrete Caress\n(Guitar "sword fight" solos) \n11:40 - Bat Allison\n(Female Bohemian-Punk Duo) \n12:30 - Medusa Complex\n(Emo-Punk madness)
URL:https://sanchosmx.com/sanchos-event/black-sunday-2/
CATEGORIES:live music
ATTACH;FMTTYPE=image/jpeg:https://sanchosmx.com/wp-content/uploads/2020/03/black-sunday-march-2020-e1583554994528.jpg
END:VEVENT
BEGIN:VEVENT
DTSTART;TZID=America/Chicago:20200329T190000
DTEND;TZID=America/Chicago:20200329T220000
DTSTAMP:20260425T070603
CREATED:20200224T051750Z
LAST-MODIFIED:20200224T051750Z
UID:10014847-1585508400-1585519200@sanchosmx.com
SUMMARY:Tex Tones
DESCRIPTION:
URL:https://sanchosmx.com/sanchos-event/tex-tones-3-29-2020/
CATEGORIES:live music
END:VEVENT
BEGIN:VEVENT
DTSTART;TZID=America/Chicago:20200329T110000
DTEND;TZID=America/Chicago:20200329T150000
DTSTAMP:20260425T070603
CREATED:20200224T051041Z
LAST-MODIFIED:20200224T051315Z
UID:10014846-1585479600-1585494000@sanchosmx.com
SUMMARY:Sanchos Sunday Jazz Brunch with the Prados
DESCRIPTION:Come enjoy our special Brunch menu and live music with Aaron and  George Prado (live music noon - 2pm)
URL:https://sanchosmx.com/sanchos-event/sanchos-sunday-brunch-3-29-2020/
CATEGORIES:brunch,live music
ATTACH;FMTTYPE=:
END:VEVENT
END:VCALENDAR