BEGIN:VCALENDAR
VERSION:2.0
PRODID:-//Sanchos Cocina y Cantina - ECPv6.15.20//NONSGML v1.0//EN
CALSCALE:GREGORIAN
METHOD:PUBLISH
X-WR-CALNAME:Sanchos Cocina y Cantina
X-ORIGINAL-URL:https://sanchosmx.com
X-WR-CALDESC:Events for Sanchos Cocina y Cantina
REFRESH-INTERVAL;VALUE=DURATION:PT1H
X-Robots-Tag:noindex
X-PUBLISHED-TTL:PT1H
BEGIN:VTIMEZONE
TZID:America/Chicago
BEGIN:DAYLIGHT
TZOFFSETFROM:-0600
TZOFFSETTO:-0500
TZNAME:CDT
DTSTART:20190310T080000
END:DAYLIGHT
BEGIN:STANDARD
TZOFFSETFROM:-0500
TZOFFSETTO:-0600
TZNAME:CST
DTSTART:20191103T070000
END:STANDARD
BEGIN:DAYLIGHT
TZOFFSETFROM:-0600
TZOFFSETTO:-0500
TZNAME:CDT
DTSTART:20200308T080000
END:DAYLIGHT
BEGIN:STANDARD
TZOFFSETFROM:-0500
TZOFFSETTO:-0600
TZNAME:CST
DTSTART:20201101T070000
END:STANDARD
BEGIN:DAYLIGHT
TZOFFSETFROM:-0600
TZOFFSETTO:-0500
TZNAME:CDT
DTSTART:20210314T080000
END:DAYLIGHT
BEGIN:STANDARD
TZOFFSETFROM:-0500
TZOFFSETTO:-0600
TZNAME:CST
DTSTART:20211107T070000
END:STANDARD
BEGIN:DAYLIGHT
TZOFFSETFROM:-0600
TZOFFSETTO:-0500
TZNAME:CDT
DTSTART:20220313T080000
END:DAYLIGHT
BEGIN:STANDARD
TZOFFSETFROM:-0500
TZOFFSETTO:-0600
TZNAME:CST
DTSTART:20221106T070000
END:STANDARD
END:VTIMEZONE
BEGIN:VEVENT
DTSTART;TZID=America/Chicago:20210131T140000
DTEND;TZID=America/Chicago:20210131T190000
DTSTAMP:20260425T070603
CREATED:20180830T055513Z
LAST-MODIFIED:20210514T221222Z
UID:10013158-1612101600-1612119600@sanchosmx.com
SUMMARY:Sanchos Domingo
DESCRIPTION:Sanchos Cantina is home to your perfect Sunday afternoon soundtrack... Live DJs spinning vinyl records of all genres... From oldies\, Texican music\, blues & rhythm\, soul jazz\, garage rocks\, cumbias... a bit of everything. Sit back and chill while the kitchen cooks up good eats. Order something from the full bar and kick it on the patio\, rooftop deck\, or the dancefloor!\nNo cover and plenty of parking available. Let's groove! \nThis is a “weather permitting” event. All seating is outside\, masks required for entry and when at your table.
URL:https://sanchosmx.com/sanchos-event/sanchos-domingo-7/2021-01-31/
CATEGORIES:DJ
END:VEVENT
BEGIN:VEVENT
DTSTART;TZID=America/Chicago:20210129T200000
DTEND;TZID=America/Chicago:20210129T220000
DTSTAMP:20260425T070603
CREATED:20200828T053147Z
LAST-MODIFIED:20210427T194629Z
UID:10014888-1611950400-1611957600@sanchosmx.com
SUMMARY:Noah Peterson Solo Sax Sessions
DESCRIPTION:The Solo Sax Sessions is an innovation One Man Jams excursion into funky music.  Tropical tunes\, dance music\, and Louisiana Blues are all on the menu.  Great ready for some electronic musical wizardry. \n\nThis is a “weather permitting” event. All seating is outside\, masks required for entry and when away from your table.
URL:https://sanchosmx.com/sanchos-event/noah-peterson-solos-sax-sessions-9-4-2020/2021-01-29/
CATEGORIES:live music
ATTACH;FMTTYPE=image/jpeg:https://sanchosmx.com/wp-content/uploads/2019/02/noah-peterson.jpg
END:VEVENT
BEGIN:VEVENT
DTSTART;TZID=America/Chicago:20210128T190000
DTEND;TZID=America/Chicago:20210128T210000
DTSTAMP:20260425T070603
CREATED:20210107T044441Z
LAST-MODIFIED:20210427T153546Z
UID:10014936-1611860400-1611867600@sanchosmx.com
SUMMARY:The Other Bandaholics
DESCRIPTION:The Other Bandaholics are Robert "Robar" Adams (bass & vocals)\, William "Bill" Caisse (guitar & vocals)  and LLoyd Herman (drums). These guys have been on and off countless "band wagons" since the 60s and will be leading the "meetin" on Thursday nights in January. (weather permitting)
URL:https://sanchosmx.com/sanchos-event/the-other-bandaholics/2021-01-28/
CATEGORIES:live music
ATTACH;FMTTYPE=image/jpeg:https://sanchosmx.com/wp-content/uploads/2021/01/Other-Bandaholics.jpg
END:VEVENT
BEGIN:VEVENT
DTSTART;TZID=America/Chicago:20210127T190000
DTEND;TZID=America/Chicago:20210127T210000
DTSTAMP:20260425T070603
CREATED:20210108T221049Z
LAST-MODIFIED:20210301T215252Z
UID:10014951-1611774000-1611781200@sanchosmx.com
SUMMARY:Josh Baca Duo
DESCRIPTION:Josh Baca of Los Tex Maniacs leads his garrison of highly trained swamp conjunto compadres to musical heights the likes of which no man has seen or heard before. \nThis is a weather permitting event. All seating is outside. Masks required for entry and when not at your table.
URL:https://sanchosmx.com/sanchos-event/josh-baca-and-the-hot-tamales-2-2-2-2/2021-01-27/
CATEGORIES:live music
ATTACH;FMTTYPE=image/png:https://sanchosmx.com/wp-content/uploads/2020/02/josh-baca-hot-tamales.png
END:VEVENT
BEGIN:VEVENT
DTSTART;TZID=America/Chicago:20210124T140000
DTEND;TZID=America/Chicago:20210124T190000
DTSTAMP:20260425T070603
CREATED:20180830T055513Z
LAST-MODIFIED:20210514T221222Z
UID:10013157-1611496800-1611514800@sanchosmx.com
SUMMARY:Sanchos Domingo
DESCRIPTION:Sanchos Cantina is home to your perfect Sunday afternoon soundtrack... Live DJs spinning vinyl records of all genres... From oldies\, Texican music\, blues & rhythm\, soul jazz\, garage rocks\, cumbias... a bit of everything. Sit back and chill while the kitchen cooks up good eats. Order something from the full bar and kick it on the patio\, rooftop deck\, or the dancefloor!\nNo cover and plenty of parking available. Let's groove! \nThis is a “weather permitting” event. All seating is outside\, masks required for entry and when at your table.
URL:https://sanchosmx.com/sanchos-event/sanchos-domingo-7/2021-01-24/
CATEGORIES:DJ
END:VEVENT
BEGIN:VEVENT
DTSTART;TZID=America/Chicago:20210122T200000
DTEND;TZID=America/Chicago:20210122T220000
DTSTAMP:20260425T070603
CREATED:20200828T053147Z
LAST-MODIFIED:20210427T194629Z
UID:10014887-1611345600-1611352800@sanchosmx.com
SUMMARY:Noah Peterson Solo Sax Sessions
DESCRIPTION:The Solo Sax Sessions is an innovation One Man Jams excursion into funky music.  Tropical tunes\, dance music\, and Louisiana Blues are all on the menu.  Great ready for some electronic musical wizardry. \n\nThis is a “weather permitting” event. All seating is outside\, masks required for entry and when away from your table.
URL:https://sanchosmx.com/sanchos-event/noah-peterson-solos-sax-sessions-9-4-2020/2021-01-22/
CATEGORIES:live music
ATTACH;FMTTYPE=image/jpeg:https://sanchosmx.com/wp-content/uploads/2019/02/noah-peterson.jpg
END:VEVENT
BEGIN:VEVENT
DTSTART;TZID=America/Chicago:20210121T190000
DTEND;TZID=America/Chicago:20210121T210000
DTSTAMP:20260425T070603
CREATED:20210107T044441Z
LAST-MODIFIED:20210427T153546Z
UID:10014935-1611255600-1611262800@sanchosmx.com
SUMMARY:The Other Bandaholics
DESCRIPTION:The Other Bandaholics are Robert "Robar" Adams (bass & vocals)\, William "Bill" Caisse (guitar & vocals)  and LLoyd Herman (drums). These guys have been on and off countless "band wagons" since the 60s and will be leading the "meetin" on Thursday nights in January. (weather permitting)
URL:https://sanchosmx.com/sanchos-event/the-other-bandaholics/2021-01-21/
CATEGORIES:live music
ATTACH;FMTTYPE=image/jpeg:https://sanchosmx.com/wp-content/uploads/2021/01/Other-Bandaholics.jpg
END:VEVENT
BEGIN:VEVENT
DTSTART;TZID=America/Chicago:20210120T190000
DTEND;TZID=America/Chicago:20210120T210000
DTSTAMP:20260425T070603
CREATED:20210108T221049Z
LAST-MODIFIED:20210301T215252Z
UID:10014950-1611169200-1611176400@sanchosmx.com
SUMMARY:Josh Baca Duo
DESCRIPTION:Josh Baca of Los Tex Maniacs leads his garrison of highly trained swamp conjunto compadres to musical heights the likes of which no man has seen or heard before. \nThis is a weather permitting event. All seating is outside. Masks required for entry and when not at your table.
URL:https://sanchosmx.com/sanchos-event/josh-baca-and-the-hot-tamales-2-2-2-2/2021-01-20/
CATEGORIES:live music
ATTACH;FMTTYPE=image/png:https://sanchosmx.com/wp-content/uploads/2020/02/josh-baca-hot-tamales.png
END:VEVENT
BEGIN:VEVENT
DTSTART;TZID=America/Chicago:20210117T140000
DTEND;TZID=America/Chicago:20210117T190000
DTSTAMP:20260425T070603
CREATED:20180830T055513Z
LAST-MODIFIED:20210514T221222Z
UID:10013156-1610892000-1610910000@sanchosmx.com
SUMMARY:Sanchos Domingo
DESCRIPTION:Sanchos Cantina is home to your perfect Sunday afternoon soundtrack... Live DJs spinning vinyl records of all genres... From oldies\, Texican music\, blues & rhythm\, soul jazz\, garage rocks\, cumbias... a bit of everything. Sit back and chill while the kitchen cooks up good eats. Order something from the full bar and kick it on the patio\, rooftop deck\, or the dancefloor!\nNo cover and plenty of parking available. Let's groove! \nThis is a “weather permitting” event. All seating is outside\, masks required for entry and when at your table.
URL:https://sanchosmx.com/sanchos-event/sanchos-domingo-7/2021-01-17/
CATEGORIES:DJ
END:VEVENT
BEGIN:VEVENT
DTSTART;TZID=America/Chicago:20210116T200000
DTEND;TZID=America/Chicago:20210116T220000
DTSTAMP:20260425T070603
CREATED:20210107T044632Z
LAST-MODIFIED:20210107T044632Z
UID:10014949-1610827200-1610834400@sanchosmx.com
SUMMARY:Los #3 Dinners
DESCRIPTION:Los #3 Dinners perform original songs about livin' and lovin' in the Alamo Town. \n\nThis is a “weather permitting” event. All seating is outside\, masks required for entry and when at your table. \n\n  \n 
URL:https://sanchosmx.com/sanchos-event/los-3-dinners-11-21-2020-2-2/
CATEGORIES:live music
ATTACH;FMTTYPE=image/jpeg:https://sanchosmx.com/wp-content/uploads/2018/03/los-3-dinners.jpg
END:VEVENT
BEGIN:VEVENT
DTSTART;TZID=America/Chicago:20210115T200000
DTEND;TZID=America/Chicago:20210115T220000
DTSTAMP:20260425T070603
CREATED:20200828T053147Z
LAST-MODIFIED:20210427T194629Z
UID:10014886-1610740800-1610748000@sanchosmx.com
SUMMARY:Noah Peterson Solo Sax Sessions
DESCRIPTION:The Solo Sax Sessions is an innovation One Man Jams excursion into funky music.  Tropical tunes\, dance music\, and Louisiana Blues are all on the menu.  Great ready for some electronic musical wizardry. \n\nThis is a “weather permitting” event. All seating is outside\, masks required for entry and when away from your table.
URL:https://sanchosmx.com/sanchos-event/noah-peterson-solos-sax-sessions-9-4-2020/2021-01-15/
CATEGORIES:live music
ATTACH;FMTTYPE=image/jpeg:https://sanchosmx.com/wp-content/uploads/2019/02/noah-peterson.jpg
END:VEVENT
BEGIN:VEVENT
DTSTART;TZID=America/Chicago:20210114T190000
DTEND;TZID=America/Chicago:20210114T210000
DTSTAMP:20260425T070603
CREATED:20210107T044441Z
LAST-MODIFIED:20210427T153546Z
UID:10014934-1610650800-1610658000@sanchosmx.com
SUMMARY:The Other Bandaholics
DESCRIPTION:The Other Bandaholics are Robert "Robar" Adams (bass & vocals)\, William "Bill" Caisse (guitar & vocals)  and LLoyd Herman (drums). These guys have been on and off countless "band wagons" since the 60s and will be leading the "meetin" on Thursday nights in January. (weather permitting)
URL:https://sanchosmx.com/sanchos-event/the-other-bandaholics/2021-01-14/
CATEGORIES:live music
ATTACH;FMTTYPE=image/jpeg:https://sanchosmx.com/wp-content/uploads/2021/01/Other-Bandaholics.jpg
END:VEVENT
BEGIN:VEVENT
DTSTART;TZID=America/Chicago:20210110T140000
DTEND;TZID=America/Chicago:20210110T190000
DTSTAMP:20260425T070603
CREATED:20180830T055513Z
LAST-MODIFIED:20210514T221222Z
UID:10013155-1610287200-1610305200@sanchosmx.com
SUMMARY:Sanchos Domingo
DESCRIPTION:Sanchos Cantina is home to your perfect Sunday afternoon soundtrack... Live DJs spinning vinyl records of all genres... From oldies\, Texican music\, blues & rhythm\, soul jazz\, garage rocks\, cumbias... a bit of everything. Sit back and chill while the kitchen cooks up good eats. Order something from the full bar and kick it on the patio\, rooftop deck\, or the dancefloor!\nNo cover and plenty of parking available. Let's groove! \nThis is a “weather permitting” event. All seating is outside\, masks required for entry and when at your table.
URL:https://sanchosmx.com/sanchos-event/sanchos-domingo-7/2021-01-10/
CATEGORIES:DJ
END:VEVENT
BEGIN:VEVENT
DTSTART;TZID=America/Chicago:20210108T200000
DTEND;TZID=America/Chicago:20210108T220000
DTSTAMP:20260425T070603
CREATED:20200828T053147Z
LAST-MODIFIED:20210427T194629Z
UID:10014885-1610136000-1610143200@sanchosmx.com
SUMMARY:Noah Peterson Solo Sax Sessions
DESCRIPTION:The Solo Sax Sessions is an innovation One Man Jams excursion into funky music.  Tropical tunes\, dance music\, and Louisiana Blues are all on the menu.  Great ready for some electronic musical wizardry. \n\nThis is a “weather permitting” event. All seating is outside\, masks required for entry and when away from your table.
URL:https://sanchosmx.com/sanchos-event/noah-peterson-solos-sax-sessions-9-4-2020/2021-01-08/
CATEGORIES:live music
ATTACH;FMTTYPE=image/jpeg:https://sanchosmx.com/wp-content/uploads/2019/02/noah-peterson.jpg
END:VEVENT
BEGIN:VEVENT
DTSTART;TZID=America/Chicago:20210107T190000
DTEND;TZID=America/Chicago:20210107T210000
DTSTAMP:20260425T070603
CREATED:20210107T044441Z
LAST-MODIFIED:20210427T153546Z
UID:10014933-1610046000-1610053200@sanchosmx.com
SUMMARY:The Other Bandaholics
DESCRIPTION:The Other Bandaholics are Robert "Robar" Adams (bass & vocals)\, William "Bill" Caisse (guitar & vocals)  and LLoyd Herman (drums). These guys have been on and off countless "band wagons" since the 60s and will be leading the "meetin" on Thursday nights in January. (weather permitting)
URL:https://sanchosmx.com/sanchos-event/the-other-bandaholics/2021-01-07/
CATEGORIES:live music
ATTACH;FMTTYPE=image/jpeg:https://sanchosmx.com/wp-content/uploads/2021/01/Other-Bandaholics.jpg
END:VEVENT
BEGIN:VEVENT
DTSTART;TZID=America/Chicago:20210103T140000
DTEND;TZID=America/Chicago:20210103T190000
DTSTAMP:20260425T070603
CREATED:20180830T055513Z
LAST-MODIFIED:20210514T221222Z
UID:10013154-1609682400-1609700400@sanchosmx.com
SUMMARY:Sanchos Domingo
DESCRIPTION:Sanchos Cantina is home to your perfect Sunday afternoon soundtrack... Live DJs spinning vinyl records of all genres... From oldies\, Texican music\, blues & rhythm\, soul jazz\, garage rocks\, cumbias... a bit of everything. Sit back and chill while the kitchen cooks up good eats. Order something from the full bar and kick it on the patio\, rooftop deck\, or the dancefloor!\nNo cover and plenty of parking available. Let's groove! \nThis is a “weather permitting” event. All seating is outside\, masks required for entry and when at your table.
URL:https://sanchosmx.com/sanchos-event/sanchos-domingo-7/2021-01-03/
CATEGORIES:DJ
END:VEVENT
BEGIN:VEVENT
DTSTART;TZID=America/Chicago:20210101T200000
DTEND;TZID=America/Chicago:20210101T220000
DTSTAMP:20260425T070603
CREATED:20200828T053147Z
LAST-MODIFIED:20210427T194629Z
UID:10014884-1609531200-1609538400@sanchosmx.com
SUMMARY:Noah Peterson Solo Sax Sessions
DESCRIPTION:The Solo Sax Sessions is an innovation One Man Jams excursion into funky music.  Tropical tunes\, dance music\, and Louisiana Blues are all on the menu.  Great ready for some electronic musical wizardry. \n\nThis is a “weather permitting” event. All seating is outside\, masks required for entry and when away from your table.
URL:https://sanchosmx.com/sanchos-event/noah-peterson-solos-sax-sessions-9-4-2020/2021-01-01/
CATEGORIES:live music
ATTACH;FMTTYPE=image/jpeg:https://sanchosmx.com/wp-content/uploads/2019/02/noah-peterson.jpg
END:VEVENT
BEGIN:VEVENT
DTSTART;TZID=America/Chicago:20201230T190000
DTEND;TZID=America/Chicago:20201230T210000
DTSTAMP:20260425T070603
CREATED:20201125T191954Z
LAST-MODIFIED:20201202T211106Z
UID:10014924-1609354800-1609362000@sanchosmx.com
SUMMARY:Josh Baca Duo
DESCRIPTION:Josh Baca of Los Tex Maniacs leads his garrison of highly trained swamp conjunto compadres to musical heights the likes of which no man has seen or heard before. \nThis is a weather permitting event. All seating is outside. Masks required for entry and when not at your table.
URL:https://sanchosmx.com/sanchos-event/josh-baca-and-the-hot-tamales-2-2/2020-12-30/
CATEGORIES:live music
ATTACH;FMTTYPE=image/png:https://sanchosmx.com/wp-content/uploads/2020/02/josh-baca-hot-tamales.png
END:VEVENT
BEGIN:VEVENT
DTSTART;TZID=America/Chicago:20201227T140000
DTEND;TZID=America/Chicago:20201227T190000
DTSTAMP:20260425T070603
CREATED:20180830T055513Z
LAST-MODIFIED:20210514T221222Z
UID:10013153-1609077600-1609095600@sanchosmx.com
SUMMARY:Sanchos Domingo
DESCRIPTION:Sanchos Cantina is home to your perfect Sunday afternoon soundtrack... Live DJs spinning vinyl records of all genres... From oldies\, Texican music\, blues & rhythm\, soul jazz\, garage rocks\, cumbias... a bit of everything. Sit back and chill while the kitchen cooks up good eats. Order something from the full bar and kick it on the patio\, rooftop deck\, or the dancefloor!\nNo cover and plenty of parking available. Let's groove! \nThis is a “weather permitting” event. All seating is outside\, masks required for entry and when at your table.
URL:https://sanchosmx.com/sanchos-event/sanchos-domingo-7/2020-12-27/
CATEGORIES:DJ
END:VEVENT
BEGIN:VEVENT
DTSTART;TZID=America/Chicago:20201226T200000
DTEND;TZID=America/Chicago:20201226T220000
DTSTAMP:20260425T070603
CREATED:20200828T053147Z
LAST-MODIFIED:20201218T210331Z
UID:10014925-1609012800-1609020000@sanchosmx.com
SUMMARY:Noah Peterson Solo Sax Sessions
DESCRIPTION:The Solo Sax Sessions is an innovation One Man Jams excursion into funky music.  Tropical tunes\, dance music\, and Louisiana Blues are all on the menu.  Great ready for some electronic musical wizardry. \n\nThis is a “weather permitting” event. All seating is outside\, masks required for entry and when away from your table.
URL:https://sanchosmx.com/sanchos-event/noah-peterson-solos-sax-sessions-9-4-2020-2020-12-25/
CATEGORIES:live music
ATTACH;FMTTYPE=image/jpeg:https://sanchosmx.com/wp-content/uploads/2019/02/noah-peterson.jpg
END:VEVENT
BEGIN:VEVENT
DTSTART;TZID=America/Chicago:20201223T190000
DTEND;TZID=America/Chicago:20201223T210000
DTSTAMP:20260425T070603
CREATED:20201125T191954Z
LAST-MODIFIED:20201202T211106Z
UID:10014923-1608750000-1608757200@sanchosmx.com
SUMMARY:Josh Baca Duo
DESCRIPTION:Josh Baca of Los Tex Maniacs leads his garrison of highly trained swamp conjunto compadres to musical heights the likes of which no man has seen or heard before. \nThis is a weather permitting event. All seating is outside. Masks required for entry and when not at your table.
URL:https://sanchosmx.com/sanchos-event/josh-baca-and-the-hot-tamales-2-2/2020-12-23/
CATEGORIES:live music
ATTACH;FMTTYPE=image/png:https://sanchosmx.com/wp-content/uploads/2020/02/josh-baca-hot-tamales.png
END:VEVENT
BEGIN:VEVENT
DTSTART;TZID=America/Chicago:20201220T140000
DTEND;TZID=America/Chicago:20201220T190000
DTSTAMP:20260425T070603
CREATED:20180830T055513Z
LAST-MODIFIED:20210514T221222Z
UID:10013152-1608472800-1608490800@sanchosmx.com
SUMMARY:Sanchos Domingo
DESCRIPTION:Sanchos Cantina is home to your perfect Sunday afternoon soundtrack... Live DJs spinning vinyl records of all genres... From oldies\, Texican music\, blues & rhythm\, soul jazz\, garage rocks\, cumbias... a bit of everything. Sit back and chill while the kitchen cooks up good eats. Order something from the full bar and kick it on the patio\, rooftop deck\, or the dancefloor!\nNo cover and plenty of parking available. Let's groove! \nThis is a “weather permitting” event. All seating is outside\, masks required for entry and when at your table.
URL:https://sanchosmx.com/sanchos-event/sanchos-domingo-7/2020-12-20/
CATEGORIES:DJ
END:VEVENT
BEGIN:VEVENT
DTSTART;TZID=America/Chicago:20201219T200000
DTEND;TZID=America/Chicago:20201219T220000
DTSTAMP:20260425T070603
CREATED:20201204T225724Z
LAST-MODIFIED:20201204T225724Z
UID:10014932-1608408000-1608415200@sanchosmx.com
SUMMARY:Los #3 Dinners
DESCRIPTION:Los #3 Dinners perform original songs about livin' and lovin' in the Alamo Town. \n\nThis is a “weather permitting” event. All seating is outside\, masks required for entry and when at your table. \n\n  \n 
URL:https://sanchosmx.com/sanchos-event/los-3-dinners-11-21-2020-2/
CATEGORIES:live music
ATTACH;FMTTYPE=image/jpeg:https://sanchosmx.com/wp-content/uploads/2018/03/los-3-dinners.jpg
END:VEVENT
BEGIN:VEVENT
DTSTART;TZID=America/Chicago:20201218T200000
DTEND;TZID=America/Chicago:20201218T220000
DTSTAMP:20260425T070603
CREATED:20200828T053147Z
LAST-MODIFIED:20210427T194629Z
UID:10014883-1608321600-1608328800@sanchosmx.com
SUMMARY:Noah Peterson Solo Sax Sessions
DESCRIPTION:The Solo Sax Sessions is an innovation One Man Jams excursion into funky music.  Tropical tunes\, dance music\, and Louisiana Blues are all on the menu.  Great ready for some electronic musical wizardry. \n\nThis is a “weather permitting” event. All seating is outside\, masks required for entry and when away from your table.
URL:https://sanchosmx.com/sanchos-event/noah-peterson-solos-sax-sessions-9-4-2020/2020-12-18/
CATEGORIES:live music
ATTACH;FMTTYPE=image/jpeg:https://sanchosmx.com/wp-content/uploads/2019/02/noah-peterson.jpg
END:VEVENT
BEGIN:VEVENT
DTSTART;TZID=America/Chicago:20201217T190000
DTEND;TZID=America/Chicago:20201217T210000
DTSTAMP:20260425T070603
CREATED:20201202T211723Z
LAST-MODIFIED:20201205T060106Z
UID:10014928-1608231600-1608238800@sanchosmx.com
SUMMARY:Claude Morgan & The Bandaholics
DESCRIPTION:This is the home of Claude Butch Morgan and his BANDAHOLICS!\nEvery Thursday nite we ride off into the wild musical FUN-tier and you get to ride along with us.\nCome one\, come all\, become an EAR-Regular and lend us your ears and cheers. We will do our very best to put a smile on your face and joy in your heart.\nTrevor Doak Morgan-Drums\nRobert Robar Adams-Bass\nClaude Butch Morgan-Guitar \nThis is a “weather permitting” event. All seating is outside\, masks required for entry and when away from your table.
URL:https://sanchosmx.com/sanchos-event/claude-morgan-the-bandaholics-2-2-2020-10-01-2-2020-12-10/2020-12-17/
CATEGORIES:live music
ATTACH;FMTTYPE=image/jpeg:https://sanchosmx.com/wp-content/uploads/2019/10/bandaholics.jpg
END:VEVENT
BEGIN:VEVENT
DTSTART;TZID=America/Chicago:20201216T190000
DTEND;TZID=America/Chicago:20201216T210000
DTSTAMP:20260425T070603
CREATED:20201125T191954Z
LAST-MODIFIED:20201202T211106Z
UID:10014922-1608145200-1608152400@sanchosmx.com
SUMMARY:Josh Baca Duo
DESCRIPTION:Josh Baca of Los Tex Maniacs leads his garrison of highly trained swamp conjunto compadres to musical heights the likes of which no man has seen or heard before. \nThis is a weather permitting event. All seating is outside. Masks required for entry and when not at your table.
URL:https://sanchosmx.com/sanchos-event/josh-baca-and-the-hot-tamales-2-2/2020-12-16/
CATEGORIES:live music
ATTACH;FMTTYPE=image/png:https://sanchosmx.com/wp-content/uploads/2020/02/josh-baca-hot-tamales.png
END:VEVENT
BEGIN:VEVENT
DTSTART;TZID=America/Chicago:20201214T170000
DTEND;TZID=America/Chicago:20201214T190000
DTSTAMP:20260425T070603
CREATED:20201204T225238Z
LAST-MODIFIED:20201204T225238Z
UID:10014931-1607965200-1607972400@sanchosmx.com
SUMMARY:Alma
DESCRIPTION:I play patchwork music; a mix of country\, folk\, and Appalachian styles. \nWeather permitting\, outside seating only\, masks required when not seated. \nWebsite
URL:https://sanchosmx.com/sanchos-event/alma/
CATEGORIES:live music
ATTACH;FMTTYPE=image/jpeg:https://sanchosmx.com/wp-content/uploads/2020/12/alma-600.jpg
END:VEVENT
BEGIN:VEVENT
DTSTART;TZID=America/Chicago:20201213T140000
DTEND;TZID=America/Chicago:20201213T190000
DTSTAMP:20260425T070603
CREATED:20180830T055513Z
LAST-MODIFIED:20210514T221222Z
UID:10013151-1607868000-1607886000@sanchosmx.com
SUMMARY:Sanchos Domingo
DESCRIPTION:Sanchos Cantina is home to your perfect Sunday afternoon soundtrack... Live DJs spinning vinyl records of all genres... From oldies\, Texican music\, blues & rhythm\, soul jazz\, garage rocks\, cumbias... a bit of everything. Sit back and chill while the kitchen cooks up good eats. Order something from the full bar and kick it on the patio\, rooftop deck\, or the dancefloor!\nNo cover and plenty of parking available. Let's groove! \nThis is a “weather permitting” event. All seating is outside\, masks required for entry and when at your table.
URL:https://sanchosmx.com/sanchos-event/sanchos-domingo-7/2020-12-13/
CATEGORIES:DJ
END:VEVENT
BEGIN:VEVENT
DTSTART;TZID=America/Chicago:20201212T200000
DTEND;TZID=America/Chicago:20201212T220000
DTSTAMP:20260425T070603
CREATED:20201204T224726Z
LAST-MODIFIED:20201204T224726Z
UID:10014930-1607803200-1607810400@sanchosmx.com
SUMMARY:Vanity Project
DESCRIPTION:Vanity Project is a product of convenience and fate.  We all live on the same street and same block.  The catalyst for our inception was the annual National Night Out event held every year.  The first year we hired a an acoustic guitar player to provide some entertainment.  The following year\, Freddy Echeverri (neighbor 1)  provided something similar and he knocked it out of the park.  The following year I joined Freddy on drums (Jamal Said..Neighbor 2).   That night\, neighbor 3 walked across the street and asked if he could sit in on bass (Brandon Durrett..Neighbor 3).  There began what has become Vanity Project.  Originally\, that’s all we did\, once a year\, one night\, done.  Last year around the holidays we all found ourselves with some extra time on our hands and decided to meet once a week and try to take this to the next level.  Memebers were added\, more gear purchased\, practiced more often and even got a pretty high profile gig!  COVID!!  Cancel everything.  Gig disappeared\, some band members disappeared….and there the three of us were\, saying what now?  We pressed on\, honing the material we knew\, learning new stuff and just having fun with no idea where this might go.  Today we have a pretty eclectic collaboration of music from The Eagles to Rage Against the Machine and a tendency to put our own twist on popular 80’s\,90’s era hits.  We are all seasoned musicians with varying musical experiences\, from classical training to opening up for national acts in front of thousands of fans. Vanity Project brings a high energy collaboration of music and entertainment to our listeners and guarantees a good time for all.
URL:https://sanchosmx.com/sanchos-event/vanity-project-2/
CATEGORIES:live music
ATTACH;FMTTYPE=image/jpeg:https://sanchosmx.com/wp-content/uploads/2020/10/vanity-project.jpg
END:VEVENT
BEGIN:VEVENT
DTSTART;TZID=America/Chicago:20201211T200000
DTEND;TZID=America/Chicago:20201211T220000
DTSTAMP:20260425T070603
CREATED:20200828T053147Z
LAST-MODIFIED:20210427T194629Z
UID:10014882-1607716800-1607724000@sanchosmx.com
SUMMARY:Noah Peterson Solo Sax Sessions
DESCRIPTION:The Solo Sax Sessions is an innovation One Man Jams excursion into funky music.  Tropical tunes\, dance music\, and Louisiana Blues are all on the menu.  Great ready for some electronic musical wizardry. \n\nThis is a “weather permitting” event. All seating is outside\, masks required for entry and when away from your table.
URL:https://sanchosmx.com/sanchos-event/noah-peterson-solos-sax-sessions-9-4-2020/2020-12-11/
CATEGORIES:live music
ATTACH;FMTTYPE=image/jpeg:https://sanchosmx.com/wp-content/uploads/2019/02/noah-peterson.jpg
END:VEVENT
END:VCALENDAR