BEGIN:VCALENDAR
VERSION:2.0
PRODID:-//Sanchos Cocina y Cantina - ECPv6.15.20//NONSGML v1.0//EN
CALSCALE:GREGORIAN
METHOD:PUBLISH
X-WR-CALNAME:Sanchos Cocina y Cantina
X-ORIGINAL-URL:https://sanchosmx.com
X-WR-CALDESC:Events for Sanchos Cocina y Cantina
REFRESH-INTERVAL;VALUE=DURATION:PT1H
X-Robots-Tag:noindex
X-PUBLISHED-TTL:PT1H
BEGIN:VTIMEZONE
TZID:America/Chicago
BEGIN:DAYLIGHT
TZOFFSETFROM:-0600
TZOFFSETTO:-0500
TZNAME:CDT
DTSTART:20200308T080000
END:DAYLIGHT
BEGIN:STANDARD
TZOFFSETFROM:-0500
TZOFFSETTO:-0600
TZNAME:CST
DTSTART:20201101T070000
END:STANDARD
BEGIN:DAYLIGHT
TZOFFSETFROM:-0600
TZOFFSETTO:-0500
TZNAME:CDT
DTSTART:20210314T080000
END:DAYLIGHT
BEGIN:STANDARD
TZOFFSETFROM:-0500
TZOFFSETTO:-0600
TZNAME:CST
DTSTART:20211107T070000
END:STANDARD
BEGIN:DAYLIGHT
TZOFFSETFROM:-0600
TZOFFSETTO:-0500
TZNAME:CDT
DTSTART:20220313T080000
END:DAYLIGHT
BEGIN:STANDARD
TZOFFSETFROM:-0500
TZOFFSETTO:-0600
TZNAME:CST
DTSTART:20221106T070000
END:STANDARD
END:VTIMEZONE
BEGIN:VEVENT
DTSTART;TZID=America/Chicago:20210416T180000
DTEND;TZID=America/Chicago:20210416T200000
DTSTAMP:20260424T092303
CREATED:20210403T074749Z
LAST-MODIFIED:20210403T074749Z
UID:10014965-1618596000-1618603200@sanchosmx.com
SUMMARY:Noah Peterson Solo Sax Sessions
DESCRIPTION:The Solo Sax Sessions is an innovation One Man Jams excursion into funky music.  Tropical tunes\, dance music\, and Louisiana Blues are all on the menu.  Great ready for some electronic musical wizardry. \n\nThis is a “weather permitting” event. All seating is outside\, masks required for entry and when away from your table.
URL:https://sanchosmx.com/sanchos-event/noah-peterson-solo-sax-sessions-4-16-21/
CATEGORIES:live music
ATTACH;FMTTYPE=image/jpeg:https://sanchosmx.com/wp-content/uploads/2019/02/noah-peterson.jpg
END:VEVENT
BEGIN:VEVENT
DTSTART;TZID=America/Chicago:20210415T190000
DTEND;TZID=America/Chicago:20210415T210000
DTSTAMP:20260424T092303
CREATED:20210107T044441Z
LAST-MODIFIED:20210427T153546Z
UID:10014947-1618513200-1618520400@sanchosmx.com
SUMMARY:The Other Bandaholics
DESCRIPTION:The Other Bandaholics are Robert "Robar" Adams (bass & vocals)\, William "Bill" Caisse (guitar & vocals)  and LLoyd Herman (drums). These guys have been on and off countless "band wagons" since the 60s and will be leading the "meetin" on Thursday nights in January. (weather permitting)
URL:https://sanchosmx.com/sanchos-event/the-other-bandaholics/2021-04-15/
CATEGORIES:live music
ATTACH;FMTTYPE=image/jpeg:https://sanchosmx.com/wp-content/uploads/2021/01/Other-Bandaholics.jpg
END:VEVENT
BEGIN:VEVENT
DTSTART;TZID=America/Chicago:20210414T190000
DTEND;TZID=America/Chicago:20210414T210000
DTSTAMP:20260424T092303
CREATED:20210403T080103Z
LAST-MODIFIED:20211110T200206Z
UID:10014973-1618426800-1618434000@sanchosmx.com
SUMMARY:The Ken Williams Trio
DESCRIPTION:Ken Williams Trio plays on the upper deck with a music variety show! Don't miss out!
URL:https://sanchosmx.com/sanchos-event/the-ken-williams-trio/2021-04-14/
CATEGORIES:live music
ATTACH;FMTTYPE=image/jpeg:https://sanchosmx.com/wp-content/uploads/2021/04/158312193_1944209685737856_6719670888617892755_n.jpg
END:VEVENT
BEGIN:VEVENT
DTSTART;TZID=America/Chicago:20210413T180000
DTEND;TZID=America/Chicago:20210414T000000
DTSTAMP:20260424T092303
CREATED:20210403T075658Z
LAST-MODIFIED:20210427T152951Z
UID:10014970-1618336800-1618358400@sanchosmx.com
SUMMARY:Open Mic Night
DESCRIPTION:Make sure you get here and sign up with our open mic host John Omudson on the upper deck !
URL:https://sanchosmx.com/sanchos-event/open-mic-night/2021-04-13/
CATEGORIES:open mic
ATTACH;FMTTYPE=image/jpeg:https://sanchosmx.com/wp-content/uploads/2021/04/158279493_1944218079070350_4958943763921673799_n.jpg
END:VEVENT
BEGIN:VEVENT
DTSTART;TZID=America/Chicago:20210409T200000
DTEND;TZID=America/Chicago:20210409T220000
DTSTAMP:20260424T092303
CREATED:20200828T053147Z
LAST-MODIFIED:20210427T194629Z
UID:10014896-1617998400-1618005600@sanchosmx.com
SUMMARY:Noah Peterson Solo Sax Sessions
DESCRIPTION:The Solo Sax Sessions is an innovation One Man Jams excursion into funky music.  Tropical tunes\, dance music\, and Louisiana Blues are all on the menu.  Great ready for some electronic musical wizardry. \n\nThis is a “weather permitting” event. All seating is outside\, masks required for entry and when away from your table.
URL:https://sanchosmx.com/sanchos-event/noah-peterson-solos-sax-sessions-9-4-2020/2021-04-09/
CATEGORIES:live music
ATTACH;FMTTYPE=image/jpeg:https://sanchosmx.com/wp-content/uploads/2019/02/noah-peterson.jpg
END:VEVENT
BEGIN:VEVENT
DTSTART;TZID=America/Chicago:20210408T190000
DTEND;TZID=America/Chicago:20210408T210000
DTSTAMP:20260424T092303
CREATED:20210107T044441Z
LAST-MODIFIED:20210427T153546Z
UID:10014946-1617908400-1617915600@sanchosmx.com
SUMMARY:The Other Bandaholics
DESCRIPTION:The Other Bandaholics are Robert "Robar" Adams (bass & vocals)\, William "Bill" Caisse (guitar & vocals)  and LLoyd Herman (drums). These guys have been on and off countless "band wagons" since the 60s and will be leading the "meetin" on Thursday nights in January. (weather permitting)
URL:https://sanchosmx.com/sanchos-event/the-other-bandaholics/2021-04-08/
CATEGORIES:live music
ATTACH;FMTTYPE=image/jpeg:https://sanchosmx.com/wp-content/uploads/2021/01/Other-Bandaholics.jpg
END:VEVENT
BEGIN:VEVENT
DTSTART;TZID=America/Chicago:20210407T190000
DTEND;TZID=America/Chicago:20210407T210000
DTSTAMP:20260424T092303
CREATED:20210403T080103Z
LAST-MODIFIED:20211110T200206Z
UID:10014972-1617822000-1617829200@sanchosmx.com
SUMMARY:The Ken Williams Trio
DESCRIPTION:Ken Williams Trio plays on the upper deck with a music variety show! Don't miss out!
URL:https://sanchosmx.com/sanchos-event/the-ken-williams-trio/2021-04-07/
CATEGORIES:live music
ATTACH;FMTTYPE=image/jpeg:https://sanchosmx.com/wp-content/uploads/2021/04/158312193_1944209685737856_6719670888617892755_n.jpg
END:VEVENT
BEGIN:VEVENT
DTSTART;TZID=America/Chicago:20210406T180000
DTEND;TZID=America/Chicago:20210407T000000
DTSTAMP:20260424T092303
CREATED:20210403T075658Z
LAST-MODIFIED:20210427T152951Z
UID:10014969-1617732000-1617753600@sanchosmx.com
SUMMARY:Open Mic Night
DESCRIPTION:Make sure you get here and sign up with our open mic host John Omudson on the upper deck !
URL:https://sanchosmx.com/sanchos-event/open-mic-night/2021-04-06/
CATEGORIES:open mic
ATTACH;FMTTYPE=image/jpeg:https://sanchosmx.com/wp-content/uploads/2021/04/158279493_1944218079070350_4958943763921673799_n.jpg
END:VEVENT
BEGIN:VEVENT
DTSTART;TZID=America/Chicago:20210404T140000
DTEND;TZID=America/Chicago:20210404T190000
DTSTAMP:20260424T092303
CREATED:20180830T055513Z
LAST-MODIFIED:20210514T221222Z
UID:10013167-1617544800-1617562800@sanchosmx.com
SUMMARY:Sanchos Domingo
DESCRIPTION:Sanchos Cantina is home to your perfect Sunday afternoon soundtrack... Live DJs spinning vinyl records of all genres... From oldies\, Texican music\, blues & rhythm\, soul jazz\, garage rocks\, cumbias... a bit of everything. Sit back and chill while the kitchen cooks up good eats. Order something from the full bar and kick it on the patio\, rooftop deck\, or the dancefloor!\nNo cover and plenty of parking available. Let's groove! \nThis is a “weather permitting” event. All seating is outside\, masks required for entry and when at your table.
URL:https://sanchosmx.com/sanchos-event/sanchos-domingo-7/2021-04-04/
CATEGORIES:DJ
END:VEVENT
BEGIN:VEVENT
DTSTART;TZID=America/Chicago:20210402T200000
DTEND;TZID=America/Chicago:20210402T220000
DTSTAMP:20260424T092303
CREATED:20200828T053147Z
LAST-MODIFIED:20210427T194629Z
UID:10014895-1617393600-1617400800@sanchosmx.com
SUMMARY:Noah Peterson Solo Sax Sessions
DESCRIPTION:The Solo Sax Sessions is an innovation One Man Jams excursion into funky music.  Tropical tunes\, dance music\, and Louisiana Blues are all on the menu.  Great ready for some electronic musical wizardry. \n\nThis is a “weather permitting” event. All seating is outside\, masks required for entry and when away from your table.
URL:https://sanchosmx.com/sanchos-event/noah-peterson-solos-sax-sessions-9-4-2020/2021-04-02/
CATEGORIES:live music
ATTACH;FMTTYPE=image/jpeg:https://sanchosmx.com/wp-content/uploads/2019/02/noah-peterson.jpg
END:VEVENT
BEGIN:VEVENT
DTSTART;TZID=America/Chicago:20210401T190000
DTEND;TZID=America/Chicago:20210401T210000
DTSTAMP:20260424T092303
CREATED:20210107T044441Z
LAST-MODIFIED:20210427T153546Z
UID:10014945-1617303600-1617310800@sanchosmx.com
SUMMARY:The Other Bandaholics
DESCRIPTION:The Other Bandaholics are Robert "Robar" Adams (bass & vocals)\, William "Bill" Caisse (guitar & vocals)  and LLoyd Herman (drums). These guys have been on and off countless "band wagons" since the 60s and will be leading the "meetin" on Thursday nights in January. (weather permitting)
URL:https://sanchosmx.com/sanchos-event/the-other-bandaholics/2021-04-01/
CATEGORIES:live music
ATTACH;FMTTYPE=image/jpeg:https://sanchosmx.com/wp-content/uploads/2021/01/Other-Bandaholics.jpg
END:VEVENT
BEGIN:VEVENT
DTSTART;TZID=America/Chicago:20210331T190000
DTEND;TZID=America/Chicago:20210331T210000
DTSTAMP:20260424T092303
CREATED:20210108T221049Z
LAST-MODIFIED:20210301T215252Z
UID:10014958-1617217200-1617224400@sanchosmx.com
SUMMARY:Josh Baca Duo
DESCRIPTION:Josh Baca of Los Tex Maniacs leads his garrison of highly trained swamp conjunto compadres to musical heights the likes of which no man has seen or heard before. \nThis is a weather permitting event. All seating is outside. Masks required for entry and when not at your table.
URL:https://sanchosmx.com/sanchos-event/josh-baca-and-the-hot-tamales-2-2-2-2/2021-03-31/
CATEGORIES:live music
ATTACH;FMTTYPE=image/png:https://sanchosmx.com/wp-content/uploads/2020/02/josh-baca-hot-tamales.png
END:VEVENT
BEGIN:VEVENT
DTSTART;TZID=America/Chicago:20210328T140000
DTEND;TZID=America/Chicago:20210328T190000
DTSTAMP:20260424T092303
CREATED:20180830T055513Z
LAST-MODIFIED:20210514T221222Z
UID:10013166-1616940000-1616958000@sanchosmx.com
SUMMARY:Sanchos Domingo
DESCRIPTION:Sanchos Cantina is home to your perfect Sunday afternoon soundtrack... Live DJs spinning vinyl records of all genres... From oldies\, Texican music\, blues & rhythm\, soul jazz\, garage rocks\, cumbias... a bit of everything. Sit back and chill while the kitchen cooks up good eats. Order something from the full bar and kick it on the patio\, rooftop deck\, or the dancefloor!\nNo cover and plenty of parking available. Let's groove! \nThis is a “weather permitting” event. All seating is outside\, masks required for entry and when at your table.
URL:https://sanchosmx.com/sanchos-event/sanchos-domingo-7/2021-03-28/
CATEGORIES:DJ
END:VEVENT
BEGIN:VEVENT
DTSTART;TZID=America/Chicago:20210327T200000
DTEND;TZID=America/Chicago:20210327T220000
DTSTAMP:20260424T092303
CREATED:20210301T220022Z
LAST-MODIFIED:20210301T220046Z
UID:10014964-1616875200-1616882400@sanchosmx.com
SUMMARY:Irie Tower
DESCRIPTION:feel-good\, reggae cover music\nWeather permitting\, Outside seating only\, Masks require for entry and when you leave your table
URL:https://sanchosmx.com/sanchos-event/irie-tower-12-5-2020-2-2/
CATEGORIES:live music
ATTACH;FMTTYPE=image/jpeg:https://sanchosmx.com/wp-content/uploads/2019/11/Irie-Tower-crop.jpg
END:VEVENT
BEGIN:VEVENT
DTSTART;TZID=America/Chicago:20210326T200000
DTEND;TZID=America/Chicago:20210326T220000
DTSTAMP:20260424T092303
CREATED:20200828T053147Z
LAST-MODIFIED:20210427T194629Z
UID:10014894-1616788800-1616796000@sanchosmx.com
SUMMARY:Noah Peterson Solo Sax Sessions
DESCRIPTION:The Solo Sax Sessions is an innovation One Man Jams excursion into funky music.  Tropical tunes\, dance music\, and Louisiana Blues are all on the menu.  Great ready for some electronic musical wizardry. \n\nThis is a “weather permitting” event. All seating is outside\, masks required for entry and when away from your table.
URL:https://sanchosmx.com/sanchos-event/noah-peterson-solos-sax-sessions-9-4-2020/2021-03-26/
CATEGORIES:live music
ATTACH;FMTTYPE=image/jpeg:https://sanchosmx.com/wp-content/uploads/2019/02/noah-peterson.jpg
END:VEVENT
BEGIN:VEVENT
DTSTART;TZID=America/Chicago:20210325T190000
DTEND;TZID=America/Chicago:20210325T210000
DTSTAMP:20260424T092303
CREATED:20210107T044441Z
LAST-MODIFIED:20210427T153546Z
UID:10014944-1616698800-1616706000@sanchosmx.com
SUMMARY:The Other Bandaholics
DESCRIPTION:The Other Bandaholics are Robert "Robar" Adams (bass & vocals)\, William "Bill" Caisse (guitar & vocals)  and LLoyd Herman (drums). These guys have been on and off countless "band wagons" since the 60s and will be leading the "meetin" on Thursday nights in January. (weather permitting)
URL:https://sanchosmx.com/sanchos-event/the-other-bandaholics/2021-03-25/
CATEGORIES:live music
ATTACH;FMTTYPE=image/jpeg:https://sanchosmx.com/wp-content/uploads/2021/01/Other-Bandaholics.jpg
END:VEVENT
BEGIN:VEVENT
DTSTART;TZID=America/Chicago:20210324T190000
DTEND;TZID=America/Chicago:20210324T210000
DTSTAMP:20260424T092303
CREATED:20210108T221049Z
LAST-MODIFIED:20210301T215252Z
UID:10014957-1616612400-1616619600@sanchosmx.com
SUMMARY:Josh Baca Duo
DESCRIPTION:Josh Baca of Los Tex Maniacs leads his garrison of highly trained swamp conjunto compadres to musical heights the likes of which no man has seen or heard before. \nThis is a weather permitting event. All seating is outside. Masks required for entry and when not at your table.
URL:https://sanchosmx.com/sanchos-event/josh-baca-and-the-hot-tamales-2-2-2-2/2021-03-24/
CATEGORIES:live music
ATTACH;FMTTYPE=image/png:https://sanchosmx.com/wp-content/uploads/2020/02/josh-baca-hot-tamales.png
END:VEVENT
BEGIN:VEVENT
DTSTART;TZID=America/Chicago:20210321T140000
DTEND;TZID=America/Chicago:20210321T190000
DTSTAMP:20260424T092303
CREATED:20180830T055513Z
LAST-MODIFIED:20210514T221222Z
UID:10013165-1616335200-1616353200@sanchosmx.com
SUMMARY:Sanchos Domingo
DESCRIPTION:Sanchos Cantina is home to your perfect Sunday afternoon soundtrack... Live DJs spinning vinyl records of all genres... From oldies\, Texican music\, blues & rhythm\, soul jazz\, garage rocks\, cumbias... a bit of everything. Sit back and chill while the kitchen cooks up good eats. Order something from the full bar and kick it on the patio\, rooftop deck\, or the dancefloor!\nNo cover and plenty of parking available. Let's groove! \nThis is a “weather permitting” event. All seating is outside\, masks required for entry and when at your table.
URL:https://sanchosmx.com/sanchos-event/sanchos-domingo-7/2021-03-21/
CATEGORIES:DJ
END:VEVENT
BEGIN:VEVENT
DTSTART;TZID=America/Chicago:20210320T200000
DTEND;TZID=America/Chicago:20210320T220000
DTSTAMP:20260424T092303
CREATED:20210301T215933Z
LAST-MODIFIED:20210301T220237Z
UID:10014963-1616270400-1616277600@sanchosmx.com
SUMMARY:Los #3 Dinners
DESCRIPTION:Los #3 Dinners perform original songs about livin' and lovin' in the Alamo Town. \n\nThis is a “weather permitting” event. All seating is outside\, masks required for entry and when at your table. \n\n  \n 
URL:https://sanchosmx.com/sanchos-event/los-3-dinners-11-21-2020-2-2-2-2/
CATEGORIES:live music
ATTACH;FMTTYPE=image/jpeg:https://sanchosmx.com/wp-content/uploads/2018/03/los-3-dinners.jpg
END:VEVENT
BEGIN:VEVENT
DTSTART;TZID=America/Chicago:20210319T200000
DTEND;TZID=America/Chicago:20210319T220000
DTSTAMP:20260424T092303
CREATED:20200828T053147Z
LAST-MODIFIED:20210427T194629Z
UID:10014893-1616184000-1616191200@sanchosmx.com
SUMMARY:Noah Peterson Solo Sax Sessions
DESCRIPTION:The Solo Sax Sessions is an innovation One Man Jams excursion into funky music.  Tropical tunes\, dance music\, and Louisiana Blues are all on the menu.  Great ready for some electronic musical wizardry. \n\nThis is a “weather permitting” event. All seating is outside\, masks required for entry and when away from your table.
URL:https://sanchosmx.com/sanchos-event/noah-peterson-solos-sax-sessions-9-4-2020/2021-03-19/
CATEGORIES:live music
ATTACH;FMTTYPE=image/jpeg:https://sanchosmx.com/wp-content/uploads/2019/02/noah-peterson.jpg
END:VEVENT
BEGIN:VEVENT
DTSTART;TZID=America/Chicago:20210318T190000
DTEND;TZID=America/Chicago:20210318T210000
DTSTAMP:20260424T092303
CREATED:20210107T044441Z
LAST-MODIFIED:20210427T153546Z
UID:10014943-1616094000-1616101200@sanchosmx.com
SUMMARY:The Other Bandaholics
DESCRIPTION:The Other Bandaholics are Robert "Robar" Adams (bass & vocals)\, William "Bill" Caisse (guitar & vocals)  and LLoyd Herman (drums). These guys have been on and off countless "band wagons" since the 60s and will be leading the "meetin" on Thursday nights in January. (weather permitting)
URL:https://sanchosmx.com/sanchos-event/the-other-bandaholics/2021-03-18/
CATEGORIES:live music
ATTACH;FMTTYPE=image/jpeg:https://sanchosmx.com/wp-content/uploads/2021/01/Other-Bandaholics.jpg
END:VEVENT
BEGIN:VEVENT
DTSTART;TZID=America/Chicago:20210317T190000
DTEND;TZID=America/Chicago:20210317T210000
DTSTAMP:20260424T092303
CREATED:20210108T221049Z
LAST-MODIFIED:20210301T215252Z
UID:10014956-1616007600-1616014800@sanchosmx.com
SUMMARY:Josh Baca Duo
DESCRIPTION:Josh Baca of Los Tex Maniacs leads his garrison of highly trained swamp conjunto compadres to musical heights the likes of which no man has seen or heard before. \nThis is a weather permitting event. All seating is outside. Masks required for entry and when not at your table.
URL:https://sanchosmx.com/sanchos-event/josh-baca-and-the-hot-tamales-2-2-2-2/2021-03-17/
CATEGORIES:live music
ATTACH;FMTTYPE=image/png:https://sanchosmx.com/wp-content/uploads/2020/02/josh-baca-hot-tamales.png
END:VEVENT
BEGIN:VEVENT
DTSTART;TZID=America/Chicago:20210314T140000
DTEND;TZID=America/Chicago:20210314T190000
DTSTAMP:20260424T092303
CREATED:20180830T055513Z
LAST-MODIFIED:20210514T221222Z
UID:10013164-1615730400-1615748400@sanchosmx.com
SUMMARY:Sanchos Domingo
DESCRIPTION:Sanchos Cantina is home to your perfect Sunday afternoon soundtrack... Live DJs spinning vinyl records of all genres... From oldies\, Texican music\, blues & rhythm\, soul jazz\, garage rocks\, cumbias... a bit of everything. Sit back and chill while the kitchen cooks up good eats. Order something from the full bar and kick it on the patio\, rooftop deck\, or the dancefloor!\nNo cover and plenty of parking available. Let's groove! \nThis is a “weather permitting” event. All seating is outside\, masks required for entry and when at your table.
URL:https://sanchosmx.com/sanchos-event/sanchos-domingo-7/2021-03-14/
CATEGORIES:DJ
END:VEVENT
BEGIN:VEVENT
DTSTART;TZID=America/Chicago:20210312T200000
DTEND;TZID=America/Chicago:20210312T220000
DTSTAMP:20260424T092303
CREATED:20200828T053147Z
LAST-MODIFIED:20210427T194629Z
UID:10014892-1615579200-1615586400@sanchosmx.com
SUMMARY:Noah Peterson Solo Sax Sessions
DESCRIPTION:The Solo Sax Sessions is an innovation One Man Jams excursion into funky music.  Tropical tunes\, dance music\, and Louisiana Blues are all on the menu.  Great ready for some electronic musical wizardry. \n\nThis is a “weather permitting” event. All seating is outside\, masks required for entry and when away from your table.
URL:https://sanchosmx.com/sanchos-event/noah-peterson-solos-sax-sessions-9-4-2020/2021-03-12/
CATEGORIES:live music
ATTACH;FMTTYPE=image/jpeg:https://sanchosmx.com/wp-content/uploads/2019/02/noah-peterson.jpg
END:VEVENT
BEGIN:VEVENT
DTSTART;TZID=America/Chicago:20210311T190000
DTEND;TZID=America/Chicago:20210311T210000
DTSTAMP:20260424T092303
CREATED:20210107T044441Z
LAST-MODIFIED:20210427T153546Z
UID:10014942-1615489200-1615496400@sanchosmx.com
SUMMARY:The Other Bandaholics
DESCRIPTION:The Other Bandaholics are Robert "Robar" Adams (bass & vocals)\, William "Bill" Caisse (guitar & vocals)  and LLoyd Herman (drums). These guys have been on and off countless "band wagons" since the 60s and will be leading the "meetin" on Thursday nights in January. (weather permitting)
URL:https://sanchosmx.com/sanchos-event/the-other-bandaholics/2021-03-11/
CATEGORIES:live music
ATTACH;FMTTYPE=image/jpeg:https://sanchosmx.com/wp-content/uploads/2021/01/Other-Bandaholics.jpg
END:VEVENT
BEGIN:VEVENT
DTSTART;TZID=America/Chicago:20210310T190000
DTEND;TZID=America/Chicago:20210310T210000
DTSTAMP:20260424T092303
CREATED:20210108T221049Z
LAST-MODIFIED:20210301T215252Z
UID:10014955-1615402800-1615410000@sanchosmx.com
SUMMARY:Josh Baca Duo
DESCRIPTION:Josh Baca of Los Tex Maniacs leads his garrison of highly trained swamp conjunto compadres to musical heights the likes of which no man has seen or heard before. \nThis is a weather permitting event. All seating is outside. Masks required for entry and when not at your table.
URL:https://sanchosmx.com/sanchos-event/josh-baca-and-the-hot-tamales-2-2-2-2/2021-03-10/
CATEGORIES:live music
ATTACH;FMTTYPE=image/png:https://sanchosmx.com/wp-content/uploads/2020/02/josh-baca-hot-tamales.png
END:VEVENT
BEGIN:VEVENT
DTSTART;TZID=America/Chicago:20210307T140000
DTEND;TZID=America/Chicago:20210307T190000
DTSTAMP:20260424T092303
CREATED:20180830T055513Z
LAST-MODIFIED:20210514T221222Z
UID:10013163-1615125600-1615143600@sanchosmx.com
SUMMARY:Sanchos Domingo
DESCRIPTION:Sanchos Cantina is home to your perfect Sunday afternoon soundtrack... Live DJs spinning vinyl records of all genres... From oldies\, Texican music\, blues & rhythm\, soul jazz\, garage rocks\, cumbias... a bit of everything. Sit back and chill while the kitchen cooks up good eats. Order something from the full bar and kick it on the patio\, rooftop deck\, or the dancefloor!\nNo cover and plenty of parking available. Let's groove! \nThis is a “weather permitting” event. All seating is outside\, masks required for entry and when at your table.
URL:https://sanchosmx.com/sanchos-event/sanchos-domingo-7/2021-03-07/
CATEGORIES:DJ
END:VEVENT
BEGIN:VEVENT
DTSTART;TZID=America/Chicago:20210304T190000
DTEND;TZID=America/Chicago:20210304T210000
DTSTAMP:20260424T092303
CREATED:20210107T044441Z
LAST-MODIFIED:20210427T153546Z
UID:10014941-1614884400-1614891600@sanchosmx.com
SUMMARY:The Other Bandaholics
DESCRIPTION:The Other Bandaholics are Robert "Robar" Adams (bass & vocals)\, William "Bill" Caisse (guitar & vocals)  and LLoyd Herman (drums). These guys have been on and off countless "band wagons" since the 60s and will be leading the "meetin" on Thursday nights in January. (weather permitting)
URL:https://sanchosmx.com/sanchos-event/the-other-bandaholics/2021-03-04/
CATEGORIES:live music
ATTACH;FMTTYPE=image/jpeg:https://sanchosmx.com/wp-content/uploads/2021/01/Other-Bandaholics.jpg
END:VEVENT
BEGIN:VEVENT
DTSTART;TZID=America/Chicago:20210303T190000
DTEND;TZID=America/Chicago:20210303T210000
DTSTAMP:20260424T092303
CREATED:20210108T221049Z
LAST-MODIFIED:20210301T215252Z
UID:10014954-1614798000-1614805200@sanchosmx.com
SUMMARY:Josh Baca Duo
DESCRIPTION:Josh Baca of Los Tex Maniacs leads his garrison of highly trained swamp conjunto compadres to musical heights the likes of which no man has seen or heard before. \nThis is a weather permitting event. All seating is outside. Masks required for entry and when not at your table.
URL:https://sanchosmx.com/sanchos-event/josh-baca-and-the-hot-tamales-2-2-2-2/2021-03-03/
CATEGORIES:live music
ATTACH;FMTTYPE=image/png:https://sanchosmx.com/wp-content/uploads/2020/02/josh-baca-hot-tamales.png
END:VEVENT
BEGIN:VEVENT
DTSTART;TZID=America/Chicago:20210228T140000
DTEND;TZID=America/Chicago:20210228T190000
DTSTAMP:20260424T092303
CREATED:20180830T055513Z
LAST-MODIFIED:20210514T221222Z
UID:10013162-1614520800-1614538800@sanchosmx.com
SUMMARY:Sanchos Domingo
DESCRIPTION:Sanchos Cantina is home to your perfect Sunday afternoon soundtrack... Live DJs spinning vinyl records of all genres... From oldies\, Texican music\, blues & rhythm\, soul jazz\, garage rocks\, cumbias... a bit of everything. Sit back and chill while the kitchen cooks up good eats. Order something from the full bar and kick it on the patio\, rooftop deck\, or the dancefloor!\nNo cover and plenty of parking available. Let's groove! \nThis is a “weather permitting” event. All seating is outside\, masks required for entry and when at your table.
URL:https://sanchosmx.com/sanchos-event/sanchos-domingo-7/2021-02-28/
CATEGORIES:DJ
END:VEVENT
END:VCALENDAR