BEGIN:VCALENDAR
VERSION:2.0
PRODID:-//Sanchos Cocina y Cantina - ECPv6.15.20//NONSGML v1.0//EN
CALSCALE:GREGORIAN
METHOD:PUBLISH
X-WR-CALNAME:Sanchos Cocina y Cantina
X-ORIGINAL-URL:https://sanchosmx.com
X-WR-CALDESC:Events for Sanchos Cocina y Cantina
REFRESH-INTERVAL;VALUE=DURATION:PT1H
X-Robots-Tag:noindex
X-PUBLISHED-TTL:PT1H
BEGIN:VTIMEZONE
TZID:America/Chicago
BEGIN:DAYLIGHT
TZOFFSETFROM:-0600
TZOFFSETTO:-0500
TZNAME:CDT
DTSTART:20200308T080000
END:DAYLIGHT
BEGIN:STANDARD
TZOFFSETFROM:-0500
TZOFFSETTO:-0600
TZNAME:CST
DTSTART:20201101T070000
END:STANDARD
BEGIN:DAYLIGHT
TZOFFSETFROM:-0600
TZOFFSETTO:-0500
TZNAME:CDT
DTSTART:20210314T080000
END:DAYLIGHT
BEGIN:STANDARD
TZOFFSETFROM:-0500
TZOFFSETTO:-0600
TZNAME:CST
DTSTART:20211107T070000
END:STANDARD
BEGIN:DAYLIGHT
TZOFFSETFROM:-0600
TZOFFSETTO:-0500
TZNAME:CDT
DTSTART:20220313T080000
END:DAYLIGHT
BEGIN:STANDARD
TZOFFSETFROM:-0500
TZOFFSETTO:-0600
TZNAME:CST
DTSTART:20221106T070000
END:STANDARD
END:VTIMEZONE
BEGIN:VEVENT
DTSTART;TZID=America/Chicago:20210701T190000
DTEND;TZID=America/Chicago:20210701T210000
DTSTAMP:20260424T040410
CREATED:20210427T153307Z
LAST-MODIFIED:20260324T220610Z
UID:10015014-1625166000-1625173200@sanchosmx.com
SUMMARY:Claude Butch Morgan & His Bandaholics
DESCRIPTION:This is the home of Claude Butch Morgan and his BANDAHOLICS!\nEvery Thursday nite we ride off into the wild musical FUN-tier and you get to ride along with us.\nCome one\, come all\, become an EAR-Regular and lend us your ears and cheers. We will do our very best to put a smile on your face and joy in your heart.
URL:https://sanchosmx.com/sanchos-event/claude-butch-morgan-his-bandaholics/2021-07-01/
LOCATION:Sanchos\, 628 Jackson St\, San Antonio\, TX\, 78212\, United States
CATEGORIES:live music
ATTACH;FMTTYPE=image/jpeg:https://sanchosmx.com/wp-content/uploads/2019/10/bandaholics.jpg
GEO:29.4241219;-98.4936282
X-APPLE-STRUCTURED-LOCATION;VALUE=URI;X-ADDRESS=Sanchos 628 Jackson St San Antonio TX 78212 United States;X-APPLE-RADIUS=500;X-TITLE=628 Jackson St:geo:-98.4936282,29.4241219
END:VEVENT
BEGIN:VEVENT
DTSTART;TZID=America/Chicago:20210630T190000
DTEND;TZID=America/Chicago:20210630T210000
DTSTAMP:20260424T040410
CREATED:20210403T080103Z
LAST-MODIFIED:20211110T200206Z
UID:10014982-1625079600-1625086800@sanchosmx.com
SUMMARY:The Ken Williams Trio
DESCRIPTION:Ken Williams Trio plays on the upper deck with a music variety show! Don't miss out!
URL:https://sanchosmx.com/sanchos-event/the-ken-williams-trio/2021-06-30/
LOCATION:TX
CATEGORIES:live music
ATTACH;FMTTYPE=image/jpeg:https://sanchosmx.com/wp-content/uploads/2021/04/158312193_1944209685737856_6719670888617892755_n.jpg
END:VEVENT
BEGIN:VEVENT
DTSTART;TZID=America/Chicago:20210629T190000
DTEND;TZID=America/Chicago:20210629T230000
DTSTAMP:20260424T040410
CREATED:20210505T222844Z
LAST-MODIFIED:20210928T060953Z
UID:10015263-1624993200-1625007600@sanchosmx.com
SUMMARY:Open Mic w/ Kyle Ray Wilson
DESCRIPTION:Come show off your skills behind the Mic at Sanchos. Hosted by Kyle Ray.\nSign up sheet available \, check in with host.
URL:https://sanchosmx.com/sanchos-event/open-mic-w-kyle-ray-wilson/2021-06-29/
LOCATION:TX
CATEGORIES:live music,open mic
ATTACH;FMTTYPE=image/jpeg:https://sanchosmx.com/wp-content/uploads/2021/05/open-mic-kyle.jpg
END:VEVENT
BEGIN:VEVENT
DTSTART;TZID=America/Chicago:20210627T210000
DTEND;TZID=America/Chicago:20210627T230000
DTSTAMP:20260424T040410
CREATED:20210527T191358Z
LAST-MODIFIED:20210804T032123Z
UID:10015318-1624827600-1624834800@sanchosmx.com
SUMMARY:DJ Sabes Que
DESCRIPTION:Country\, Rock\, Pop\, Hip Hop\, Salsa\, Merengue\, Cumbias\, 70s\, 80s\, Oldies \nWebsite
URL:https://sanchosmx.com/sanchos-event/dj-sabes-que-2/2021-06-27/
LOCATION:TX
CATEGORIES:DJ
END:VEVENT
BEGIN:VEVENT
DTSTART;TZID=America/Chicago:20210627T180000
DTEND;TZID=America/Chicago:20210627T210000
DTSTAMP:20260424T040410
CREATED:20210514T220512Z
LAST-MODIFIED:20210928T060305Z
UID:10015290-1624816800-1624827600@sanchosmx.com
SUMMARY:The Professor Underfunk
DESCRIPTION:One of the best blues musicians & bassists you'll hear in Texas! Based in San Antonio\, Cecil Yancey draws from a wide range of musical influences and an equally extensive background of performance experience. \nThe Professor UnderFunk\, Cecil Yancey\, is a singer\, musician\, songwriter from San Antonio Texas. Cecil has been on stage performing since the age of 9 and has 40+ years of professional performance experience. Cecil has just completed the master recordings for his Debut Release "Elephant Tracks" and is gearing up for a promotional tour in support of his new music. Cecil is geared up to provide gaming\, video\, TV\, radio and commercial music and songwriting for Music Supervisors\, Ad Agencies and general business productions. His influences and music are reflective of such artist greats as Jimi Hendrix\, James Brown\, Stevie Wonder\, Stevie Ray Vaughn and Marvin Gaye \nWebsite
URL:https://sanchosmx.com/sanchos-event/the-professor-underfunk/2021-06-27/
LOCATION:TX
CATEGORIES:live music
ATTACH;FMTTYPE=image/jpeg:https://sanchosmx.com/wp-content/uploads/2019/06/professor-underfunk-e1559795943210.jpg
END:VEVENT
BEGIN:VEVENT
DTSTART;TZID=America/Chicago:20210626T220000
DTEND;TZID=America/Chicago:20210627T000000
DTSTAMP:20260424T040410
CREATED:20210525T053712Z
LAST-MODIFIED:20210525T053712Z
UID:10015313-1624744800-1624752000@sanchosmx.com
SUMMARY:Los #3 Dinners
DESCRIPTION:Los #3 Dinners perform original songs about livin' and lovin' in the Alamo Town. \n\nThis is a “weather permitting” event. All seating is outside\, masks required for entry and when at your table. \n\n  \n 
URL:https://sanchosmx.com/sanchos-event/los-3-dinners-11-21-2020-2-2-2-2-2-2-2/
LOCATION:TX
CATEGORIES:live music
ATTACH;FMTTYPE=image/jpeg:https://sanchosmx.com/wp-content/uploads/2018/03/los-3-dinners.jpg
END:VEVENT
BEGIN:VEVENT
DTSTART;TZID=America/Chicago:20210625T183000
DTEND;TZID=America/Chicago:20210625T193000
DTSTAMP:20260424T040410
CREATED:20210525T053805Z
LAST-MODIFIED:20210525T053805Z
UID:10015314-1624645800-1624649400@sanchosmx.com
SUMMARY:Nuclear Juarez
DESCRIPTION:
URL:https://sanchosmx.com/sanchos-event/nuclear-juarez-11-2-2/
LOCATION:TX
CATEGORIES:live music
END:VEVENT
BEGIN:VEVENT
DTSTART;TZID=America/Chicago:20210624T190000
DTEND;TZID=America/Chicago:20210624T210000
DTSTAMP:20260424T040410
CREATED:20210427T153307Z
LAST-MODIFIED:20260324T220610Z
UID:10015013-1624561200-1624568400@sanchosmx.com
SUMMARY:Claude Butch Morgan & His Bandaholics
DESCRIPTION:This is the home of Claude Butch Morgan and his BANDAHOLICS!\nEvery Thursday nite we ride off into the wild musical FUN-tier and you get to ride along with us.\nCome one\, come all\, become an EAR-Regular and lend us your ears and cheers. We will do our very best to put a smile on your face and joy in your heart.
URL:https://sanchosmx.com/sanchos-event/claude-butch-morgan-his-bandaholics/2021-06-24/
LOCATION:Sanchos\, 628 Jackson St\, San Antonio\, TX\, 78212\, United States
CATEGORIES:live music
ATTACH;FMTTYPE=image/jpeg:https://sanchosmx.com/wp-content/uploads/2019/10/bandaholics.jpg
GEO:29.4241219;-98.4936282
X-APPLE-STRUCTURED-LOCATION;VALUE=URI;X-ADDRESS=Sanchos 628 Jackson St San Antonio TX 78212 United States;X-APPLE-RADIUS=500;X-TITLE=628 Jackson St:geo:-98.4936282,29.4241219
END:VEVENT
BEGIN:VEVENT
DTSTART;TZID=America/Chicago:20210623T190000
DTEND;TZID=America/Chicago:20210623T210000
DTSTAMP:20260424T040410
CREATED:20210403T080103Z
LAST-MODIFIED:20211110T200206Z
UID:10014981-1624474800-1624482000@sanchosmx.com
SUMMARY:The Ken Williams Trio
DESCRIPTION:Ken Williams Trio plays on the upper deck with a music variety show! Don't miss out!
URL:https://sanchosmx.com/sanchos-event/the-ken-williams-trio/2021-06-23/
LOCATION:TX
CATEGORIES:live music
ATTACH;FMTTYPE=image/jpeg:https://sanchosmx.com/wp-content/uploads/2021/04/158312193_1944209685737856_6719670888617892755_n.jpg
END:VEVENT
BEGIN:VEVENT
DTSTART;TZID=America/Chicago:20210622T190000
DTEND;TZID=America/Chicago:20210622T230000
DTSTAMP:20260424T040410
CREATED:20210505T222844Z
LAST-MODIFIED:20210928T060953Z
UID:10015262-1624388400-1624402800@sanchosmx.com
SUMMARY:Open Mic w/ Kyle Ray Wilson
DESCRIPTION:Come show off your skills behind the Mic at Sanchos. Hosted by Kyle Ray.\nSign up sheet available \, check in with host.
URL:https://sanchosmx.com/sanchos-event/open-mic-w-kyle-ray-wilson/2021-06-22/
LOCATION:TX
CATEGORIES:live music,open mic
ATTACH;FMTTYPE=image/jpeg:https://sanchosmx.com/wp-content/uploads/2021/05/open-mic-kyle.jpg
END:VEVENT
BEGIN:VEVENT
DTSTART;TZID=America/Chicago:20210620T210000
DTEND;TZID=America/Chicago:20210620T230000
DTSTAMP:20260424T040410
CREATED:20210527T191358Z
LAST-MODIFIED:20210804T032123Z
UID:10015317-1624222800-1624230000@sanchosmx.com
SUMMARY:DJ Sabes Que
DESCRIPTION:Country\, Rock\, Pop\, Hip Hop\, Salsa\, Merengue\, Cumbias\, 70s\, 80s\, Oldies \nWebsite
URL:https://sanchosmx.com/sanchos-event/dj-sabes-que-2/2021-06-20/
LOCATION:TX
CATEGORIES:DJ
END:VEVENT
BEGIN:VEVENT
DTSTART;TZID=America/Chicago:20210620T180000
DTEND;TZID=America/Chicago:20210620T210000
DTSTAMP:20260424T040410
CREATED:20210514T220512Z
LAST-MODIFIED:20210928T060305Z
UID:10015289-1624212000-1624222800@sanchosmx.com
SUMMARY:The Professor Underfunk
DESCRIPTION:One of the best blues musicians & bassists you'll hear in Texas! Based in San Antonio\, Cecil Yancey draws from a wide range of musical influences and an equally extensive background of performance experience. \nThe Professor UnderFunk\, Cecil Yancey\, is a singer\, musician\, songwriter from San Antonio Texas. Cecil has been on stage performing since the age of 9 and has 40+ years of professional performance experience. Cecil has just completed the master recordings for his Debut Release "Elephant Tracks" and is gearing up for a promotional tour in support of his new music. Cecil is geared up to provide gaming\, video\, TV\, radio and commercial music and songwriting for Music Supervisors\, Ad Agencies and general business productions. His influences and music are reflective of such artist greats as Jimi Hendrix\, James Brown\, Stevie Wonder\, Stevie Ray Vaughn and Marvin Gaye \nWebsite
URL:https://sanchosmx.com/sanchos-event/the-professor-underfunk/2021-06-20/
LOCATION:TX
CATEGORIES:live music
ATTACH;FMTTYPE=image/jpeg:https://sanchosmx.com/wp-content/uploads/2019/06/professor-underfunk-e1559795943210.jpg
END:VEVENT
BEGIN:VEVENT
DTSTART;TZID=America/Chicago:20210619T200000
DTEND;TZID=America/Chicago:20210619T220000
DTSTAMP:20260424T040410
CREATED:20210525T053612Z
LAST-MODIFIED:20210525T053612Z
UID:10015312-1624132800-1624140000@sanchosmx.com
SUMMARY:Irie Tower
DESCRIPTION:feel-good\, reggae cover music\nWeather permitting\, Outside seating only\, Masks require for entry and when you leave your table
URL:https://sanchosmx.com/sanchos-event/irie-tower-12-5-2020-2-2-2-2/
LOCATION:TX
CATEGORIES:live music
ATTACH;FMTTYPE=image/jpeg:https://sanchosmx.com/wp-content/uploads/2019/11/Irie-Tower-crop.jpg
END:VEVENT
BEGIN:VEVENT
DTSTART;TZID=America/Chicago:20210617T190000
DTEND;TZID=America/Chicago:20210617T210000
DTSTAMP:20260424T040410
CREATED:20210427T153307Z
LAST-MODIFIED:20260324T220610Z
UID:10015012-1623956400-1623963600@sanchosmx.com
SUMMARY:Claude Butch Morgan & His Bandaholics
DESCRIPTION:This is the home of Claude Butch Morgan and his BANDAHOLICS!\nEvery Thursday nite we ride off into the wild musical FUN-tier and you get to ride along with us.\nCome one\, come all\, become an EAR-Regular and lend us your ears and cheers. We will do our very best to put a smile on your face and joy in your heart.
URL:https://sanchosmx.com/sanchos-event/claude-butch-morgan-his-bandaholics/2021-06-17/
LOCATION:Sanchos\, 628 Jackson St\, San Antonio\, TX\, 78212\, United States
CATEGORIES:live music
ATTACH;FMTTYPE=image/jpeg:https://sanchosmx.com/wp-content/uploads/2019/10/bandaholics.jpg
GEO:29.4241219;-98.4936282
X-APPLE-STRUCTURED-LOCATION;VALUE=URI;X-ADDRESS=Sanchos 628 Jackson St San Antonio TX 78212 United States;X-APPLE-RADIUS=500;X-TITLE=628 Jackson St:geo:-98.4936282,29.4241219
END:VEVENT
BEGIN:VEVENT
DTSTART;TZID=America/Chicago:20210616T190000
DTEND;TZID=America/Chicago:20210616T210000
DTSTAMP:20260424T040410
CREATED:20210403T080103Z
LAST-MODIFIED:20211110T200206Z
UID:10014980-1623870000-1623877200@sanchosmx.com
SUMMARY:The Ken Williams Trio
DESCRIPTION:Ken Williams Trio plays on the upper deck with a music variety show! Don't miss out!
URL:https://sanchosmx.com/sanchos-event/the-ken-williams-trio/2021-06-16/
LOCATION:TX
CATEGORIES:live music
ATTACH;FMTTYPE=image/jpeg:https://sanchosmx.com/wp-content/uploads/2021/04/158312193_1944209685737856_6719670888617892755_n.jpg
END:VEVENT
BEGIN:VEVENT
DTSTART;TZID=America/Chicago:20210615T190000
DTEND;TZID=America/Chicago:20210615T230000
DTSTAMP:20260424T040410
CREATED:20210505T222844Z
LAST-MODIFIED:20210928T060953Z
UID:10015261-1623783600-1623798000@sanchosmx.com
SUMMARY:Open Mic w/ Kyle Ray Wilson
DESCRIPTION:Come show off your skills behind the Mic at Sanchos. Hosted by Kyle Ray.\nSign up sheet available \, check in with host.
URL:https://sanchosmx.com/sanchos-event/open-mic-w-kyle-ray-wilson/2021-06-15/
LOCATION:TX
CATEGORIES:live music,open mic
ATTACH;FMTTYPE=image/jpeg:https://sanchosmx.com/wp-content/uploads/2021/05/open-mic-kyle.jpg
END:VEVENT
BEGIN:VEVENT
DTSTART;TZID=America/Chicago:20210613T210000
DTEND;TZID=America/Chicago:20210613T230000
DTSTAMP:20260424T040410
CREATED:20210527T191358Z
LAST-MODIFIED:20210804T032123Z
UID:10015316-1623618000-1623625200@sanchosmx.com
SUMMARY:DJ Sabes Que
DESCRIPTION:Country\, Rock\, Pop\, Hip Hop\, Salsa\, Merengue\, Cumbias\, 70s\, 80s\, Oldies \nWebsite
URL:https://sanchosmx.com/sanchos-event/dj-sabes-que-2/2021-06-13/
LOCATION:TX
CATEGORIES:DJ
END:VEVENT
BEGIN:VEVENT
DTSTART;TZID=America/Chicago:20210613T180000
DTEND;TZID=America/Chicago:20210613T210000
DTSTAMP:20260424T040410
CREATED:20210514T220512Z
LAST-MODIFIED:20210928T060305Z
UID:10015288-1623607200-1623618000@sanchosmx.com
SUMMARY:The Professor Underfunk
DESCRIPTION:One of the best blues musicians & bassists you'll hear in Texas! Based in San Antonio\, Cecil Yancey draws from a wide range of musical influences and an equally extensive background of performance experience. \nThe Professor UnderFunk\, Cecil Yancey\, is a singer\, musician\, songwriter from San Antonio Texas. Cecil has been on stage performing since the age of 9 and has 40+ years of professional performance experience. Cecil has just completed the master recordings for his Debut Release "Elephant Tracks" and is gearing up for a promotional tour in support of his new music. Cecil is geared up to provide gaming\, video\, TV\, radio and commercial music and songwriting for Music Supervisors\, Ad Agencies and general business productions. His influences and music are reflective of such artist greats as Jimi Hendrix\, James Brown\, Stevie Wonder\, Stevie Ray Vaughn and Marvin Gaye \nWebsite
URL:https://sanchosmx.com/sanchos-event/the-professor-underfunk/2021-06-13/
LOCATION:TX
CATEGORIES:live music
ATTACH;FMTTYPE=image/jpeg:https://sanchosmx.com/wp-content/uploads/2019/06/professor-underfunk-e1559795943210.jpg
END:VEVENT
BEGIN:VEVENT
DTSTART;TZID=America/Chicago:20210612T200000
DTEND;TZID=America/Chicago:20210612T220000
DTSTAMP:20260424T040410
CREATED:20210525T053515Z
LAST-MODIFIED:20210525T053515Z
UID:10015311-1623528000-1623535200@sanchosmx.com
SUMMARY:Brother Dave and the Barrio Blasters
DESCRIPTION:Brother Dave and the Barrio Blasters! are a Hard Groovin'\, Sharp Dressed band with a songbook as diverse as our beloved hometown San Antonio\, Texas. Rock\, Soul\, Blues\, Honky Tonk\, and Funk all come together to create a tasty groove that is Puro San Antonio!
URL:https://sanchosmx.com/sanchos-event/brother-dave-barrio-blasters-2-21-2020-2-2/
LOCATION:TX
CATEGORIES:live music
ATTACH;FMTTYPE=image/jpeg:https://sanchosmx.com/wp-content/uploads/2016/10/brother-dave.jpg
END:VEVENT
BEGIN:VEVENT
DTSTART;TZID=America/Chicago:20210610T190000
DTEND;TZID=America/Chicago:20210610T210000
DTSTAMP:20260424T040410
CREATED:20210427T153307Z
LAST-MODIFIED:20260324T220610Z
UID:10015011-1623351600-1623358800@sanchosmx.com
SUMMARY:Claude Butch Morgan & His Bandaholics
DESCRIPTION:This is the home of Claude Butch Morgan and his BANDAHOLICS!\nEvery Thursday nite we ride off into the wild musical FUN-tier and you get to ride along with us.\nCome one\, come all\, become an EAR-Regular and lend us your ears and cheers. We will do our very best to put a smile on your face and joy in your heart.
URL:https://sanchosmx.com/sanchos-event/claude-butch-morgan-his-bandaholics/2021-06-10/
LOCATION:Sanchos\, 628 Jackson St\, San Antonio\, TX\, 78212\, United States
CATEGORIES:live music
ATTACH;FMTTYPE=image/jpeg:https://sanchosmx.com/wp-content/uploads/2019/10/bandaholics.jpg
GEO:29.4241219;-98.4936282
X-APPLE-STRUCTURED-LOCATION;VALUE=URI;X-ADDRESS=Sanchos 628 Jackson St San Antonio TX 78212 United States;X-APPLE-RADIUS=500;X-TITLE=628 Jackson St:geo:-98.4936282,29.4241219
END:VEVENT
BEGIN:VEVENT
DTSTART;TZID=America/Chicago:20210609T190000
DTEND;TZID=America/Chicago:20210609T210000
DTSTAMP:20260424T040410
CREATED:20210403T080103Z
LAST-MODIFIED:20211110T200206Z
UID:10014979-1623265200-1623272400@sanchosmx.com
SUMMARY:The Ken Williams Trio
DESCRIPTION:Ken Williams Trio plays on the upper deck with a music variety show! Don't miss out!
URL:https://sanchosmx.com/sanchos-event/the-ken-williams-trio/2021-06-09/
LOCATION:TX
CATEGORIES:live music
ATTACH;FMTTYPE=image/jpeg:https://sanchosmx.com/wp-content/uploads/2021/04/158312193_1944209685737856_6719670888617892755_n.jpg
END:VEVENT
BEGIN:VEVENT
DTSTART;TZID=America/Chicago:20210608T190000
DTEND;TZID=America/Chicago:20210608T230000
DTSTAMP:20260424T040410
CREATED:20210505T222844Z
LAST-MODIFIED:20210928T060953Z
UID:10015260-1623178800-1623193200@sanchosmx.com
SUMMARY:Open Mic w/ Kyle Ray Wilson
DESCRIPTION:Come show off your skills behind the Mic at Sanchos. Hosted by Kyle Ray.\nSign up sheet available \, check in with host.
URL:https://sanchosmx.com/sanchos-event/open-mic-w-kyle-ray-wilson/2021-06-08/
LOCATION:TX
CATEGORIES:live music,open mic
ATTACH;FMTTYPE=image/jpeg:https://sanchosmx.com/wp-content/uploads/2021/05/open-mic-kyle.jpg
END:VEVENT
BEGIN:VEVENT
DTSTART;TZID=America/Chicago:20210606T210000
DTEND;TZID=America/Chicago:20210606T230000
DTSTAMP:20260424T040410
CREATED:20210527T191358Z
LAST-MODIFIED:20210804T032123Z
UID:10015315-1623013200-1623020400@sanchosmx.com
SUMMARY:DJ Sabes Que
DESCRIPTION:Country\, Rock\, Pop\, Hip Hop\, Salsa\, Merengue\, Cumbias\, 70s\, 80s\, Oldies \nWebsite
URL:https://sanchosmx.com/sanchos-event/dj-sabes-que-2/2021-06-06/
LOCATION:TX
CATEGORIES:DJ
END:VEVENT
BEGIN:VEVENT
DTSTART;TZID=America/Chicago:20210606T180000
DTEND;TZID=America/Chicago:20210606T210000
DTSTAMP:20260424T040410
CREATED:20210514T220512Z
LAST-MODIFIED:20210928T060305Z
UID:10015287-1623002400-1623013200@sanchosmx.com
SUMMARY:The Professor Underfunk
DESCRIPTION:One of the best blues musicians & bassists you'll hear in Texas! Based in San Antonio\, Cecil Yancey draws from a wide range of musical influences and an equally extensive background of performance experience. \nThe Professor UnderFunk\, Cecil Yancey\, is a singer\, musician\, songwriter from San Antonio Texas. Cecil has been on stage performing since the age of 9 and has 40+ years of professional performance experience. Cecil has just completed the master recordings for his Debut Release "Elephant Tracks" and is gearing up for a promotional tour in support of his new music. Cecil is geared up to provide gaming\, video\, TV\, radio and commercial music and songwriting for Music Supervisors\, Ad Agencies and general business productions. His influences and music are reflective of such artist greats as Jimi Hendrix\, James Brown\, Stevie Wonder\, Stevie Ray Vaughn and Marvin Gaye \nWebsite
URL:https://sanchosmx.com/sanchos-event/the-professor-underfunk/2021-06-06/
LOCATION:TX
CATEGORIES:live music
ATTACH;FMTTYPE=image/jpeg:https://sanchosmx.com/wp-content/uploads/2019/06/professor-underfunk-e1559795943210.jpg
END:VEVENT
BEGIN:VEVENT
DTSTART;TZID=America/Chicago:20210605T200000
DTEND;TZID=America/Chicago:20210605T220000
DTSTAMP:20260424T040410
CREATED:20210527T191852Z
LAST-MODIFIED:20210527T191852Z
UID:10015328-1622923200-1622930400@sanchosmx.com
SUMMARY:Brother Dave Trio
DESCRIPTION:Brother Dave back at it again on our patio stage to bring down the house ! \nRock n Roll !
URL:https://sanchosmx.com/sanchos-event/brother-dave-trio/
LOCATION:TX
CATEGORIES:live music
ATTACH;FMTTYPE=image/jpeg:https://sanchosmx.com/wp-content/uploads/2021/05/180208619_1988265797998911_6634107337412862399_n.jpg
END:VEVENT
BEGIN:VEVENT
DTSTART;TZID=America/Chicago:20210604T193000
DTEND;TZID=America/Chicago:20210604T203000
DTSTAMP:20260424T040410
CREATED:20210525T053235Z
LAST-MODIFIED:20210525T053235Z
UID:10015310-1622835000-1622838600@sanchosmx.com
SUMMARY:The Walk-Offs
DESCRIPTION:The Walk Offs are a Rock-N-Roll band from San Antonio\, Tx. The band consist of members from various other long running SA bands. The music can go from straight up punk rock to slower rock tunes with poignant lyrics. \nWebsite
URL:https://sanchosmx.com/sanchos-event/the-walk-offs-4/
LOCATION:TX
CATEGORIES:live music
ATTACH;FMTTYPE=image/jpeg:https://sanchosmx.com/wp-content/uploads/2019/02/walk-offs-e1551245000802.jpg
END:VEVENT
BEGIN:VEVENT
DTSTART;TZID=America/Chicago:20210603T190000
DTEND;TZID=America/Chicago:20210603T210000
DTSTAMP:20260424T040410
CREATED:20210427T153307Z
LAST-MODIFIED:20260324T220610Z
UID:10015010-1622746800-1622754000@sanchosmx.com
SUMMARY:Claude Butch Morgan & His Bandaholics
DESCRIPTION:This is the home of Claude Butch Morgan and his BANDAHOLICS!\nEvery Thursday nite we ride off into the wild musical FUN-tier and you get to ride along with us.\nCome one\, come all\, become an EAR-Regular and lend us your ears and cheers. We will do our very best to put a smile on your face and joy in your heart.
URL:https://sanchosmx.com/sanchos-event/claude-butch-morgan-his-bandaholics/2021-06-03/
LOCATION:Sanchos\, 628 Jackson St\, San Antonio\, TX\, 78212\, United States
CATEGORIES:live music
ATTACH;FMTTYPE=image/jpeg:https://sanchosmx.com/wp-content/uploads/2019/10/bandaholics.jpg
GEO:29.4241219;-98.4936282
X-APPLE-STRUCTURED-LOCATION;VALUE=URI;X-ADDRESS=Sanchos 628 Jackson St San Antonio TX 78212 United States;X-APPLE-RADIUS=500;X-TITLE=628 Jackson St:geo:-98.4936282,29.4241219
END:VEVENT
BEGIN:VEVENT
DTSTART;TZID=America/Chicago:20210602T190000
DTEND;TZID=America/Chicago:20210602T210000
DTSTAMP:20260424T040410
CREATED:20210525T052831Z
LAST-MODIFIED:20210525T052831Z
UID:10015309-1622660400-1622667600@sanchosmx.com
SUMMARY:Marks Brothers
DESCRIPTION:Mark’s Brothers draws upon a broad range of influences incorporating swing\, country\, folk\, blues\, and rock from the 1920’s through the 1970’s to form its own blend of American music with some original’s thrown into the mix.
URL:https://sanchosmx.com/sanchos-event/marks-brothers-8-2-2-2-4-2/
LOCATION:TX
CATEGORIES:live music
ATTACH;FMTTYPE=image/jpeg:https://sanchosmx.com/wp-content/uploads/2017/01/Marks-brothers-facebook-e1485922185576.jpg
END:VEVENT
BEGIN:VEVENT
DTSTART;TZID=America/Chicago:20210601T190000
DTEND;TZID=America/Chicago:20210601T230000
DTSTAMP:20260424T040410
CREATED:20210505T222844Z
LAST-MODIFIED:20210928T060953Z
UID:10015259-1622574000-1622588400@sanchosmx.com
SUMMARY:Open Mic w/ Kyle Ray Wilson
DESCRIPTION:Come show off your skills behind the Mic at Sanchos. Hosted by Kyle Ray.\nSign up sheet available \, check in with host.
URL:https://sanchosmx.com/sanchos-event/open-mic-w-kyle-ray-wilson/2021-06-01/
LOCATION:TX
CATEGORIES:live music,open mic
ATTACH;FMTTYPE=image/jpeg:https://sanchosmx.com/wp-content/uploads/2021/05/open-mic-kyle.jpg
END:VEVENT
BEGIN:VEVENT
DTSTART;TZID=America/Chicago:20210530T180000
DTEND;TZID=America/Chicago:20210530T210000
DTSTAMP:20260424T040410
CREATED:20210514T220512Z
LAST-MODIFIED:20210928T060305Z
UID:10015286-1622397600-1622408400@sanchosmx.com
SUMMARY:The Professor Underfunk
DESCRIPTION:One of the best blues musicians & bassists you'll hear in Texas! Based in San Antonio\, Cecil Yancey draws from a wide range of musical influences and an equally extensive background of performance experience. \nThe Professor UnderFunk\, Cecil Yancey\, is a singer\, musician\, songwriter from San Antonio Texas. Cecil has been on stage performing since the age of 9 and has 40+ years of professional performance experience. Cecil has just completed the master recordings for his Debut Release "Elephant Tracks" and is gearing up for a promotional tour in support of his new music. Cecil is geared up to provide gaming\, video\, TV\, radio and commercial music and songwriting for Music Supervisors\, Ad Agencies and general business productions. His influences and music are reflective of such artist greats as Jimi Hendrix\, James Brown\, Stevie Wonder\, Stevie Ray Vaughn and Marvin Gaye \nWebsite
URL:https://sanchosmx.com/sanchos-event/the-professor-underfunk/2021-05-30/
LOCATION:TX
CATEGORIES:live music
ATTACH;FMTTYPE=image/jpeg:https://sanchosmx.com/wp-content/uploads/2019/06/professor-underfunk-e1559795943210.jpg
END:VEVENT
END:VCALENDAR