BEGIN:VCALENDAR
VERSION:2.0
PRODID:-//Sanchos Cocina y Cantina - ECPv6.15.20//NONSGML v1.0//EN
CALSCALE:GREGORIAN
METHOD:PUBLISH
X-WR-CALNAME:Sanchos Cocina y Cantina
X-ORIGINAL-URL:https://sanchosmx.com
X-WR-CALDESC:Events for Sanchos Cocina y Cantina
REFRESH-INTERVAL;VALUE=DURATION:PT1H
X-Robots-Tag:noindex
X-PUBLISHED-TTL:PT1H
BEGIN:VTIMEZONE
TZID:America/Chicago
BEGIN:DAYLIGHT
TZOFFSETFROM:-0600
TZOFFSETTO:-0500
TZNAME:CDT
DTSTART:20200308T080000
END:DAYLIGHT
BEGIN:STANDARD
TZOFFSETFROM:-0500
TZOFFSETTO:-0600
TZNAME:CST
DTSTART:20201101T070000
END:STANDARD
BEGIN:DAYLIGHT
TZOFFSETFROM:-0600
TZOFFSETTO:-0500
TZNAME:CDT
DTSTART:20210314T080000
END:DAYLIGHT
BEGIN:STANDARD
TZOFFSETFROM:-0500
TZOFFSETTO:-0600
TZNAME:CST
DTSTART:20211107T070000
END:STANDARD
BEGIN:DAYLIGHT
TZOFFSETFROM:-0600
TZOFFSETTO:-0500
TZNAME:CDT
DTSTART:20220313T080000
END:DAYLIGHT
BEGIN:STANDARD
TZOFFSETFROM:-0500
TZOFFSETTO:-0600
TZNAME:CST
DTSTART:20221106T070000
END:STANDARD
END:VTIMEZONE
BEGIN:VEVENT
DTSTART;TZID=America/Chicago:20210606T210000
DTEND;TZID=America/Chicago:20210606T230000
DTSTAMP:20260425T100754
CREATED:20210527T191358Z
LAST-MODIFIED:20210804T032123Z
UID:10015315-1623013200-1623020400@sanchosmx.com
SUMMARY:DJ Sabes Que
DESCRIPTION:Country\, Rock\, Pop\, Hip Hop\, Salsa\, Merengue\, Cumbias\, 70s\, 80s\, Oldies \nWebsite
URL:https://sanchosmx.com/sanchos-event/dj-sabes-que-2/2021-06-06/
LOCATION:TX
CATEGORIES:DJ
END:VEVENT
BEGIN:VEVENT
DTSTART;TZID=America/Chicago:20210606T180000
DTEND;TZID=America/Chicago:20210606T210000
DTSTAMP:20260425T100754
CREATED:20210514T220512Z
LAST-MODIFIED:20210928T060305Z
UID:10015287-1623002400-1623013200@sanchosmx.com
SUMMARY:The Professor Underfunk
DESCRIPTION:One of the best blues musicians & bassists you'll hear in Texas! Based in San Antonio\, Cecil Yancey draws from a wide range of musical influences and an equally extensive background of performance experience. \nThe Professor UnderFunk\, Cecil Yancey\, is a singer\, musician\, songwriter from San Antonio Texas. Cecil has been on stage performing since the age of 9 and has 40+ years of professional performance experience. Cecil has just completed the master recordings for his Debut Release "Elephant Tracks" and is gearing up for a promotional tour in support of his new music. Cecil is geared up to provide gaming\, video\, TV\, radio and commercial music and songwriting for Music Supervisors\, Ad Agencies and general business productions. His influences and music are reflective of such artist greats as Jimi Hendrix\, James Brown\, Stevie Wonder\, Stevie Ray Vaughn and Marvin Gaye \nWebsite
URL:https://sanchosmx.com/sanchos-event/the-professor-underfunk/2021-06-06/
LOCATION:TX
CATEGORIES:live music
ATTACH;FMTTYPE=image/jpeg:https://sanchosmx.com/wp-content/uploads/2019/06/professor-underfunk-e1559795943210.jpg
END:VEVENT
BEGIN:VEVENT
DTSTART;TZID=America/Chicago:20210605T200000
DTEND;TZID=America/Chicago:20210605T220000
DTSTAMP:20260425T100754
CREATED:20210527T191852Z
LAST-MODIFIED:20210527T191852Z
UID:10015328-1622923200-1622930400@sanchosmx.com
SUMMARY:Brother Dave Trio
DESCRIPTION:Brother Dave back at it again on our patio stage to bring down the house ! \nRock n Roll !
URL:https://sanchosmx.com/sanchos-event/brother-dave-trio/
LOCATION:TX
CATEGORIES:live music
ATTACH;FMTTYPE=image/jpeg:https://sanchosmx.com/wp-content/uploads/2021/05/180208619_1988265797998911_6634107337412862399_n.jpg
END:VEVENT
BEGIN:VEVENT
DTSTART;TZID=America/Chicago:20210604T193000
DTEND;TZID=America/Chicago:20210604T203000
DTSTAMP:20260425T100754
CREATED:20210525T053235Z
LAST-MODIFIED:20210525T053235Z
UID:10015310-1622835000-1622838600@sanchosmx.com
SUMMARY:The Walk-Offs
DESCRIPTION:The Walk Offs are a Rock-N-Roll band from San Antonio\, Tx. The band consist of members from various other long running SA bands. The music can go from straight up punk rock to slower rock tunes with poignant lyrics. \nWebsite
URL:https://sanchosmx.com/sanchos-event/the-walk-offs-4/
LOCATION:TX
CATEGORIES:live music
ATTACH;FMTTYPE=image/jpeg:https://sanchosmx.com/wp-content/uploads/2019/02/walk-offs-e1551245000802.jpg
END:VEVENT
BEGIN:VEVENT
DTSTART;TZID=America/Chicago:20210603T190000
DTEND;TZID=America/Chicago:20210603T210000
DTSTAMP:20260425T100754
CREATED:20210427T153307Z
LAST-MODIFIED:20260324T220610Z
UID:10015010-1622746800-1622754000@sanchosmx.com
SUMMARY:Claude Butch Morgan & His Bandaholics
DESCRIPTION:This is the home of Claude Butch Morgan and his BANDAHOLICS!\nEvery Thursday nite we ride off into the wild musical FUN-tier and you get to ride along with us.\nCome one\, come all\, become an EAR-Regular and lend us your ears and cheers. We will do our very best to put a smile on your face and joy in your heart.
URL:https://sanchosmx.com/sanchos-event/claude-butch-morgan-his-bandaholics/2021-06-03/
LOCATION:Sanchos\, 628 Jackson St\, San Antonio\, TX\, 78212\, United States
CATEGORIES:live music
ATTACH;FMTTYPE=image/jpeg:https://sanchosmx.com/wp-content/uploads/2019/10/bandaholics.jpg
GEO:29.4241219;-98.4936282
X-APPLE-STRUCTURED-LOCATION;VALUE=URI;X-ADDRESS=Sanchos 628 Jackson St San Antonio TX 78212 United States;X-APPLE-RADIUS=500;X-TITLE=628 Jackson St:geo:-98.4936282,29.4241219
END:VEVENT
BEGIN:VEVENT
DTSTART;TZID=America/Chicago:20210602T190000
DTEND;TZID=America/Chicago:20210602T210000
DTSTAMP:20260425T100754
CREATED:20210525T052831Z
LAST-MODIFIED:20210525T052831Z
UID:10015309-1622660400-1622667600@sanchosmx.com
SUMMARY:Marks Brothers
DESCRIPTION:Mark’s Brothers draws upon a broad range of influences incorporating swing\, country\, folk\, blues\, and rock from the 1920’s through the 1970’s to form its own blend of American music with some original’s thrown into the mix.
URL:https://sanchosmx.com/sanchos-event/marks-brothers-8-2-2-2-4-2/
LOCATION:TX
CATEGORIES:live music
ATTACH;FMTTYPE=image/jpeg:https://sanchosmx.com/wp-content/uploads/2017/01/Marks-brothers-facebook-e1485922185576.jpg
END:VEVENT
BEGIN:VEVENT
DTSTART;TZID=America/Chicago:20210601T190000
DTEND;TZID=America/Chicago:20210601T230000
DTSTAMP:20260425T100754
CREATED:20210505T222844Z
LAST-MODIFIED:20210928T060953Z
UID:10015259-1622574000-1622588400@sanchosmx.com
SUMMARY:Open Mic w/ Kyle Ray Wilson
DESCRIPTION:Come show off your skills behind the Mic at Sanchos. Hosted by Kyle Ray.\nSign up sheet available \, check in with host.
URL:https://sanchosmx.com/sanchos-event/open-mic-w-kyle-ray-wilson/2021-06-01/
LOCATION:TX
CATEGORIES:live music,open mic
ATTACH;FMTTYPE=image/jpeg:https://sanchosmx.com/wp-content/uploads/2021/05/open-mic-kyle.jpg
END:VEVENT
BEGIN:VEVENT
DTSTART;TZID=America/Chicago:20210530T180000
DTEND;TZID=America/Chicago:20210530T210000
DTSTAMP:20260425T100754
CREATED:20210514T220512Z
LAST-MODIFIED:20210928T060305Z
UID:10015286-1622397600-1622408400@sanchosmx.com
SUMMARY:The Professor Underfunk
DESCRIPTION:One of the best blues musicians & bassists you'll hear in Texas! Based in San Antonio\, Cecil Yancey draws from a wide range of musical influences and an equally extensive background of performance experience. \nThe Professor UnderFunk\, Cecil Yancey\, is a singer\, musician\, songwriter from San Antonio Texas. Cecil has been on stage performing since the age of 9 and has 40+ years of professional performance experience. Cecil has just completed the master recordings for his Debut Release "Elephant Tracks" and is gearing up for a promotional tour in support of his new music. Cecil is geared up to provide gaming\, video\, TV\, radio and commercial music and songwriting for Music Supervisors\, Ad Agencies and general business productions. His influences and music are reflective of such artist greats as Jimi Hendrix\, James Brown\, Stevie Wonder\, Stevie Ray Vaughn and Marvin Gaye \nWebsite
URL:https://sanchosmx.com/sanchos-event/the-professor-underfunk/2021-05-30/
LOCATION:TX
CATEGORIES:live music
ATTACH;FMTTYPE=image/jpeg:https://sanchosmx.com/wp-content/uploads/2019/06/professor-underfunk-e1559795943210.jpg
END:VEVENT
BEGIN:VEVENT
DTSTART;TZID=America/Chicago:20210529T200000
DTEND;TZID=America/Chicago:20210529T220000
DTSTAMP:20260425T100754
CREATED:20210427T195140Z
LAST-MODIFIED:20210427T195140Z
UID:10015254-1622318400-1622325600@sanchosmx.com
SUMMARY:Irie Tower
DESCRIPTION:feel-good\, reggae cover music\nWeather permitting\, Outside seating only\, Masks require for entry and when you leave your table
URL:https://sanchosmx.com/sanchos-event/irie-tower-12-5-2020-2-2-2/
LOCATION:TX
CATEGORIES:live music
ATTACH;FMTTYPE=image/jpeg:https://sanchosmx.com/wp-content/uploads/2019/11/Irie-Tower-crop.jpg
END:VEVENT
BEGIN:VEVENT
DTSTART;TZID=America/Chicago:20210528T200000
DTEND;TZID=America/Chicago:20210528T220000
DTSTAMP:20260425T100754
CREATED:20210427T195013Z
LAST-MODIFIED:20210427T195013Z
UID:10015253-1622232000-1622239200@sanchosmx.com
SUMMARY:RDO Trio
DESCRIPTION:Blues\, R&B\, pop\, 70s and more. \nWebsite
URL:https://sanchosmx.com/sanchos-event/rdo-trio-2-1-2020-2/
LOCATION:TX
CATEGORIES:live music
ATTACH;FMTTYPE=image/jpeg:https://sanchosmx.com/wp-content/uploads/2015/11/rdo-trio-web.jpg
END:VEVENT
BEGIN:VEVENT
DTSTART;TZID=America/Chicago:20210527T190000
DTEND;TZID=America/Chicago:20210527T210000
DTSTAMP:20260425T100754
CREATED:20210427T153307Z
LAST-MODIFIED:20260324T220610Z
UID:10015009-1622142000-1622149200@sanchosmx.com
SUMMARY:Claude Butch Morgan & His Bandaholics
DESCRIPTION:This is the home of Claude Butch Morgan and his BANDAHOLICS!\nEvery Thursday nite we ride off into the wild musical FUN-tier and you get to ride along with us.\nCome one\, come all\, become an EAR-Regular and lend us your ears and cheers. We will do our very best to put a smile on your face and joy in your heart.
URL:https://sanchosmx.com/sanchos-event/claude-butch-morgan-his-bandaholics/2021-05-27/
LOCATION:Sanchos\, 628 Jackson St\, San Antonio\, TX\, 78212\, United States
CATEGORIES:live music
ATTACH;FMTTYPE=image/jpeg:https://sanchosmx.com/wp-content/uploads/2019/10/bandaholics.jpg
GEO:29.4241219;-98.4936282
X-APPLE-STRUCTURED-LOCATION;VALUE=URI;X-ADDRESS=Sanchos 628 Jackson St San Antonio TX 78212 United States;X-APPLE-RADIUS=500;X-TITLE=628 Jackson St:geo:-98.4936282,29.4241219
END:VEVENT
BEGIN:VEVENT
DTSTART;TZID=America/Chicago:20210526T190000
DTEND;TZID=America/Chicago:20210526T210000
DTSTAMP:20260425T100754
CREATED:20210403T080103Z
LAST-MODIFIED:20211110T200206Z
UID:10014978-1622055600-1622062800@sanchosmx.com
SUMMARY:The Ken Williams Trio
DESCRIPTION:Ken Williams Trio plays on the upper deck with a music variety show! Don't miss out!
URL:https://sanchosmx.com/sanchos-event/the-ken-williams-trio/2021-05-26/
LOCATION:TX
CATEGORIES:live music
ATTACH;FMTTYPE=image/jpeg:https://sanchosmx.com/wp-content/uploads/2021/04/158312193_1944209685737856_6719670888617892755_n.jpg
END:VEVENT
BEGIN:VEVENT
DTSTART;TZID=America/Chicago:20210525T190000
DTEND;TZID=America/Chicago:20210525T230000
DTSTAMP:20260425T100754
CREATED:20210505T222844Z
LAST-MODIFIED:20210928T060953Z
UID:10015258-1621969200-1621983600@sanchosmx.com
SUMMARY:Open Mic w/ Kyle Ray Wilson
DESCRIPTION:Come show off your skills behind the Mic at Sanchos. Hosted by Kyle Ray.\nSign up sheet available \, check in with host.
URL:https://sanchosmx.com/sanchos-event/open-mic-w-kyle-ray-wilson/2021-05-25/
LOCATION:TX
CATEGORIES:live music,open mic
ATTACH;FMTTYPE=image/jpeg:https://sanchosmx.com/wp-content/uploads/2021/05/open-mic-kyle.jpg
END:VEVENT
BEGIN:VEVENT
DTSTART;TZID=America/Chicago:20210523T180000
DTEND;TZID=America/Chicago:20210523T210000
DTSTAMP:20260425T100754
CREATED:20210514T220512Z
LAST-MODIFIED:20210928T060305Z
UID:10015285-1621792800-1621803600@sanchosmx.com
SUMMARY:The Professor Underfunk
DESCRIPTION:One of the best blues musicians & bassists you'll hear in Texas! Based in San Antonio\, Cecil Yancey draws from a wide range of musical influences and an equally extensive background of performance experience. \nThe Professor UnderFunk\, Cecil Yancey\, is a singer\, musician\, songwriter from San Antonio Texas. Cecil has been on stage performing since the age of 9 and has 40+ years of professional performance experience. Cecil has just completed the master recordings for his Debut Release "Elephant Tracks" and is gearing up for a promotional tour in support of his new music. Cecil is geared up to provide gaming\, video\, TV\, radio and commercial music and songwriting for Music Supervisors\, Ad Agencies and general business productions. His influences and music are reflective of such artist greats as Jimi Hendrix\, James Brown\, Stevie Wonder\, Stevie Ray Vaughn and Marvin Gaye \nWebsite
URL:https://sanchosmx.com/sanchos-event/the-professor-underfunk/2021-05-23/
LOCATION:TX
CATEGORIES:live music
ATTACH;FMTTYPE=image/jpeg:https://sanchosmx.com/wp-content/uploads/2019/06/professor-underfunk-e1559795943210.jpg
END:VEVENT
BEGIN:VEVENT
DTSTART;TZID=America/Chicago:20210521T200000
DTEND;TZID=America/Chicago:20210521T220000
DTSTAMP:20260425T100754
CREATED:20210427T194801Z
LAST-MODIFIED:20210427T194801Z
UID:10015252-1621627200-1621634400@sanchosmx.com
SUMMARY:Nuclear Juarez
DESCRIPTION:
URL:https://sanchosmx.com/sanchos-event/nuclear-juarez-11-2/
LOCATION:TX
CATEGORIES:live music
END:VEVENT
BEGIN:VEVENT
DTSTART;TZID=America/Chicago:20210520T190000
DTEND;TZID=America/Chicago:20210520T210000
DTSTAMP:20260425T100754
CREATED:20210427T153307Z
LAST-MODIFIED:20260324T220610Z
UID:10015008-1621537200-1621544400@sanchosmx.com
SUMMARY:Claude Butch Morgan & His Bandaholics
DESCRIPTION:This is the home of Claude Butch Morgan and his BANDAHOLICS!\nEvery Thursday nite we ride off into the wild musical FUN-tier and you get to ride along with us.\nCome one\, come all\, become an EAR-Regular and lend us your ears and cheers. We will do our very best to put a smile on your face and joy in your heart.
URL:https://sanchosmx.com/sanchos-event/claude-butch-morgan-his-bandaholics/2021-05-20/
LOCATION:Sanchos\, 628 Jackson St\, San Antonio\, TX\, 78212\, United States
CATEGORIES:live music
ATTACH;FMTTYPE=image/jpeg:https://sanchosmx.com/wp-content/uploads/2019/10/bandaholics.jpg
GEO:29.4241219;-98.4936282
X-APPLE-STRUCTURED-LOCATION;VALUE=URI;X-ADDRESS=Sanchos 628 Jackson St San Antonio TX 78212 United States;X-APPLE-RADIUS=500;X-TITLE=628 Jackson St:geo:-98.4936282,29.4241219
END:VEVENT
BEGIN:VEVENT
DTSTART;TZID=America/Chicago:20210519T190000
DTEND;TZID=America/Chicago:20210519T210000
DTSTAMP:20260425T100754
CREATED:20210403T080103Z
LAST-MODIFIED:20211110T200206Z
UID:10014977-1621450800-1621458000@sanchosmx.com
SUMMARY:The Ken Williams Trio
DESCRIPTION:Ken Williams Trio plays on the upper deck with a music variety show! Don't miss out!
URL:https://sanchosmx.com/sanchos-event/the-ken-williams-trio/2021-05-19/
LOCATION:TX
CATEGORIES:live music
ATTACH;FMTTYPE=image/jpeg:https://sanchosmx.com/wp-content/uploads/2021/04/158312193_1944209685737856_6719670888617892755_n.jpg
END:VEVENT
BEGIN:VEVENT
DTSTART;TZID=America/Chicago:20210518T190000
DTEND;TZID=America/Chicago:20210518T230000
DTSTAMP:20260425T100754
CREATED:20210505T222844Z
LAST-MODIFIED:20210928T060953Z
UID:10015257-1621364400-1621378800@sanchosmx.com
SUMMARY:Open Mic w/ Kyle Ray Wilson
DESCRIPTION:Come show off your skills behind the Mic at Sanchos. Hosted by Kyle Ray.\nSign up sheet available \, check in with host.
URL:https://sanchosmx.com/sanchos-event/open-mic-w-kyle-ray-wilson/2021-05-18/
LOCATION:TX
CATEGORIES:live music,open mic
ATTACH;FMTTYPE=image/jpeg:https://sanchosmx.com/wp-content/uploads/2021/05/open-mic-kyle.jpg
END:VEVENT
BEGIN:VEVENT
DTSTART;TZID=America/Chicago:20210516T180000
DTEND;TZID=America/Chicago:20210516T210000
DTSTAMP:20260425T100754
CREATED:20210514T220512Z
LAST-MODIFIED:20210928T060305Z
UID:10015284-1621188000-1621198800@sanchosmx.com
SUMMARY:The Professor Underfunk
DESCRIPTION:One of the best blues musicians & bassists you'll hear in Texas! Based in San Antonio\, Cecil Yancey draws from a wide range of musical influences and an equally extensive background of performance experience. \nThe Professor UnderFunk\, Cecil Yancey\, is a singer\, musician\, songwriter from San Antonio Texas. Cecil has been on stage performing since the age of 9 and has 40+ years of professional performance experience. Cecil has just completed the master recordings for his Debut Release "Elephant Tracks" and is gearing up for a promotional tour in support of his new music. Cecil is geared up to provide gaming\, video\, TV\, radio and commercial music and songwriting for Music Supervisors\, Ad Agencies and general business productions. His influences and music are reflective of such artist greats as Jimi Hendrix\, James Brown\, Stevie Wonder\, Stevie Ray Vaughn and Marvin Gaye \nWebsite
URL:https://sanchosmx.com/sanchos-event/the-professor-underfunk/2021-05-16/
LOCATION:TX
CATEGORIES:live music
ATTACH;FMTTYPE=image/jpeg:https://sanchosmx.com/wp-content/uploads/2019/06/professor-underfunk-e1559795943210.jpg
END:VEVENT
BEGIN:VEVENT
DTSTART;TZID=America/Chicago:20210515T200000
DTEND;TZID=America/Chicago:20210515T220000
DTSTAMP:20260425T100754
CREATED:20210427T083814Z
LAST-MODIFIED:20210427T083814Z
UID:10015004-1621108800-1621116000@sanchosmx.com
SUMMARY:Los #3 Dinners
DESCRIPTION:Los #3 Dinners perform original songs about livin' and lovin' in the Alamo Town. \n\nThis is a “weather permitting” event. All seating is outside\, masks required for entry and when at your table. \n\n  \n 
URL:https://sanchosmx.com/sanchos-event/los-3-dinners-11-21-2020-2-2-2-2-2-2/
LOCATION:TX
CATEGORIES:live music
ATTACH;FMTTYPE=image/jpeg:https://sanchosmx.com/wp-content/uploads/2018/03/los-3-dinners.jpg
END:VEVENT
BEGIN:VEVENT
DTSTART;TZID=America/Chicago:20210514T200000
DTEND;TZID=America/Chicago:20210514T220000
DTSTAMP:20260425T100754
CREATED:20210514T215918Z
LAST-MODIFIED:20210514T215918Z
UID:10015281-1621022400-1621029600@sanchosmx.com
SUMMARY:Unknown Soldiers
DESCRIPTION:San Antonio's “The Unknown Soldiers”. The Bohemian Army is here.
URL:https://sanchosmx.com/sanchos-event/unknown-soldiers-2-2/
LOCATION:TX
CATEGORIES:live music
ATTACH;FMTTYPE=image/jpeg:https://sanchosmx.com/wp-content/uploads/2021/04/124970553_4032206770142229_1462172039236812555_n.jpg
END:VEVENT
BEGIN:VEVENT
DTSTART;TZID=America/Chicago:20210513T190000
DTEND;TZID=America/Chicago:20210513T210000
DTSTAMP:20260425T100754
CREATED:20210427T153307Z
LAST-MODIFIED:20260324T220610Z
UID:10015007-1620932400-1620939600@sanchosmx.com
SUMMARY:Claude Butch Morgan & His Bandaholics
DESCRIPTION:This is the home of Claude Butch Morgan and his BANDAHOLICS!\nEvery Thursday nite we ride off into the wild musical FUN-tier and you get to ride along with us.\nCome one\, come all\, become an EAR-Regular and lend us your ears and cheers. We will do our very best to put a smile on your face and joy in your heart.
URL:https://sanchosmx.com/sanchos-event/claude-butch-morgan-his-bandaholics/2021-05-13/
LOCATION:Sanchos\, 628 Jackson St\, San Antonio\, TX\, 78212\, United States
CATEGORIES:live music
ATTACH;FMTTYPE=image/jpeg:https://sanchosmx.com/wp-content/uploads/2019/10/bandaholics.jpg
GEO:29.4241219;-98.4936282
X-APPLE-STRUCTURED-LOCATION;VALUE=URI;X-ADDRESS=Sanchos 628 Jackson St San Antonio TX 78212 United States;X-APPLE-RADIUS=500;X-TITLE=628 Jackson St:geo:-98.4936282,29.4241219
END:VEVENT
BEGIN:VEVENT
DTSTART;TZID=America/Chicago:20210512T190000
DTEND;TZID=America/Chicago:20210512T210000
DTSTAMP:20260425T100754
CREATED:20210403T080103Z
LAST-MODIFIED:20211110T200206Z
UID:10014976-1620846000-1620853200@sanchosmx.com
SUMMARY:The Ken Williams Trio
DESCRIPTION:Ken Williams Trio plays on the upper deck with a music variety show! Don't miss out!
URL:https://sanchosmx.com/sanchos-event/the-ken-williams-trio/2021-05-12/
LOCATION:TX
CATEGORIES:live music
ATTACH;FMTTYPE=image/jpeg:https://sanchosmx.com/wp-content/uploads/2021/04/158312193_1944209685737856_6719670888617892755_n.jpg
END:VEVENT
BEGIN:VEVENT
DTSTART;TZID=America/Chicago:20210511T190000
DTEND;TZID=America/Chicago:20210511T230000
DTSTAMP:20260425T100754
CREATED:20210505T222844Z
LAST-MODIFIED:20210928T060953Z
UID:10015256-1620759600-1620774000@sanchosmx.com
SUMMARY:Open Mic w/ Kyle Ray Wilson
DESCRIPTION:Come show off your skills behind the Mic at Sanchos. Hosted by Kyle Ray.\nSign up sheet available \, check in with host.
URL:https://sanchosmx.com/sanchos-event/open-mic-w-kyle-ray-wilson/2021-05-11/
LOCATION:TX
CATEGORIES:live music,open mic
ATTACH;FMTTYPE=image/jpeg:https://sanchosmx.com/wp-content/uploads/2021/05/open-mic-kyle.jpg
END:VEVENT
BEGIN:VEVENT
DTSTART;TZID=America/Chicago:20210509T180000
DTEND;TZID=America/Chicago:20210509T210000
DTSTAMP:20260425T100754
CREATED:20210514T220512Z
LAST-MODIFIED:20210928T060305Z
UID:10015283-1620583200-1620594000@sanchosmx.com
SUMMARY:The Professor Underfunk
DESCRIPTION:One of the best blues musicians & bassists you'll hear in Texas! Based in San Antonio\, Cecil Yancey draws from a wide range of musical influences and an equally extensive background of performance experience. \nThe Professor UnderFunk\, Cecil Yancey\, is a singer\, musician\, songwriter from San Antonio Texas. Cecil has been on stage performing since the age of 9 and has 40+ years of professional performance experience. Cecil has just completed the master recordings for his Debut Release "Elephant Tracks" and is gearing up for a promotional tour in support of his new music. Cecil is geared up to provide gaming\, video\, TV\, radio and commercial music and songwriting for Music Supervisors\, Ad Agencies and general business productions. His influences and music are reflective of such artist greats as Jimi Hendrix\, James Brown\, Stevie Wonder\, Stevie Ray Vaughn and Marvin Gaye \nWebsite
URL:https://sanchosmx.com/sanchos-event/the-professor-underfunk/2021-05-09/
LOCATION:TX
CATEGORIES:live music
ATTACH;FMTTYPE=image/jpeg:https://sanchosmx.com/wp-content/uploads/2019/06/professor-underfunk-e1559795943210.jpg
END:VEVENT
BEGIN:VEVENT
DTSTART;TZID=America/Chicago:20210509T140000
DTEND;TZID=America/Chicago:20210509T190000
DTSTAMP:20260425T100754
CREATED:20180830T055513Z
LAST-MODIFIED:20210514T221222Z
UID:10013171-1620568800-1620586800@sanchosmx.com
SUMMARY:Sanchos Domingo
DESCRIPTION:Sanchos Cantina is home to your perfect Sunday afternoon soundtrack... Live DJs spinning vinyl records of all genres... From oldies\, Texican music\, blues & rhythm\, soul jazz\, garage rocks\, cumbias... a bit of everything. Sit back and chill while the kitchen cooks up good eats. Order something from the full bar and kick it on the patio\, rooftop deck\, or the dancefloor!\nNo cover and plenty of parking available. Let's groove! \nThis is a “weather permitting” event. All seating is outside\, masks required for entry and when at your table.
URL:https://sanchosmx.com/sanchos-event/sanchos-domingo-7/2021-05-09/
LOCATION:TX
CATEGORIES:DJ
END:VEVENT
BEGIN:VEVENT
DTSTART;TZID=America/Chicago:20210508T200000
DTEND;TZID=America/Chicago:20210508T220000
DTSTAMP:20260425T100754
CREATED:20210427T194342Z
LAST-MODIFIED:20210427T194342Z
UID:10015251-1620504000-1620511200@sanchosmx.com
SUMMARY:Ed Morales Trio
DESCRIPTION:Ed’s simple songs portray a seemingly complex beauty and linger — close to the heart — inviting listeners to come in and share. His lyrics paint a picture of the man who has emerged on the other side of a long journey. The unmistakably spiritual lyrics are not easily forgotten and call his audience toward personal reflection — a talent hard to come by in today’s disposable world. \nEd has not merely restyled classic forms of music for a new generation — he explains\, rather\, that his heart has gone through a re-generation and the music speaks of a changed life.
URL:https://sanchosmx.com/sanchos-event/ed-morales-trio/
LOCATION:TX
CATEGORIES:live music
ATTACH;FMTTYPE=image/jpeg:https://sanchosmx.com/wp-content/uploads/2021/04/171788181_1974086756083482_1489041996751044967_n.jpg
END:VEVENT
BEGIN:VEVENT
DTSTART;TZID=America/Chicago:20210506T190000
DTEND;TZID=America/Chicago:20210506T210000
DTSTAMP:20260425T100754
CREATED:20210427T153307Z
LAST-MODIFIED:20260324T220610Z
UID:10015006-1620327600-1620334800@sanchosmx.com
SUMMARY:Claude Butch Morgan & His Bandaholics
DESCRIPTION:This is the home of Claude Butch Morgan and his BANDAHOLICS!\nEvery Thursday nite we ride off into the wild musical FUN-tier and you get to ride along with us.\nCome one\, come all\, become an EAR-Regular and lend us your ears and cheers. We will do our very best to put a smile on your face and joy in your heart.
URL:https://sanchosmx.com/sanchos-event/claude-butch-morgan-his-bandaholics/2021-05-06/
LOCATION:Sanchos\, 628 Jackson St\, San Antonio\, TX\, 78212\, United States
CATEGORIES:live music
ATTACH;FMTTYPE=image/jpeg:https://sanchosmx.com/wp-content/uploads/2019/10/bandaholics.jpg
GEO:29.4241219;-98.4936282
X-APPLE-STRUCTURED-LOCATION;VALUE=URI;X-ADDRESS=Sanchos 628 Jackson St San Antonio TX 78212 United States;X-APPLE-RADIUS=500;X-TITLE=628 Jackson St:geo:-98.4936282,29.4241219
END:VEVENT
BEGIN:VEVENT
DTSTART;TZID=America/Chicago:20210505T190000
DTEND;TZID=America/Chicago:20210505T210000
DTSTAMP:20260425T100754
CREATED:20210427T194105Z
LAST-MODIFIED:20210428T195952Z
UID:10015250-1620241200-1620248400@sanchosmx.com
SUMMARY:Abraxas- Santana Tribute Band
DESCRIPTION:ABRAXAS is the ultimate tribute to the music and spirit of Santana. Inspired renditions from over five decades of Santana hits and virtuoso instrumentals\, veteran guitarist\, Ed Antonelli pays tribute to the sound and the feel of Carlos Santana. \nWebsite
URL:https://sanchosmx.com/sanchos-event/abraxas-santana-tribute-band/
LOCATION:TX
CATEGORIES:live music
ATTACH;FMTTYPE=image/jpeg:https://sanchosmx.com/wp-content/uploads/2021/04/89750477_2221559968152882_8462168068087349248_n.jpg
END:VEVENT
BEGIN:VEVENT
DTSTART;TZID=America/Chicago:20210504T190000
DTEND;TZID=America/Chicago:20210504T230000
DTSTAMP:20260425T100754
CREATED:20210505T222844Z
LAST-MODIFIED:20210928T060953Z
UID:10015255-1620154800-1620169200@sanchosmx.com
SUMMARY:Open Mic w/ Kyle Ray Wilson
DESCRIPTION:Come show off your skills behind the Mic at Sanchos. Hosted by Kyle Ray.\nSign up sheet available \, check in with host.
URL:https://sanchosmx.com/sanchos-event/open-mic-w-kyle-ray-wilson/2021-05-04/
LOCATION:TX
CATEGORIES:live music,open mic
ATTACH;FMTTYPE=image/jpeg:https://sanchosmx.com/wp-content/uploads/2021/05/open-mic-kyle.jpg
END:VEVENT
END:VCALENDAR