BEGIN:VCALENDAR
VERSION:2.0
PRODID:-//Sanchos Cocina y Cantina - ECPv6.15.20//NONSGML v1.0//EN
CALSCALE:GREGORIAN
METHOD:PUBLISH
X-WR-CALNAME:Sanchos Cocina y Cantina
X-ORIGINAL-URL:https://sanchosmx.com
X-WR-CALDESC:Events for Sanchos Cocina y Cantina
REFRESH-INTERVAL;VALUE=DURATION:PT1H
X-Robots-Tag:noindex
X-PUBLISHED-TTL:PT1H
BEGIN:VTIMEZONE
TZID:America/Chicago
BEGIN:DAYLIGHT
TZOFFSETFROM:-0600
TZOFFSETTO:-0500
TZNAME:CDT
DTSTART:20200308T080000
END:DAYLIGHT
BEGIN:STANDARD
TZOFFSETFROM:-0500
TZOFFSETTO:-0600
TZNAME:CST
DTSTART:20201101T070000
END:STANDARD
BEGIN:DAYLIGHT
TZOFFSETFROM:-0600
TZOFFSETTO:-0500
TZNAME:CDT
DTSTART:20210314T080000
END:DAYLIGHT
BEGIN:STANDARD
TZOFFSETFROM:-0500
TZOFFSETTO:-0600
TZNAME:CST
DTSTART:20211107T070000
END:STANDARD
BEGIN:DAYLIGHT
TZOFFSETFROM:-0600
TZOFFSETTO:-0500
TZNAME:CDT
DTSTART:20220313T080000
END:DAYLIGHT
BEGIN:STANDARD
TZOFFSETFROM:-0500
TZOFFSETTO:-0600
TZNAME:CST
DTSTART:20221106T070000
END:STANDARD
END:VTIMEZONE
BEGIN:VEVENT
DTSTART;TZID=America/Chicago:20211009T140000
DTEND;TZID=America/Chicago:20211009T180000
DTSTAMP:20260423T161745
CREATED:20210928T061756Z
LAST-MODIFIED:20211001T205122Z
UID:10015369-1633788000-1633802400@sanchosmx.com
SUMMARY:Tardes Tejano w DJ Sabes Que
DESCRIPTION:Website
URL:https://sanchosmx.com/sanchos-event/tardes-tejano-w-dj-sabes-que-2/
LOCATION:TX
CATEGORIES:DJ
END:VEVENT
BEGIN:VEVENT
DTSTART;TZID=America/Chicago:20211008T200000
DTEND;TZID=America/Chicago:20211008T220000
DTSTAMP:20260423T161745
CREATED:20211001T205205Z
LAST-MODIFIED:20211001T205205Z
UID:10015376-1633723200-1633730400@sanchosmx.com
SUMMARY:Ed Morales & The River
DESCRIPTION:Texas Singer-Songwriter Ed Morales with his band The River featuring Brance Arnold (lead guitar)\, Mark Munoz (bass)\, and Monte Ramirez (drums). Performing songs from critically-acclaimed albums “BorderTown”\, “Thinking Man’s Heart” and covers of timeless classics. \nWeather permitting\, Outside seating only\, Masks require for entry and when you leave your table \nWebsite
URL:https://sanchosmx.com/sanchos-event/ed-morales-river-9-19-2020-2-2-2-2-2/
LOCATION:TX
CATEGORIES:live music
END:VEVENT
BEGIN:VEVENT
DTSTART;TZID=America/Chicago:20211007T190000
DTEND;TZID=America/Chicago:20211007T210000
DTSTAMP:20260423T161745
CREATED:20210427T153307Z
LAST-MODIFIED:20260324T220610Z
UID:10015027-1633633200-1633640400@sanchosmx.com
SUMMARY:Claude Butch Morgan & His Bandaholics
DESCRIPTION:This is the home of Claude Butch Morgan and his BANDAHOLICS!\nEvery Thursday nite we ride off into the wild musical FUN-tier and you get to ride along with us.\nCome one\, come all\, become an EAR-Regular and lend us your ears and cheers. We will do our very best to put a smile on your face and joy in your heart.
URL:https://sanchosmx.com/sanchos-event/claude-butch-morgan-his-bandaholics/2021-10-07/
LOCATION:Sanchos\, 628 Jackson St\, San Antonio\, TX\, 78212\, United States
CATEGORIES:live music
ATTACH;FMTTYPE=image/jpeg:https://sanchosmx.com/wp-content/uploads/2019/10/bandaholics.jpg
GEO:29.4241219;-98.4936282
X-APPLE-STRUCTURED-LOCATION;VALUE=URI;X-ADDRESS=Sanchos 628 Jackson St San Antonio TX 78212 United States;X-APPLE-RADIUS=500;X-TITLE=628 Jackson St:geo:-98.4936282,29.4241219
END:VEVENT
BEGIN:VEVENT
DTSTART;TZID=America/Chicago:20211006T190000
DTEND;TZID=America/Chicago:20211006T210000
DTSTAMP:20260423T161745
CREATED:20210403T080103Z
LAST-MODIFIED:20211110T200206Z
UID:10014996-1633546800-1633554000@sanchosmx.com
SUMMARY:The Ken Williams Trio
DESCRIPTION:Ken Williams Trio plays on the upper deck with a music variety show! Don't miss out!
URL:https://sanchosmx.com/sanchos-event/the-ken-williams-trio/2021-10-06/
LOCATION:TX
CATEGORIES:live music
ATTACH;FMTTYPE=image/jpeg:https://sanchosmx.com/wp-content/uploads/2021/04/158312193_1944209685737856_6719670888617892755_n.jpg
END:VEVENT
BEGIN:VEVENT
DTSTART;TZID=America/Chicago:20211005T190000
DTEND;TZID=America/Chicago:20211005T230000
DTSTAMP:20260423T161745
CREATED:20210505T222844Z
LAST-MODIFIED:20210928T060953Z
UID:10015277-1633460400-1633474800@sanchosmx.com
SUMMARY:Open Mic w/ Kyle Ray Wilson
DESCRIPTION:Come show off your skills behind the Mic at Sanchos. Hosted by Kyle Ray.\nSign up sheet available \, check in with host.
URL:https://sanchosmx.com/sanchos-event/open-mic-w-kyle-ray-wilson/2021-10-05/
LOCATION:TX
CATEGORIES:live music,open mic
ATTACH;FMTTYPE=image/jpeg:https://sanchosmx.com/wp-content/uploads/2021/05/open-mic-kyle.jpg
END:VEVENT
BEGIN:VEVENT
DTSTART;TZID=America/Chicago:20211003T180000
DTEND;TZID=America/Chicago:20211003T210000
DTSTAMP:20260423T161745
CREATED:20210514T220512Z
LAST-MODIFIED:20210928T060305Z
UID:10015304-1633284000-1633294800@sanchosmx.com
SUMMARY:The Professor Underfunk
DESCRIPTION:One of the best blues musicians & bassists you'll hear in Texas! Based in San Antonio\, Cecil Yancey draws from a wide range of musical influences and an equally extensive background of performance experience. \nThe Professor UnderFunk\, Cecil Yancey\, is a singer\, musician\, songwriter from San Antonio Texas. Cecil has been on stage performing since the age of 9 and has 40+ years of professional performance experience. Cecil has just completed the master recordings for his Debut Release "Elephant Tracks" and is gearing up for a promotional tour in support of his new music. Cecil is geared up to provide gaming\, video\, TV\, radio and commercial music and songwriting for Music Supervisors\, Ad Agencies and general business productions. His influences and music are reflective of such artist greats as Jimi Hendrix\, James Brown\, Stevie Wonder\, Stevie Ray Vaughn and Marvin Gaye \nWebsite
URL:https://sanchosmx.com/sanchos-event/the-professor-underfunk/2021-10-03/
LOCATION:TX
CATEGORIES:live music
ATTACH;FMTTYPE=image/jpeg:https://sanchosmx.com/wp-content/uploads/2019/06/professor-underfunk-e1559795943210.jpg
END:VEVENT
BEGIN:VEVENT
DTSTART;TZID=America/Chicago:20211003T160000
DTEND;TZID=America/Chicago:20211003T180000
DTSTAMP:20260423T161745
CREATED:20210928T060814Z
LAST-MODIFIED:20211213T231612Z
UID:10015355-1633276800-1633284000@sanchosmx.com
SUMMARY:Tardes Tejanos w DJ Sabes Que
DESCRIPTION:Website
URL:https://sanchosmx.com/sanchos-event/tardes-tejano-w-dj-sabes-que/2021-10-03/
LOCATION:TX
CATEGORIES:DJ
END:VEVENT
BEGIN:VEVENT
DTSTART;TZID=America/Chicago:20211002T200000
DTEND;TZID=America/Chicago:20211002T220000
DTSTAMP:20260423T161745
CREATED:20210928T061855Z
LAST-MODIFIED:20210928T061855Z
UID:10015370-1633204800-1633212000@sanchosmx.com
SUMMARY:Brother Dave Trio
DESCRIPTION:Brother Dave back at it again on our patio stage to bring down the house ! \nRock n Roll !
URL:https://sanchosmx.com/sanchos-event/brother-dave-trio-2-2-2/
LOCATION:TX
CATEGORIES:live music
ATTACH;FMTTYPE=image/jpeg:https://sanchosmx.com/wp-content/uploads/2021/05/180208619_1988265797998911_6634107337412862399_n.jpg
END:VEVENT
BEGIN:VEVENT
DTSTART;TZID=America/Chicago:20210930T190000
DTEND;TZID=America/Chicago:20210930T210000
DTSTAMP:20260423T161745
CREATED:20210427T153307Z
LAST-MODIFIED:20260324T220610Z
UID:10015026-1633028400-1633035600@sanchosmx.com
SUMMARY:Claude Butch Morgan & His Bandaholics
DESCRIPTION:This is the home of Claude Butch Morgan and his BANDAHOLICS!\nEvery Thursday nite we ride off into the wild musical FUN-tier and you get to ride along with us.\nCome one\, come all\, become an EAR-Regular and lend us your ears and cheers. We will do our very best to put a smile on your face and joy in your heart.
URL:https://sanchosmx.com/sanchos-event/claude-butch-morgan-his-bandaholics/2021-09-30/
LOCATION:Sanchos\, 628 Jackson St\, San Antonio\, TX\, 78212\, United States
CATEGORIES:live music
ATTACH;FMTTYPE=image/jpeg:https://sanchosmx.com/wp-content/uploads/2019/10/bandaholics.jpg
GEO:29.4241219;-98.4936282
X-APPLE-STRUCTURED-LOCATION;VALUE=URI;X-ADDRESS=Sanchos 628 Jackson St San Antonio TX 78212 United States;X-APPLE-RADIUS=500;X-TITLE=628 Jackson St:geo:-98.4936282,29.4241219
END:VEVENT
BEGIN:VEVENT
DTSTART;TZID=America/Chicago:20210929T190000
DTEND;TZID=America/Chicago:20210929T210000
DTSTAMP:20260423T161745
CREATED:20210403T080103Z
LAST-MODIFIED:20211110T200206Z
UID:10014995-1632942000-1632949200@sanchosmx.com
SUMMARY:The Ken Williams Trio
DESCRIPTION:Ken Williams Trio plays on the upper deck with a music variety show! Don't miss out!
URL:https://sanchosmx.com/sanchos-event/the-ken-williams-trio/2021-09-29/
LOCATION:TX
CATEGORIES:live music
ATTACH;FMTTYPE=image/jpeg:https://sanchosmx.com/wp-content/uploads/2021/04/158312193_1944209685737856_6719670888617892755_n.jpg
END:VEVENT
BEGIN:VEVENT
DTSTART;TZID=America/Chicago:20210928T190000
DTEND;TZID=America/Chicago:20210928T230000
DTSTAMP:20260423T161745
CREATED:20210505T222844Z
LAST-MODIFIED:20210928T060953Z
UID:10015276-1632855600-1632870000@sanchosmx.com
SUMMARY:Open Mic w/ Kyle Ray Wilson
DESCRIPTION:Come show off your skills behind the Mic at Sanchos. Hosted by Kyle Ray.\nSign up sheet available \, check in with host.
URL:https://sanchosmx.com/sanchos-event/open-mic-w-kyle-ray-wilson/2021-09-28/
LOCATION:TX
CATEGORIES:live music,open mic
ATTACH;FMTTYPE=image/jpeg:https://sanchosmx.com/wp-content/uploads/2021/05/open-mic-kyle.jpg
END:VEVENT
BEGIN:VEVENT
DTSTART;TZID=America/Chicago:20210926T180000
DTEND;TZID=America/Chicago:20210926T210000
DTSTAMP:20260423T161745
CREATED:20210514T220512Z
LAST-MODIFIED:20210928T060305Z
UID:10015303-1632679200-1632690000@sanchosmx.com
SUMMARY:The Professor Underfunk
DESCRIPTION:One of the best blues musicians & bassists you'll hear in Texas! Based in San Antonio\, Cecil Yancey draws from a wide range of musical influences and an equally extensive background of performance experience. \nThe Professor UnderFunk\, Cecil Yancey\, is a singer\, musician\, songwriter from San Antonio Texas. Cecil has been on stage performing since the age of 9 and has 40+ years of professional performance experience. Cecil has just completed the master recordings for his Debut Release "Elephant Tracks" and is gearing up for a promotional tour in support of his new music. Cecil is geared up to provide gaming\, video\, TV\, radio and commercial music and songwriting for Music Supervisors\, Ad Agencies and general business productions. His influences and music are reflective of such artist greats as Jimi Hendrix\, James Brown\, Stevie Wonder\, Stevie Ray Vaughn and Marvin Gaye \nWebsite
URL:https://sanchosmx.com/sanchos-event/the-professor-underfunk/2021-09-26/
LOCATION:TX
CATEGORIES:live music
ATTACH;FMTTYPE=image/jpeg:https://sanchosmx.com/wp-content/uploads/2019/06/professor-underfunk-e1559795943210.jpg
END:VEVENT
BEGIN:VEVENT
DTSTART;TZID=America/Chicago:20210925T200000
DTEND;TZID=America/Chicago:20210925T220000
DTSTAMP:20260423T161745
CREATED:20210901T082403Z
LAST-MODIFIED:20210901T082403Z
UID:10015354-1632600000-1632607200@sanchosmx.com
SUMMARY:Old Country Night with Claude Butch Morgan
DESCRIPTION:
URL:https://sanchosmx.com/sanchos-event/old-country-night-with-claude-butch-morgan/
LOCATION:TX
CATEGORIES:live music
END:VEVENT
BEGIN:VEVENT
DTSTART;TZID=America/Chicago:20210924T200000
DTEND;TZID=America/Chicago:20210924T220000
DTSTAMP:20260423T161745
CREATED:20210901T082124Z
LAST-MODIFIED:20210901T082124Z
UID:10015353-1632513600-1632520800@sanchosmx.com
SUMMARY:Brother Dave and the Barrio Blasters
DESCRIPTION:Brother Dave and the Barrio Blasters! are a Hard Groovin'\, Sharp Dressed band with a songbook as diverse as our beloved hometown San Antonio\, Texas. Rock\, Soul\, Blues\, Honky Tonk\, and Funk all come together to create a tasty groove that is Puro San Antonio!
URL:https://sanchosmx.com/sanchos-event/brother-dave-barrio-blasters-2-21-2020-2-2-2-2-2/
LOCATION:TX
CATEGORIES:live music
ATTACH;FMTTYPE=image/jpeg:https://sanchosmx.com/wp-content/uploads/2016/10/brother-dave.jpg
END:VEVENT
BEGIN:VEVENT
DTSTART;TZID=America/Chicago:20210923T190000
DTEND;TZID=America/Chicago:20210923T210000
DTSTAMP:20260423T161745
CREATED:20210427T153307Z
LAST-MODIFIED:20260324T220610Z
UID:10015025-1632423600-1632430800@sanchosmx.com
SUMMARY:Claude Butch Morgan & His Bandaholics
DESCRIPTION:This is the home of Claude Butch Morgan and his BANDAHOLICS!\nEvery Thursday nite we ride off into the wild musical FUN-tier and you get to ride along with us.\nCome one\, come all\, become an EAR-Regular and lend us your ears and cheers. We will do our very best to put a smile on your face and joy in your heart.
URL:https://sanchosmx.com/sanchos-event/claude-butch-morgan-his-bandaholics/2021-09-23/
LOCATION:Sanchos\, 628 Jackson St\, San Antonio\, TX\, 78212\, United States
CATEGORIES:live music
ATTACH;FMTTYPE=image/jpeg:https://sanchosmx.com/wp-content/uploads/2019/10/bandaholics.jpg
GEO:29.4241219;-98.4936282
X-APPLE-STRUCTURED-LOCATION;VALUE=URI;X-ADDRESS=Sanchos 628 Jackson St San Antonio TX 78212 United States;X-APPLE-RADIUS=500;X-TITLE=628 Jackson St:geo:-98.4936282,29.4241219
END:VEVENT
BEGIN:VEVENT
DTSTART;TZID=America/Chicago:20210922T190000
DTEND;TZID=America/Chicago:20210922T210000
DTSTAMP:20260423T161745
CREATED:20210403T080103Z
LAST-MODIFIED:20211110T200206Z
UID:10014994-1632337200-1632344400@sanchosmx.com
SUMMARY:The Ken Williams Trio
DESCRIPTION:Ken Williams Trio plays on the upper deck with a music variety show! Don't miss out!
URL:https://sanchosmx.com/sanchos-event/the-ken-williams-trio/2021-09-22/
LOCATION:TX
CATEGORIES:live music
ATTACH;FMTTYPE=image/jpeg:https://sanchosmx.com/wp-content/uploads/2021/04/158312193_1944209685737856_6719670888617892755_n.jpg
END:VEVENT
BEGIN:VEVENT
DTSTART;TZID=America/Chicago:20210921T190000
DTEND;TZID=America/Chicago:20210921T230000
DTSTAMP:20260423T161745
CREATED:20210505T222844Z
LAST-MODIFIED:20210928T060953Z
UID:10015275-1632250800-1632265200@sanchosmx.com
SUMMARY:Open Mic w/ Kyle Ray Wilson
DESCRIPTION:Come show off your skills behind the Mic at Sanchos. Hosted by Kyle Ray.\nSign up sheet available \, check in with host.
URL:https://sanchosmx.com/sanchos-event/open-mic-w-kyle-ray-wilson/2021-09-21/
LOCATION:TX
CATEGORIES:live music,open mic
ATTACH;FMTTYPE=image/jpeg:https://sanchosmx.com/wp-content/uploads/2021/05/open-mic-kyle.jpg
END:VEVENT
BEGIN:VEVENT
DTSTART;TZID=America/Chicago:20210919T180000
DTEND;TZID=America/Chicago:20210919T210000
DTSTAMP:20260423T161745
CREATED:20210514T220512Z
LAST-MODIFIED:20210928T060305Z
UID:10015302-1632074400-1632085200@sanchosmx.com
SUMMARY:The Professor Underfunk
DESCRIPTION:One of the best blues musicians & bassists you'll hear in Texas! Based in San Antonio\, Cecil Yancey draws from a wide range of musical influences and an equally extensive background of performance experience. \nThe Professor UnderFunk\, Cecil Yancey\, is a singer\, musician\, songwriter from San Antonio Texas. Cecil has been on stage performing since the age of 9 and has 40+ years of professional performance experience. Cecil has just completed the master recordings for his Debut Release "Elephant Tracks" and is gearing up for a promotional tour in support of his new music. Cecil is geared up to provide gaming\, video\, TV\, radio and commercial music and songwriting for Music Supervisors\, Ad Agencies and general business productions. His influences and music are reflective of such artist greats as Jimi Hendrix\, James Brown\, Stevie Wonder\, Stevie Ray Vaughn and Marvin Gaye \nWebsite
URL:https://sanchosmx.com/sanchos-event/the-professor-underfunk/2021-09-19/
LOCATION:TX
CATEGORIES:live music
ATTACH;FMTTYPE=image/jpeg:https://sanchosmx.com/wp-content/uploads/2019/06/professor-underfunk-e1559795943210.jpg
END:VEVENT
BEGIN:VEVENT
DTSTART;TZID=America/Chicago:20210918T200000
DTEND;TZID=America/Chicago:20210918T223000
DTSTAMP:20260423T161745
CREATED:20210901T081536Z
LAST-MODIFIED:20210901T081536Z
UID:10015352-1631995200-1632004200@sanchosmx.com
SUMMARY:The Polka Brothers
DESCRIPTION:The Polka Brothers are a four man band of young polka lovers\, out to spread the joy of polka\, one wild party at a time. They’re a well-oiled polka machine\, boasting a fearless repertoire that includes classic polka favorites\, pop and rock gone polka\, and unforgettable originals. They love hooking the audience in with lively polka covers of songs they already know\, rocking it on a traditional polka they may not\, and taking it home with a fun original they’ll be singing for the rest of the evening – at least… \nAt first listen\, the seemingly foreign tone of the music transports listeners to familiar polka homelands; Germany\, Poland\, Czechoslovakia\, and others… You’ve stepped out of your day and taken that trip you’ve always dreamed of. With “The Polka Brothers” guests are singing today’s homeland melodies; R. Kelly\, Weezer\, Lady Gaga\, The Rolling Stones etc. So grab a beer\, sing along and experience the meaning of the old adage “No one ever leaves a polka party without a smile on their face.” \n  \nWebsite
URL:https://sanchosmx.com/sanchos-event/the-polka-brothers/
LOCATION:TX
CATEGORIES:live music
ATTACH;FMTTYPE=image/jpeg:https://sanchosmx.com/wp-content/uploads/2021/09/PolkaBrothersPressPhoto_1.jpg
END:VEVENT
BEGIN:VEVENT
DTSTART;TZID=America/Chicago:20210917T200000
DTEND;TZID=America/Chicago:20210917T220000
DTSTAMP:20260423T161745
CREATED:20210901T080928Z
LAST-MODIFIED:20210901T080928Z
UID:10015351-1631908800-1631916000@sanchosmx.com
SUMMARY:The Walk-Offs
DESCRIPTION:The Walk Offs are a Rock-N-Roll band from San Antonio\, Tx. The band consist of members from various other long running SA bands. The music can go from straight up punk rock to slower rock tunes with poignant lyrics. \nWebsite
URL:https://sanchosmx.com/sanchos-event/the-walk-offs-4-2/
LOCATION:TX
CATEGORIES:live music
ATTACH;FMTTYPE=image/jpeg:https://sanchosmx.com/wp-content/uploads/2019/02/walk-offs-e1551245000802.jpg
END:VEVENT
BEGIN:VEVENT
DTSTART;TZID=America/Chicago:20210916T190000
DTEND;TZID=America/Chicago:20210916T210000
DTSTAMP:20260423T161745
CREATED:20210427T153307Z
LAST-MODIFIED:20260324T220610Z
UID:10015024-1631818800-1631826000@sanchosmx.com
SUMMARY:Claude Butch Morgan & His Bandaholics
DESCRIPTION:This is the home of Claude Butch Morgan and his BANDAHOLICS!\nEvery Thursday nite we ride off into the wild musical FUN-tier and you get to ride along with us.\nCome one\, come all\, become an EAR-Regular and lend us your ears and cheers. We will do our very best to put a smile on your face and joy in your heart.
URL:https://sanchosmx.com/sanchos-event/claude-butch-morgan-his-bandaholics/2021-09-16/
LOCATION:Sanchos\, 628 Jackson St\, San Antonio\, TX\, 78212\, United States
CATEGORIES:live music
ATTACH;FMTTYPE=image/jpeg:https://sanchosmx.com/wp-content/uploads/2019/10/bandaholics.jpg
GEO:29.4241219;-98.4936282
X-APPLE-STRUCTURED-LOCATION;VALUE=URI;X-ADDRESS=Sanchos 628 Jackson St San Antonio TX 78212 United States;X-APPLE-RADIUS=500;X-TITLE=628 Jackson St:geo:-98.4936282,29.4241219
END:VEVENT
BEGIN:VEVENT
DTSTART;TZID=America/Chicago:20210915T190000
DTEND;TZID=America/Chicago:20210915T210000
DTSTAMP:20260423T161745
CREATED:20210403T080103Z
LAST-MODIFIED:20211110T200206Z
UID:10014993-1631732400-1631739600@sanchosmx.com
SUMMARY:The Ken Williams Trio
DESCRIPTION:Ken Williams Trio plays on the upper deck with a music variety show! Don't miss out!
URL:https://sanchosmx.com/sanchos-event/the-ken-williams-trio/2021-09-15/
LOCATION:TX
CATEGORIES:live music
ATTACH;FMTTYPE=image/jpeg:https://sanchosmx.com/wp-content/uploads/2021/04/158312193_1944209685737856_6719670888617892755_n.jpg
END:VEVENT
BEGIN:VEVENT
DTSTART;TZID=America/Chicago:20210914T190000
DTEND;TZID=America/Chicago:20210914T230000
DTSTAMP:20260423T161745
CREATED:20210505T222844Z
LAST-MODIFIED:20210928T060953Z
UID:10015274-1631646000-1631660400@sanchosmx.com
SUMMARY:Open Mic w/ Kyle Ray Wilson
DESCRIPTION:Come show off your skills behind the Mic at Sanchos. Hosted by Kyle Ray.\nSign up sheet available \, check in with host.
URL:https://sanchosmx.com/sanchos-event/open-mic-w-kyle-ray-wilson/2021-09-14/
LOCATION:TX
CATEGORIES:live music,open mic
ATTACH;FMTTYPE=image/jpeg:https://sanchosmx.com/wp-content/uploads/2021/05/open-mic-kyle.jpg
END:VEVENT
BEGIN:VEVENT
DTSTART;TZID=America/Chicago:20210912T180000
DTEND;TZID=America/Chicago:20210912T210000
DTSTAMP:20260423T161745
CREATED:20210514T220512Z
LAST-MODIFIED:20210928T060305Z
UID:10015301-1631469600-1631480400@sanchosmx.com
SUMMARY:The Professor Underfunk
DESCRIPTION:One of the best blues musicians & bassists you'll hear in Texas! Based in San Antonio\, Cecil Yancey draws from a wide range of musical influences and an equally extensive background of performance experience. \nThe Professor UnderFunk\, Cecil Yancey\, is a singer\, musician\, songwriter from San Antonio Texas. Cecil has been on stage performing since the age of 9 and has 40+ years of professional performance experience. Cecil has just completed the master recordings for his Debut Release "Elephant Tracks" and is gearing up for a promotional tour in support of his new music. Cecil is geared up to provide gaming\, video\, TV\, radio and commercial music and songwriting for Music Supervisors\, Ad Agencies and general business productions. His influences and music are reflective of such artist greats as Jimi Hendrix\, James Brown\, Stevie Wonder\, Stevie Ray Vaughn and Marvin Gaye \nWebsite
URL:https://sanchosmx.com/sanchos-event/the-professor-underfunk/2021-09-12/
LOCATION:TX
CATEGORIES:live music
ATTACH;FMTTYPE=image/jpeg:https://sanchosmx.com/wp-content/uploads/2019/06/professor-underfunk-e1559795943210.jpg
END:VEVENT
BEGIN:VEVENT
DTSTART;TZID=America/Chicago:20210912T160000
DTEND;TZID=America/Chicago:20210912T180000
DTSTAMP:20260423T161745
CREATED:20210901T075623Z
LAST-MODIFIED:20210901T075623Z
UID:10015347-1631462400-1631469600@sanchosmx.com
SUMMARY:Mark's Brothers
DESCRIPTION:Mark’s Brothers draws upon a broad range of influences incorporating swing\, country\, folk\, blues\, and rock from the 1920’s through the 1970’s to form its own blend of American music with some original’s thrown into the mix.
URL:https://sanchosmx.com/sanchos-event/marks-brothers-8-2-2-2-4-2-2/
LOCATION:TX
CATEGORIES:live music
ATTACH;FMTTYPE=image/jpeg:https://sanchosmx.com/wp-content/uploads/2017/01/Marks-brothers-facebook-e1485922185576.jpg
END:VEVENT
BEGIN:VEVENT
DTSTART;TZID=America/Chicago:20210910T200000
DTEND;TZID=America/Chicago:20210910T220000
DTSTAMP:20260423T161745
CREATED:20210901T080741Z
LAST-MODIFIED:20210901T080741Z
UID:10015350-1631304000-1631311200@sanchosmx.com
SUMMARY:Loaded
DESCRIPTION:LOADED is a rock and roll band from SA. We play original music We have what you want. Name it.
URL:https://sanchosmx.com/sanchos-event/loaded-9-3-2-2-2/
LOCATION:TX
CATEGORIES:live music
END:VEVENT
BEGIN:VEVENT
DTSTART;TZID=America/Chicago:20210909T190000
DTEND;TZID=America/Chicago:20210909T210000
DTSTAMP:20260423T161745
CREATED:20210427T153307Z
LAST-MODIFIED:20260324T220610Z
UID:10015023-1631214000-1631221200@sanchosmx.com
SUMMARY:Claude Butch Morgan & His Bandaholics
DESCRIPTION:This is the home of Claude Butch Morgan and his BANDAHOLICS!\nEvery Thursday nite we ride off into the wild musical FUN-tier and you get to ride along with us.\nCome one\, come all\, become an EAR-Regular and lend us your ears and cheers. We will do our very best to put a smile on your face and joy in your heart.
URL:https://sanchosmx.com/sanchos-event/claude-butch-morgan-his-bandaholics/2021-09-09/
LOCATION:Sanchos\, 628 Jackson St\, San Antonio\, TX\, 78212\, United States
CATEGORIES:live music
ATTACH;FMTTYPE=image/jpeg:https://sanchosmx.com/wp-content/uploads/2019/10/bandaholics.jpg
GEO:29.4241219;-98.4936282
X-APPLE-STRUCTURED-LOCATION;VALUE=URI;X-ADDRESS=Sanchos 628 Jackson St San Antonio TX 78212 United States;X-APPLE-RADIUS=500;X-TITLE=628 Jackson St:geo:-98.4936282,29.4241219
END:VEVENT
BEGIN:VEVENT
DTSTART;TZID=America/Chicago:20210908T190000
DTEND;TZID=America/Chicago:20210908T210000
DTSTAMP:20260423T161745
CREATED:20210403T080103Z
LAST-MODIFIED:20211110T200206Z
UID:10014992-1631127600-1631134800@sanchosmx.com
SUMMARY:The Ken Williams Trio
DESCRIPTION:Ken Williams Trio plays on the upper deck with a music variety show! Don't miss out!
URL:https://sanchosmx.com/sanchos-event/the-ken-williams-trio/2021-09-08/
LOCATION:TX
CATEGORIES:live music
ATTACH;FMTTYPE=image/jpeg:https://sanchosmx.com/wp-content/uploads/2021/04/158312193_1944209685737856_6719670888617892755_n.jpg
END:VEVENT
BEGIN:VEVENT
DTSTART;TZID=America/Chicago:20210907T190000
DTEND;TZID=America/Chicago:20210907T230000
DTSTAMP:20260423T161745
CREATED:20210505T222844Z
LAST-MODIFIED:20210928T060953Z
UID:10015273-1631041200-1631055600@sanchosmx.com
SUMMARY:Open Mic w/ Kyle Ray Wilson
DESCRIPTION:Come show off your skills behind the Mic at Sanchos. Hosted by Kyle Ray.\nSign up sheet available \, check in with host.
URL:https://sanchosmx.com/sanchos-event/open-mic-w-kyle-ray-wilson/2021-09-07/
LOCATION:TX
CATEGORIES:live music,open mic
ATTACH;FMTTYPE=image/jpeg:https://sanchosmx.com/wp-content/uploads/2021/05/open-mic-kyle.jpg
END:VEVENT
BEGIN:VEVENT
DTSTART;TZID=America/Chicago:20210905T180000
DTEND;TZID=America/Chicago:20210905T210000
DTSTAMP:20260423T161745
CREATED:20210514T220512Z
LAST-MODIFIED:20210928T060305Z
UID:10015300-1630864800-1630875600@sanchosmx.com
SUMMARY:The Professor Underfunk
DESCRIPTION:One of the best blues musicians & bassists you'll hear in Texas! Based in San Antonio\, Cecil Yancey draws from a wide range of musical influences and an equally extensive background of performance experience. \nThe Professor UnderFunk\, Cecil Yancey\, is a singer\, musician\, songwriter from San Antonio Texas. Cecil has been on stage performing since the age of 9 and has 40+ years of professional performance experience. Cecil has just completed the master recordings for his Debut Release "Elephant Tracks" and is gearing up for a promotional tour in support of his new music. Cecil is geared up to provide gaming\, video\, TV\, radio and commercial music and songwriting for Music Supervisors\, Ad Agencies and general business productions. His influences and music are reflective of such artist greats as Jimi Hendrix\, James Brown\, Stevie Wonder\, Stevie Ray Vaughn and Marvin Gaye \nWebsite
URL:https://sanchosmx.com/sanchos-event/the-professor-underfunk/2021-09-05/
LOCATION:TX
CATEGORIES:live music
ATTACH;FMTTYPE=image/jpeg:https://sanchosmx.com/wp-content/uploads/2019/06/professor-underfunk-e1559795943210.jpg
END:VEVENT
END:VCALENDAR