BEGIN:VCALENDAR
VERSION:2.0
PRODID:-//Sanchos Cocina y Cantina - ECPv6.15.20//NONSGML v1.0//EN
CALSCALE:GREGORIAN
METHOD:PUBLISH
X-WR-CALNAME:Sanchos Cocina y Cantina
X-ORIGINAL-URL:https://sanchosmx.com
X-WR-CALDESC:Events for Sanchos Cocina y Cantina
REFRESH-INTERVAL;VALUE=DURATION:PT1H
X-Robots-Tag:noindex
X-PUBLISHED-TTL:PT1H
BEGIN:VTIMEZONE
TZID:America/Chicago
BEGIN:DAYLIGHT
TZOFFSETFROM:-0600
TZOFFSETTO:-0500
TZNAME:CDT
DTSTART:20200308T080000
END:DAYLIGHT
BEGIN:STANDARD
TZOFFSETFROM:-0500
TZOFFSETTO:-0600
TZNAME:CST
DTSTART:20201101T070000
END:STANDARD
BEGIN:DAYLIGHT
TZOFFSETFROM:-0600
TZOFFSETTO:-0500
TZNAME:CDT
DTSTART:20210314T080000
END:DAYLIGHT
BEGIN:STANDARD
TZOFFSETFROM:-0500
TZOFFSETTO:-0600
TZNAME:CST
DTSTART:20211107T070000
END:STANDARD
BEGIN:DAYLIGHT
TZOFFSETFROM:-0600
TZOFFSETTO:-0500
TZNAME:CDT
DTSTART:20220313T080000
END:DAYLIGHT
BEGIN:STANDARD
TZOFFSETFROM:-0500
TZOFFSETTO:-0600
TZNAME:CST
DTSTART:20221106T070000
END:STANDARD
BEGIN:DAYLIGHT
TZOFFSETFROM:-0600
TZOFFSETTO:-0500
TZNAME:CDT
DTSTART:20230312T080000
END:DAYLIGHT
BEGIN:STANDARD
TZOFFSETFROM:-0500
TZOFFSETTO:-0600
TZNAME:CST
DTSTART:20231105T070000
END:STANDARD
END:VTIMEZONE
BEGIN:VEVENT
DTSTART;TZID=America/Chicago:20220119T190000
DTEND;TZID=America/Chicago:20220119T210000
DTSTAMP:20260423T032631
CREATED:20211110T200849Z
LAST-MODIFIED:20220228T063420Z
UID:10015471-1642618800-1642626000@sanchosmx.com
SUMMARY:FuZion Mariachi
DESCRIPTION:A new era of mariachi!\nKumbia • Mariachi • Rock • Pop\n\nWebsite
URL:https://sanchosmx.com/sanchos-event/fuzion-mariachi/2022-01-19/
LOCATION:TX
CATEGORIES:live music
ATTACH;FMTTYPE=image/jpeg:https://sanchosmx.com/wp-content/uploads/2021/11/fuzion.jpg
END:VEVENT
BEGIN:VEVENT
DTSTART;TZID=America/Chicago:20220118T190000
DTEND;TZID=America/Chicago:20220118T210000
DTSTAMP:20260423T032631
CREATED:20211221T033047Z
LAST-MODIFIED:20211221T033047Z
UID:10015505-1642532400-1642539600@sanchosmx.com
SUMMARY:Chacho & Brance
DESCRIPTION:
URL:https://sanchosmx.com/sanchos-event/chacho-brance-5/
LOCATION:TX
CATEGORIES:live music
ATTACH;FMTTYPE=image/jpeg:https://sanchosmx.com/wp-content/uploads/2019/01/chacho-and-brance-e1548396254814.jpg
END:VEVENT
BEGIN:VEVENT
DTSTART;TZID=America/Chicago:20220117T190000
DTEND;TZID=America/Chicago:20220117T210000
DTSTAMP:20260423T032631
CREATED:20211029T014719Z
LAST-MODIFIED:20230127T222010Z
UID:10015391-1642446000-1642453200@sanchosmx.com
SUMMARY:The Hess Brothers and Company Jazz Session
DESCRIPTION:Dynamic combo of some of the most award winning jazz musicians in San Antonio. 
URL:https://sanchosmx.com/sanchos-event/prado-hess-jazz-duo/2022-01-17/
LOCATION:Sanchos\, 628 Jackson St\, San Antonio\, TX\, 78212\, United States
CATEGORIES:live music
ATTACH;FMTTYPE=image/jpeg:https://sanchosmx.com/wp-content/uploads/2021/10/245779532_2112330442259112_821500283828505130_n.jpg
GEO:29.4241219;-98.4936282
X-APPLE-STRUCTURED-LOCATION;VALUE=URI;X-ADDRESS=Sanchos 628 Jackson St San Antonio TX 78212 United States;X-APPLE-RADIUS=500;X-TITLE=628 Jackson St:geo:-98.4936282,29.4241219
END:VEVENT
BEGIN:VEVENT
DTSTART;TZID=America/Chicago:20220115T200000
DTEND;TZID=America/Chicago:20220115T220000
DTSTAMP:20260423T032631
CREATED:20211216T030716Z
LAST-MODIFIED:20211216T030716Z
UID:10015498-1642276800-1642284000@sanchosmx.com
SUMMARY:Los #3 Dinners
DESCRIPTION:Los #3 Dinners perform original songs about livin' and lovin' in the Alamo Town. \n\nThis is a “weather permitting” event. All seating is outside\, masks required for entry and when at your table. \n\n  \n 
URL:https://sanchosmx.com/sanchos-event/los-3-dinners-11-21-2020-2-2-2-2-2-2-2-2-2-2-2-2-2/
LOCATION:TX
CATEGORIES:live music
ATTACH;FMTTYPE=image/jpeg:https://sanchosmx.com/wp-content/uploads/2018/03/los-3-dinners.jpg
END:VEVENT
BEGIN:VEVENT
DTSTART;TZID=America/Chicago:20220114T200000
DTEND;TZID=America/Chicago:20220114T220000
DTSTAMP:20260423T032631
CREATED:20211230T221319Z
LAST-MODIFIED:20211230T221319Z
UID:10015509-1642190400-1642197600@sanchosmx.com
SUMMARY:Blue Sundries
DESCRIPTION:Bluesy San Antonio Rock and Roll \nWebsite
URL:https://sanchosmx.com/sanchos-event/blue-sundries-3-2/
LOCATION:TX
CATEGORIES:live music
ATTACH;FMTTYPE=image/jpeg:https://sanchosmx.com/wp-content/uploads/2021/11/03a89f6e-2ff5-4f0d-935c-c63cc150b590.jpg
END:VEVENT
BEGIN:VEVENT
DTSTART;TZID=America/Chicago:20220113T190000
DTEND;TZID=America/Chicago:20220113T210000
DTSTAMP:20260423T032631
CREATED:20220104T182714Z
LAST-MODIFIED:20220104T182817Z
UID:10015512-1642100400-1642107600@sanchosmx.com
SUMMARY:Brother Dave Trio
DESCRIPTION:Brother Dave back at it again on our patio stage to bring down the house ! \nRock n Roll !
URL:https://sanchosmx.com/sanchos-event/brother-dave-trio-2-2-2-2-2-2-2-2/
LOCATION:TX
CATEGORIES:live music
ATTACH;FMTTYPE=image/jpeg:https://sanchosmx.com/wp-content/uploads/2021/05/180208619_1988265797998911_6634107337412862399_n.jpg
END:VEVENT
BEGIN:VEVENT
DTSTART;TZID=America/Chicago:20220112T190000
DTEND;TZID=America/Chicago:20220112T210000
DTSTAMP:20260423T032631
CREATED:20211110T200849Z
LAST-MODIFIED:20220228T063420Z
UID:10015470-1642014000-1642021200@sanchosmx.com
SUMMARY:FuZion Mariachi
DESCRIPTION:A new era of mariachi!\nKumbia • Mariachi • Rock • Pop\n\nWebsite
URL:https://sanchosmx.com/sanchos-event/fuzion-mariachi/2022-01-12/
LOCATION:TX
CATEGORIES:live music
ATTACH;FMTTYPE=image/jpeg:https://sanchosmx.com/wp-content/uploads/2021/11/fuzion.jpg
END:VEVENT
BEGIN:VEVENT
DTSTART;TZID=America/Chicago:20220111T190000
DTEND;TZID=America/Chicago:20220111T210000
DTSTAMP:20260423T032631
CREATED:20211216T031904Z
LAST-MODIFIED:20211221T033131Z
UID:10015501-1641927600-1641934800@sanchosmx.com
SUMMARY:Rain Dogs
DESCRIPTION:Glam Folk Duo from San Antonio
URL:https://sanchosmx.com/sanchos-event/rain-dogs-3/
LOCATION:TX
CATEGORIES:live music
ATTACH;FMTTYPE=image/jpeg:https://sanchosmx.com/wp-content/uploads/2021/12/266919616_2158806960944793_8309220362267323687_n.jpg
END:VEVENT
BEGIN:VEVENT
DTSTART;TZID=America/Chicago:20220110T190000
DTEND;TZID=America/Chicago:20220110T210000
DTSTAMP:20260423T032631
CREATED:20211029T014719Z
LAST-MODIFIED:20230127T222010Z
UID:10015390-1641841200-1641848400@sanchosmx.com
SUMMARY:The Hess Brothers and Company Jazz Session
DESCRIPTION:Dynamic combo of some of the most award winning jazz musicians in San Antonio. 
URL:https://sanchosmx.com/sanchos-event/prado-hess-jazz-duo/2022-01-10/
LOCATION:Sanchos\, 628 Jackson St\, San Antonio\, TX\, 78212\, United States
CATEGORIES:live music
ATTACH;FMTTYPE=image/jpeg:https://sanchosmx.com/wp-content/uploads/2021/10/245779532_2112330442259112_821500283828505130_n.jpg
GEO:29.4241219;-98.4936282
X-APPLE-STRUCTURED-LOCATION;VALUE=URI;X-ADDRESS=Sanchos 628 Jackson St San Antonio TX 78212 United States;X-APPLE-RADIUS=500;X-TITLE=628 Jackson St:geo:-98.4936282,29.4241219
END:VEVENT
BEGIN:VEVENT
DTSTART;TZID=America/Chicago:20220108T200000
DTEND;TZID=America/Chicago:20220108T220000
DTSTAMP:20260423T032631
CREATED:20211216T030614Z
LAST-MODIFIED:20211216T030614Z
UID:10015497-1641672000-1641679200@sanchosmx.com
SUMMARY:Brother Dave Trio
DESCRIPTION:Brother Dave back at it again on our patio stage to bring down the house ! \nRock n Roll !
URL:https://sanchosmx.com/sanchos-event/brother-dave-trio-2-2-2-2-2-2/
LOCATION:TX
CATEGORIES:live music
ATTACH;FMTTYPE=image/jpeg:https://sanchosmx.com/wp-content/uploads/2021/05/180208619_1988265797998911_6634107337412862399_n.jpg
END:VEVENT
BEGIN:VEVENT
DTSTART;TZID=America/Chicago:20220107T200000
DTEND;TZID=America/Chicago:20220107T220000
DTSTAMP:20260423T032631
CREATED:20220106T040215Z
LAST-MODIFIED:20220106T040215Z
UID:10015513-1641585600-1641592800@sanchosmx.com
SUMMARY:Unknown Soldiers
DESCRIPTION:San Antonio's “The Unknown Soldiers”. The Bohemian Army is here.
URL:https://sanchosmx.com/sanchos-event/unknown-soldiers-2-2-2-2-2-2-2-2/
LOCATION:TX
CATEGORIES:live music
ATTACH;FMTTYPE=image/jpeg:https://sanchosmx.com/wp-content/uploads/2021/04/124970553_4032206770142229_1462172039236812555_n.jpg
END:VEVENT
BEGIN:VEVENT
DTSTART;TZID=America/Chicago:20220106T190000
DTEND;TZID=America/Chicago:20220106T210000
DTSTAMP:20260423T032631
CREATED:20220104T182648Z
LAST-MODIFIED:20220104T182854Z
UID:10015511-1641495600-1641502800@sanchosmx.com
SUMMARY:Brother Dave Trio
DESCRIPTION:Brother Dave back at it again on our patio stage to bring down the house ! \nRock n Roll !
URL:https://sanchosmx.com/sanchos-event/brother-dave-trio-2-2-2-2-2-2-2/
LOCATION:TX
CATEGORIES:live music
ATTACH;FMTTYPE=image/jpeg:https://sanchosmx.com/wp-content/uploads/2021/05/180208619_1988265797998911_6634107337412862399_n.jpg
END:VEVENT
BEGIN:VEVENT
DTSTART;TZID=America/Chicago:20220105T190000
DTEND;TZID=America/Chicago:20220105T210000
DTSTAMP:20260423T032631
CREATED:20211110T200849Z
LAST-MODIFIED:20220228T063420Z
UID:10015469-1641409200-1641416400@sanchosmx.com
SUMMARY:FuZion Mariachi
DESCRIPTION:A new era of mariachi!\nKumbia • Mariachi • Rock • Pop\n\nWebsite
URL:https://sanchosmx.com/sanchos-event/fuzion-mariachi/2022-01-05/
LOCATION:TX
CATEGORIES:live music
ATTACH;FMTTYPE=image/jpeg:https://sanchosmx.com/wp-content/uploads/2021/11/fuzion.jpg
END:VEVENT
BEGIN:VEVENT
DTSTART;TZID=America/Chicago:20220104T190000
DTEND;TZID=America/Chicago:20220104T210000
DTSTAMP:20260423T032631
CREATED:20211221T032746Z
LAST-MODIFIED:20211221T033850Z
UID:10015504-1641322800-1641330000@sanchosmx.com
SUMMARY:Chacho & Brance
DESCRIPTION:Blues/Folk/Country/Soul/Rock \nWebsite
URL:https://sanchosmx.com/sanchos-event/chacho-brance-4/
LOCATION:TX
CATEGORIES:live music
ATTACH;FMTTYPE=image/jpeg:https://sanchosmx.com/wp-content/uploads/2019/01/chacho-and-brance-e1548396254814.jpg
END:VEVENT
BEGIN:VEVENT
DTSTART;TZID=America/Chicago:20220103T190000
DTEND;TZID=America/Chicago:20220103T210000
DTSTAMP:20260423T032631
CREATED:20211029T014719Z
LAST-MODIFIED:20230127T222010Z
UID:10015389-1641236400-1641243600@sanchosmx.com
SUMMARY:The Hess Brothers and Company Jazz Session
DESCRIPTION:Dynamic combo of some of the most award winning jazz musicians in San Antonio. 
URL:https://sanchosmx.com/sanchos-event/prado-hess-jazz-duo/2022-01-03/
LOCATION:Sanchos\, 628 Jackson St\, San Antonio\, TX\, 78212\, United States
CATEGORIES:live music
ATTACH;FMTTYPE=image/jpeg:https://sanchosmx.com/wp-content/uploads/2021/10/245779532_2112330442259112_821500283828505130_n.jpg
GEO:29.4241219;-98.4936282
X-APPLE-STRUCTURED-LOCATION;VALUE=URI;X-ADDRESS=Sanchos 628 Jackson St San Antonio TX 78212 United States;X-APPLE-RADIUS=500;X-TITLE=628 Jackson St:geo:-98.4936282,29.4241219
END:VEVENT
BEGIN:VEVENT
DTSTART;TZID=America/Chicago:20211231T220000
DTEND;TZID=America/Chicago:20220101T010000
DTSTAMP:20260423T032631
CREATED:20211130T050735Z
LAST-MODIFIED:20220101T002440Z
UID:10015495-1640988000-1640998800@sanchosmx.com
SUMMARY:New Year's Eve at Sanchos
DESCRIPTION:Reserve a spot on our Skyline Deck for just $20/person (seating at 10pm)\n\nChampagne Pour at midnight.\n\nDj Black in the house to get the party going! 6pm-12am\n\n\nOnline ticket sales have closed. Seats can be purchased at Sanchos. Call (210) 320-1840 to confirm availability\n\n  \n 
URL:https://sanchosmx.com/sanchos-event/new-years-eve-at-sanchos/
LOCATION:TX
CATEGORIES:live music
ATTACH;FMTTYPE=image/jpeg:https://sanchosmx.com/wp-content/uploads/2021/11/new-years-square-e1638248902644.jpg
END:VEVENT
BEGIN:VEVENT
DTSTART;TZID=America/Chicago:20211230T190000
DTEND;TZID=America/Chicago:20211230T210000
DTSTAMP:20260423T032631
CREATED:20210427T153307Z
LAST-MODIFIED:20260324T220610Z
UID:10015037-1640890800-1640898000@sanchosmx.com
SUMMARY:Claude Butch Morgan & His Bandaholics
DESCRIPTION:This is the home of Claude Butch Morgan and his BANDAHOLICS!\nEvery Thursday nite we ride off into the wild musical FUN-tier and you get to ride along with us.\nCome one\, come all\, become an EAR-Regular and lend us your ears and cheers. We will do our very best to put a smile on your face and joy in your heart.
URL:https://sanchosmx.com/sanchos-event/claude-butch-morgan-his-bandaholics/2021-12-30/
LOCATION:Sanchos\, 628 Jackson St\, San Antonio\, TX\, 78212\, United States
CATEGORIES:live music
ATTACH;FMTTYPE=image/jpeg:https://sanchosmx.com/wp-content/uploads/2019/10/bandaholics.jpg
GEO:29.4241219;-98.4936282
X-APPLE-STRUCTURED-LOCATION;VALUE=URI;X-ADDRESS=Sanchos 628 Jackson St San Antonio TX 78212 United States;X-APPLE-RADIUS=500;X-TITLE=628 Jackson St:geo:-98.4936282,29.4241219
END:VEVENT
BEGIN:VEVENT
DTSTART;TZID=America/Chicago:20211229T190000
DTEND;TZID=America/Chicago:20211229T210000
DTSTAMP:20260423T032631
CREATED:20211110T200849Z
LAST-MODIFIED:20220228T063420Z
UID:10015468-1640804400-1640811600@sanchosmx.com
SUMMARY:FuZion Mariachi
DESCRIPTION:A new era of mariachi!\nKumbia • Mariachi • Rock • Pop\n\nWebsite
URL:https://sanchosmx.com/sanchos-event/fuzion-mariachi/2021-12-29/
LOCATION:TX
CATEGORIES:live music
ATTACH;FMTTYPE=image/jpeg:https://sanchosmx.com/wp-content/uploads/2021/11/fuzion.jpg
END:VEVENT
BEGIN:VEVENT
DTSTART;TZID=America/Chicago:20211228T190000
DTEND;TZID=America/Chicago:20211228T220000
DTSTAMP:20260423T032631
CREATED:20211029T015022Z
LAST-MODIFIED:20211128T054504Z
UID:10015453-1640718000-1640728800@sanchosmx.com
SUMMARY:Open Mic w/ Kyle Ray Wilson
DESCRIPTION:Come show off your skills behind the Mic at Sanchos. Hosted by Kyle Ray.\nSign up sheet available \, check in with host.
URL:https://sanchosmx.com/sanchos-event/open-mic-w-kyle-ray-wilson-2/2021-12-28/
LOCATION:TX
CATEGORIES:live music,open mic
ATTACH;FMTTYPE=image/jpeg:https://sanchosmx.com/wp-content/uploads/2021/05/open-mic-kyle.jpg
END:VEVENT
BEGIN:VEVENT
DTSTART;TZID=America/Chicago:20211227T190000
DTEND;TZID=America/Chicago:20211227T210000
DTSTAMP:20260423T032631
CREATED:20211029T014719Z
LAST-MODIFIED:20230127T222010Z
UID:10015388-1640631600-1640638800@sanchosmx.com
SUMMARY:The Hess Brothers and Company Jazz Session
DESCRIPTION:Dynamic combo of some of the most award winning jazz musicians in San Antonio. 
URL:https://sanchosmx.com/sanchos-event/prado-hess-jazz-duo/2021-12-27/
LOCATION:Sanchos\, 628 Jackson St\, San Antonio\, TX\, 78212\, United States
CATEGORIES:live music
ATTACH;FMTTYPE=image/jpeg:https://sanchosmx.com/wp-content/uploads/2021/10/245779532_2112330442259112_821500283828505130_n.jpg
GEO:29.4241219;-98.4936282
X-APPLE-STRUCTURED-LOCATION;VALUE=URI;X-ADDRESS=Sanchos 628 Jackson St San Antonio TX 78212 United States;X-APPLE-RADIUS=500;X-TITLE=628 Jackson St:geo:-98.4936282,29.4241219
END:VEVENT
BEGIN:VEVENT
DTSTART;TZID=America/Chicago:20211225T200000
DTEND;TZID=America/Chicago:20211225T220000
DTSTAMP:20260423T032631
CREATED:20211128T060139Z
LAST-MODIFIED:20211128T060139Z
UID:10015494-1640462400-1640469600@sanchosmx.com
SUMMARY:RDO Trio
DESCRIPTION:Blues\, R&B\, pop\, 70s and more. \nWebsite
URL:https://sanchosmx.com/sanchos-event/rdo-trio-2-1-2020-2-2-2-2/
LOCATION:TX
CATEGORIES:live music
ATTACH;FMTTYPE=image/jpeg:https://sanchosmx.com/wp-content/uploads/2015/11/rdo-trio-web.jpg
END:VEVENT
BEGIN:VEVENT
DTSTART;TZID=America/Chicago:20211223T180000
DTEND;TZID=America/Chicago:20211223T220000
DTSTAMP:20260423T032631
CREATED:20211222T222958Z
LAST-MODIFIED:20211222T222958Z
UID:10015506-1640282400-1640296800@sanchosmx.com
SUMMARY:DJ Casbah
DESCRIPTION:
URL:https://sanchosmx.com/sanchos-event/casbah-2-2-2/
LOCATION:TX
CATEGORIES:DJ
ATTACH;FMTTYPE=image/jpeg:https://sanchosmx.com/wp-content/uploads/2020/01/british-invastion.jpg
END:VEVENT
BEGIN:VEVENT
DTSTART;TZID=America/Chicago:20211222T190000
DTEND;TZID=America/Chicago:20211222T210000
DTSTAMP:20260423T032631
CREATED:20211110T200849Z
LAST-MODIFIED:20220228T063420Z
UID:10015467-1640199600-1640206800@sanchosmx.com
SUMMARY:FuZion Mariachi
DESCRIPTION:A new era of mariachi!\nKumbia • Mariachi • Rock • Pop\n\nWebsite
URL:https://sanchosmx.com/sanchos-event/fuzion-mariachi/2021-12-22/
LOCATION:TX
CATEGORIES:live music
ATTACH;FMTTYPE=image/jpeg:https://sanchosmx.com/wp-content/uploads/2021/11/fuzion.jpg
END:VEVENT
BEGIN:VEVENT
DTSTART;TZID=America/Chicago:20211221T190000
DTEND;TZID=America/Chicago:20211221T220000
DTSTAMP:20260423T032631
CREATED:20211029T015022Z
LAST-MODIFIED:20211128T054504Z
UID:10015452-1640113200-1640124000@sanchosmx.com
SUMMARY:Open Mic w/ Kyle Ray Wilson
DESCRIPTION:Come show off your skills behind the Mic at Sanchos. Hosted by Kyle Ray.\nSign up sheet available \, check in with host.
URL:https://sanchosmx.com/sanchos-event/open-mic-w-kyle-ray-wilson-2/2021-12-21/
LOCATION:TX
CATEGORIES:live music,open mic
ATTACH;FMTTYPE=image/jpeg:https://sanchosmx.com/wp-content/uploads/2021/05/open-mic-kyle.jpg
END:VEVENT
BEGIN:VEVENT
DTSTART;TZID=America/Chicago:20211220T190000
DTEND;TZID=America/Chicago:20211220T210000
DTSTAMP:20260423T032631
CREATED:20211029T014719Z
LAST-MODIFIED:20230127T222010Z
UID:10015387-1640026800-1640034000@sanchosmx.com
SUMMARY:The Hess Brothers and Company Jazz Session
DESCRIPTION:Dynamic combo of some of the most award winning jazz musicians in San Antonio. 
URL:https://sanchosmx.com/sanchos-event/prado-hess-jazz-duo/2021-12-20/
LOCATION:Sanchos\, 628 Jackson St\, San Antonio\, TX\, 78212\, United States
CATEGORIES:live music
ATTACH;FMTTYPE=image/jpeg:https://sanchosmx.com/wp-content/uploads/2021/10/245779532_2112330442259112_821500283828505130_n.jpg
GEO:29.4241219;-98.4936282
X-APPLE-STRUCTURED-LOCATION;VALUE=URI;X-ADDRESS=Sanchos 628 Jackson St San Antonio TX 78212 United States;X-APPLE-RADIUS=500;X-TITLE=628 Jackson St:geo:-98.4936282,29.4241219
END:VEVENT
BEGIN:VEVENT
DTSTART;TZID=America/Chicago:20211219T160000
DTEND;TZID=America/Chicago:20211219T180000
DTSTAMP:20260423T032631
CREATED:20210928T060814Z
LAST-MODIFIED:20211213T231612Z
UID:10015366-1639929600-1639936800@sanchosmx.com
SUMMARY:Tardes Tejanos w DJ Sabes Que
DESCRIPTION:Website
URL:https://sanchosmx.com/sanchos-event/tardes-tejano-w-dj-sabes-que/2021-12-19/
LOCATION:TX
CATEGORIES:DJ
END:VEVENT
BEGIN:VEVENT
DTSTART;TZID=America/Chicago:20211218T200000
DTEND;TZID=America/Chicago:20211218T220000
DTSTAMP:20260423T032631
CREATED:20211128T060055Z
LAST-MODIFIED:20211128T060055Z
UID:10015493-1639857600-1639864800@sanchosmx.com
SUMMARY:Los #3 Dinners
DESCRIPTION:Los #3 Dinners perform original songs about livin' and lovin' in the Alamo Town. \n\nThis is a “weather permitting” event. All seating is outside\, masks required for entry and when at your table. \n\n  \n 
URL:https://sanchosmx.com/sanchos-event/los-3-dinners-11-21-2020-2-2-2-2-2-2-2-2-2-2-2-2/
LOCATION:TX
CATEGORIES:live music
ATTACH;FMTTYPE=image/jpeg:https://sanchosmx.com/wp-content/uploads/2018/03/los-3-dinners.jpg
END:VEVENT
BEGIN:VEVENT
DTSTART;TZID=America/Chicago:20211218T160000
DTEND;TZID=America/Chicago:20211218T180000
DTSTAMP:20260423T032631
CREATED:20211128T055138Z
LAST-MODIFIED:20211130T021654Z
UID:10015487-1639843200-1639850400@sanchosmx.com
SUMMARY:Tardes Tejanos w DJ Sabes Que
DESCRIPTION:Website
URL:https://sanchosmx.com/sanchos-event/tardes-tejanos-w-dj-sabes-que/2021-12-18/
LOCATION:TX
CATEGORIES:DJ
END:VEVENT
BEGIN:VEVENT
DTSTART;TZID=America/Chicago:20211217T200000
DTEND;TZID=America/Chicago:20211217T220000
DTSTAMP:20260423T032631
CREATED:20211128T055810Z
LAST-MODIFIED:20211128T055810Z
UID:10015490-1639771200-1639778400@sanchosmx.com
SUMMARY:Blue Sundries
DESCRIPTION:Bluesy San Antonio Rock and Roll \nWebsite
URL:https://sanchosmx.com/sanchos-event/blue-sundries-3/
LOCATION:TX
CATEGORIES:live music
ATTACH;FMTTYPE=image/jpeg:https://sanchosmx.com/wp-content/uploads/2021/11/03a89f6e-2ff5-4f0d-935c-c63cc150b590.jpg
END:VEVENT
BEGIN:VEVENT
DTSTART;TZID=America/Chicago:20211216T190000
DTEND;TZID=America/Chicago:20211216T210000
DTSTAMP:20260423T032631
CREATED:20210427T153307Z
LAST-MODIFIED:20260324T220610Z
UID:10015036-1639681200-1639688400@sanchosmx.com
SUMMARY:Claude Butch Morgan & His Bandaholics
DESCRIPTION:This is the home of Claude Butch Morgan and his BANDAHOLICS!\nEvery Thursday nite we ride off into the wild musical FUN-tier and you get to ride along with us.\nCome one\, come all\, become an EAR-Regular and lend us your ears and cheers. We will do our very best to put a smile on your face and joy in your heart.
URL:https://sanchosmx.com/sanchos-event/claude-butch-morgan-his-bandaholics/2021-12-16/
LOCATION:Sanchos\, 628 Jackson St\, San Antonio\, TX\, 78212\, United States
CATEGORIES:live music
ATTACH;FMTTYPE=image/jpeg:https://sanchosmx.com/wp-content/uploads/2019/10/bandaholics.jpg
GEO:29.4241219;-98.4936282
X-APPLE-STRUCTURED-LOCATION;VALUE=URI;X-ADDRESS=Sanchos 628 Jackson St San Antonio TX 78212 United States;X-APPLE-RADIUS=500;X-TITLE=628 Jackson St:geo:-98.4936282,29.4241219
END:VEVENT
END:VCALENDAR