BEGIN:VCALENDAR
VERSION:2.0
PRODID:-//Sanchos Cocina y Cantina - ECPv6.15.20//NONSGML v1.0//EN
CALSCALE:GREGORIAN
METHOD:PUBLISH
X-WR-CALNAME:Sanchos Cocina y Cantina
X-ORIGINAL-URL:https://sanchosmx.com
X-WR-CALDESC:Events for Sanchos Cocina y Cantina
REFRESH-INTERVAL;VALUE=DURATION:PT1H
X-Robots-Tag:noindex
X-PUBLISHED-TTL:PT1H
BEGIN:VTIMEZONE
TZID:America/Chicago
BEGIN:DAYLIGHT
TZOFFSETFROM:-0600
TZOFFSETTO:-0500
TZNAME:CDT
DTSTART:20210314T080000
END:DAYLIGHT
BEGIN:STANDARD
TZOFFSETFROM:-0500
TZOFFSETTO:-0600
TZNAME:CST
DTSTART:20211107T070000
END:STANDARD
BEGIN:DAYLIGHT
TZOFFSETFROM:-0600
TZOFFSETTO:-0500
TZNAME:CDT
DTSTART:20220313T080000
END:DAYLIGHT
BEGIN:STANDARD
TZOFFSETFROM:-0500
TZOFFSETTO:-0600
TZNAME:CST
DTSTART:20221106T070000
END:STANDARD
BEGIN:DAYLIGHT
TZOFFSETFROM:-0600
TZOFFSETTO:-0500
TZNAME:CDT
DTSTART:20230312T080000
END:DAYLIGHT
BEGIN:STANDARD
TZOFFSETFROM:-0500
TZOFFSETTO:-0600
TZNAME:CST
DTSTART:20231105T070000
END:STANDARD
END:VTIMEZONE
BEGIN:VEVENT
DTSTART;TZID=America/Chicago:20220308T190000
DTEND;TZID=America/Chicago:20220308T210000
DTSTAMP:20260422T200340
CREATED:20220228T064627Z
LAST-MODIFIED:20220228T064627Z
UID:10015531-1646766000-1646773200@sanchosmx.com
SUMMARY:Rain Dogs
DESCRIPTION:Glam Folk Duo from San Antonio
URL:https://sanchosmx.com/sanchos-event/rain-dogs-3-2-2/
CATEGORIES:live music
ATTACH;FMTTYPE=image/jpeg:https://sanchosmx.com/wp-content/uploads/2022/01/rain-dogs.jpg
END:VEVENT
BEGIN:VEVENT
DTSTART;TZID=America/Chicago:20220307T190000
DTEND;TZID=America/Chicago:20220307T210000
DTSTAMP:20260422T200340
CREATED:20211029T014719Z
LAST-MODIFIED:20230127T222010Z
UID:10015397-1646679600-1646686800@sanchosmx.com
SUMMARY:The Hess Brothers and Company Jazz Session
DESCRIPTION:Dynamic combo of some of the most award winning jazz musicians in San Antonio. 
URL:https://sanchosmx.com/sanchos-event/prado-hess-jazz-duo/2022-03-07/
LOCATION:Sanchos\, 628 Jackson St\, San Antonio\, TX\, 78212\, United States
CATEGORIES:live music
ATTACH;FMTTYPE=image/jpeg:https://sanchosmx.com/wp-content/uploads/2021/10/245779532_2112330442259112_821500283828505130_n.jpg
GEO:29.4241219;-98.4936282
X-APPLE-STRUCTURED-LOCATION;VALUE=URI;X-ADDRESS=Sanchos 628 Jackson St San Antonio TX 78212 United States;X-APPLE-RADIUS=500;X-TITLE=628 Jackson St:geo:-98.4936282,29.4241219
END:VEVENT
BEGIN:VEVENT
DTSTART;TZID=America/Chicago:20220305T200000
DTEND;TZID=America/Chicago:20220305T220000
DTSTAMP:20260422T200340
CREATED:20220226T044630Z
LAST-MODIFIED:20220228T064429Z
UID:10015527-1646510400-1646517600@sanchosmx.com
SUMMARY:Tex Tones Skyline Concert Series
DESCRIPTION:Hailing from South Texas\, the four piece Tex-Tone’s ignite their audiences with a unique blend of Tex-Mex groove and Cosmic Cowboy’s sonancy. Their sound is reminiscent of a Willie’s 4th of July picnic juxtaposed to a Poteet Tejano Strawberry Festival. While their influences are far-reaching\, their aim is simple South Texas sazón! \nReserved seating on our Skyline Deck is only $5/seat! Purchase ticket below. (online sales end 3 hours before concert. Purchase at-the-door for $7) \nWe are offering a special 3 course meal as part of this concert for an additional $40. (purchase add-on tickets below. Must be reserved by 5pm March 4th) \nMenu\nCOURSE 1: APPETIZER Avocado Bruschetta - toasted slices of house made bread topped with an avocado spread\, pico de gallo and cilantro oil\nCOURSE 2: MAIN ENTREE Pepita crusted Cod Loin - fresh Cod baked with a pepita crust\, on top of whipped potatoes with blanched asparagus\nCOURSE 3: DESERT Ancho-chile Brownie - chocolate brownie with a slight hint of smoke and spice\n(substitutions may be made depending on ingredient availability) \nTex TonesWebsite
URL:https://sanchosmx.com/sanchos-event/tex-tones-skyline-concert-series/
CATEGORIES:live music
END:VEVENT
BEGIN:VEVENT
DTSTART;TZID=America/Chicago:20220304T200000
DTEND;TZID=America/Chicago:20220304T220000
DTSTAMP:20260422T200340
CREATED:20220228T064153Z
LAST-MODIFIED:20220228T064153Z
UID:10015530-1646424000-1646431200@sanchosmx.com
SUMMARY:Loaded
DESCRIPTION:LOADED is a rock and roll band from SA. We play original music We have what you want. Name it.
URL:https://sanchosmx.com/sanchos-event/loaded-9-3-2-2-2-2-2/
CATEGORIES:live music
END:VEVENT
BEGIN:VEVENT
DTSTART;TZID=America/Chicago:20220303T190000
DTEND;TZID=America/Chicago:20220303T210000
DTSTAMP:20260422T200340
CREATED:20210427T153307Z
LAST-MODIFIED:20260324T220610Z
UID:10015044-1646334000-1646341200@sanchosmx.com
SUMMARY:Claude Butch Morgan & His Bandaholics
DESCRIPTION:This is the home of Claude Butch Morgan and his BANDAHOLICS!\nEvery Thursday nite we ride off into the wild musical FUN-tier and you get to ride along with us.\nCome one\, come all\, become an EAR-Regular and lend us your ears and cheers. We will do our very best to put a smile on your face and joy in your heart.
URL:https://sanchosmx.com/sanchos-event/claude-butch-morgan-his-bandaholics/2022-03-03/
LOCATION:Sanchos\, 628 Jackson St\, San Antonio\, TX\, 78212\, United States
CATEGORIES:live music
ATTACH;FMTTYPE=image/jpeg:https://sanchosmx.com/wp-content/uploads/2019/10/bandaholics.jpg
GEO:29.4241219;-98.4936282
X-APPLE-STRUCTURED-LOCATION;VALUE=URI;X-ADDRESS=Sanchos 628 Jackson St San Antonio TX 78212 United States;X-APPLE-RADIUS=500;X-TITLE=628 Jackson St:geo:-98.4936282,29.4241219
END:VEVENT
BEGIN:VEVENT
DTSTART;TZID=America/Chicago:20220302T190000
DTEND;TZID=America/Chicago:20220302T210000
DTSTAMP:20260422T200340
CREATED:20211110T200849Z
LAST-MODIFIED:20220228T063420Z
UID:10015477-1646247600-1646254800@sanchosmx.com
SUMMARY:FuZion Mariachi
DESCRIPTION:A new era of mariachi!\nKumbia • Mariachi • Rock • Pop\n\nWebsite
URL:https://sanchosmx.com/sanchos-event/fuzion-mariachi/2022-03-02/
CATEGORIES:live music
ATTACH;FMTTYPE=image/jpeg:https://sanchosmx.com/wp-content/uploads/2021/11/fuzion.jpg
END:VEVENT
BEGIN:VEVENT
DTSTART;TZID=America/Chicago:20220301T190000
DTEND;TZID=America/Chicago:20220301T210000
DTSTAMP:20260422T200340
CREATED:20220228T063245Z
LAST-MODIFIED:20220228T063245Z
UID:10015528-1646161200-1646168400@sanchosmx.com
SUMMARY:Chacho & Brance
DESCRIPTION:
URL:https://sanchosmx.com/sanchos-event/chacho-brance-5-2-2-2/
CATEGORIES:live music
ATTACH;FMTTYPE=image/jpeg:https://sanchosmx.com/wp-content/uploads/2019/01/chacho-and-brance-e1548396254814.jpg
END:VEVENT
BEGIN:VEVENT
DTSTART;TZID=America/Chicago:20220228T190000
DTEND;TZID=America/Chicago:20220228T210000
DTSTAMP:20260422T200340
CREATED:20211029T014719Z
LAST-MODIFIED:20230127T222010Z
UID:10015396-1646074800-1646082000@sanchosmx.com
SUMMARY:The Hess Brothers and Company Jazz Session
DESCRIPTION:Dynamic combo of some of the most award winning jazz musicians in San Antonio. 
URL:https://sanchosmx.com/sanchos-event/prado-hess-jazz-duo/2022-02-28/
LOCATION:Sanchos\, 628 Jackson St\, San Antonio\, TX\, 78212\, United States
CATEGORIES:live music
ATTACH;FMTTYPE=image/jpeg:https://sanchosmx.com/wp-content/uploads/2021/10/245779532_2112330442259112_821500283828505130_n.jpg
GEO:29.4241219;-98.4936282
X-APPLE-STRUCTURED-LOCATION;VALUE=URI;X-ADDRESS=Sanchos 628 Jackson St San Antonio TX 78212 United States;X-APPLE-RADIUS=500;X-TITLE=628 Jackson St:geo:-98.4936282,29.4241219
END:VEVENT
BEGIN:VEVENT
DTSTART;TZID=America/Chicago:20220225T200000
DTEND;TZID=America/Chicago:20220225T220000
DTSTAMP:20260422T200340
CREATED:20220125T012713Z
LAST-MODIFIED:20220125T012713Z
UID:10015523-1645819200-1645826400@sanchosmx.com
SUMMARY:River City Slim & The Rhythm Kings
DESCRIPTION:River City Slim & The Rhythm Kings are here on our alley stage to bring you live and jammin music while you enjoy the outside patios and misters!
URL:https://sanchosmx.com/sanchos-event/river-city-slim-the-rhythm-kings-2-2/
CATEGORIES:live music
ATTACH;FMTTYPE=image/jpeg:https://sanchosmx.com/wp-content/uploads/2021/07/River-City-Slim-The-Rhythm-Kings.jpg
END:VEVENT
BEGIN:VEVENT
DTSTART;TZID=America/Chicago:20220224T190000
DTEND;TZID=America/Chicago:20220224T210000
DTSTAMP:20260422T200340
CREATED:20210427T153307Z
LAST-MODIFIED:20260324T220610Z
UID:10015043-1645729200-1645736400@sanchosmx.com
SUMMARY:Claude Butch Morgan & His Bandaholics
DESCRIPTION:This is the home of Claude Butch Morgan and his BANDAHOLICS!\nEvery Thursday nite we ride off into the wild musical FUN-tier and you get to ride along with us.\nCome one\, come all\, become an EAR-Regular and lend us your ears and cheers. We will do our very best to put a smile on your face and joy in your heart.
URL:https://sanchosmx.com/sanchos-event/claude-butch-morgan-his-bandaholics/2022-02-24/
LOCATION:Sanchos\, 628 Jackson St\, San Antonio\, TX\, 78212\, United States
CATEGORIES:live music
ATTACH;FMTTYPE=image/jpeg:https://sanchosmx.com/wp-content/uploads/2019/10/bandaholics.jpg
GEO:29.4241219;-98.4936282
X-APPLE-STRUCTURED-LOCATION;VALUE=URI;X-ADDRESS=Sanchos 628 Jackson St San Antonio TX 78212 United States;X-APPLE-RADIUS=500;X-TITLE=628 Jackson St:geo:-98.4936282,29.4241219
END:VEVENT
BEGIN:VEVENT
DTSTART;TZID=America/Chicago:20220223T190000
DTEND;TZID=America/Chicago:20220223T210000
DTSTAMP:20260422T200340
CREATED:20211110T200849Z
LAST-MODIFIED:20220228T063420Z
UID:10015476-1645642800-1645650000@sanchosmx.com
SUMMARY:FuZion Mariachi
DESCRIPTION:A new era of mariachi!\nKumbia • Mariachi • Rock • Pop\n\nWebsite
URL:https://sanchosmx.com/sanchos-event/fuzion-mariachi/2022-02-23/
CATEGORIES:live music
ATTACH;FMTTYPE=image/jpeg:https://sanchosmx.com/wp-content/uploads/2021/11/fuzion.jpg
END:VEVENT
BEGIN:VEVENT
DTSTART;TZID=America/Chicago:20220221T190000
DTEND;TZID=America/Chicago:20220221T210000
DTSTAMP:20260422T200340
CREATED:20211029T014719Z
LAST-MODIFIED:20230127T222010Z
UID:10015395-1645470000-1645477200@sanchosmx.com
SUMMARY:The Hess Brothers and Company Jazz Session
DESCRIPTION:Dynamic combo of some of the most award winning jazz musicians in San Antonio. 
URL:https://sanchosmx.com/sanchos-event/prado-hess-jazz-duo/2022-02-21/
LOCATION:Sanchos\, 628 Jackson St\, San Antonio\, TX\, 78212\, United States
CATEGORIES:live music
ATTACH;FMTTYPE=image/jpeg:https://sanchosmx.com/wp-content/uploads/2021/10/245779532_2112330442259112_821500283828505130_n.jpg
GEO:29.4241219;-98.4936282
X-APPLE-STRUCTURED-LOCATION;VALUE=URI;X-ADDRESS=Sanchos 628 Jackson St San Antonio TX 78212 United States;X-APPLE-RADIUS=500;X-TITLE=628 Jackson St:geo:-98.4936282,29.4241219
END:VEVENT
BEGIN:VEVENT
DTSTART;TZID=America/Chicago:20220219T200000
DTEND;TZID=America/Chicago:20220219T220000
DTSTAMP:20260422T200340
CREATED:20220125T012221Z
LAST-MODIFIED:20220125T012221Z
UID:10015522-1645300800-1645308000@sanchosmx.com
SUMMARY:Los #3 Dinners
DESCRIPTION:Los #3 Dinners perform original songs about livin' and lovin' in the Alamo Town. \n\nThis is a “weather permitting” event. All seating is outside\, masks required for entry and when at your table. \n\n  \n 
URL:https://sanchosmx.com/sanchos-event/los-3-dinners-11-21-2020-2-2-2-2-2-2-2-2-2-2-2-2-2-2/
CATEGORIES:live music
ATTACH;FMTTYPE=image/jpeg:https://sanchosmx.com/wp-content/uploads/2018/03/los-3-dinners.jpg
END:VEVENT
BEGIN:VEVENT
DTSTART;TZID=America/Chicago:20220218T200000
DTEND;TZID=America/Chicago:20220218T220000
DTSTAMP:20260422T200340
CREATED:20220125T012041Z
LAST-MODIFIED:20220125T012132Z
UID:10015521-1645214400-1645221600@sanchosmx.com
SUMMARY:Cotilla
DESCRIPTION:Cotilla features original music by Pablo Mancias\, Dan Klein\, Mike Deosdade\, and Charlie Wehn. Our music is influenced by our Latin and Indigenous roots and crosses many genres from Pop and Rock to Reggae and Ska. \nWebsite
URL:https://sanchosmx.com/sanchos-event/cotilla-2-2-2/
CATEGORIES:live music
ATTACH;FMTTYPE=image/jpeg:https://sanchosmx.com/wp-content/uploads/2021/09/168068088_907924859941802_2276965405788340836_n.jpg
END:VEVENT
BEGIN:VEVENT
DTSTART;TZID=America/Chicago:20220217T190000
DTEND;TZID=America/Chicago:20220217T210000
DTSTAMP:20260422T200340
CREATED:20210427T153307Z
LAST-MODIFIED:20260324T220610Z
UID:10015042-1645124400-1645131600@sanchosmx.com
SUMMARY:Claude Butch Morgan & His Bandaholics
DESCRIPTION:This is the home of Claude Butch Morgan and his BANDAHOLICS!\nEvery Thursday nite we ride off into the wild musical FUN-tier and you get to ride along with us.\nCome one\, come all\, become an EAR-Regular and lend us your ears and cheers. We will do our very best to put a smile on your face and joy in your heart.
URL:https://sanchosmx.com/sanchos-event/claude-butch-morgan-his-bandaholics/2022-02-17/
LOCATION:Sanchos\, 628 Jackson St\, San Antonio\, TX\, 78212\, United States
CATEGORIES:live music
ATTACH;FMTTYPE=image/jpeg:https://sanchosmx.com/wp-content/uploads/2019/10/bandaholics.jpg
GEO:29.4241219;-98.4936282
X-APPLE-STRUCTURED-LOCATION;VALUE=URI;X-ADDRESS=Sanchos 628 Jackson St San Antonio TX 78212 United States;X-APPLE-RADIUS=500;X-TITLE=628 Jackson St:geo:-98.4936282,29.4241219
END:VEVENT
BEGIN:VEVENT
DTSTART;TZID=America/Chicago:20220216T190000
DTEND;TZID=America/Chicago:20220216T210000
DTSTAMP:20260422T200340
CREATED:20211110T200849Z
LAST-MODIFIED:20220228T063420Z
UID:10015475-1645038000-1645045200@sanchosmx.com
SUMMARY:FuZion Mariachi
DESCRIPTION:A new era of mariachi!\nKumbia • Mariachi • Rock • Pop\n\nWebsite
URL:https://sanchosmx.com/sanchos-event/fuzion-mariachi/2022-02-16/
CATEGORIES:live music
ATTACH;FMTTYPE=image/jpeg:https://sanchosmx.com/wp-content/uploads/2021/11/fuzion.jpg
END:VEVENT
BEGIN:VEVENT
DTSTART;TZID=America/Chicago:20220215T190000
DTEND;TZID=America/Chicago:20220215T210000
DTSTAMP:20260422T200340
CREATED:20220125T010737Z
LAST-MODIFIED:20220125T010737Z
UID:10015516-1644951600-1644958800@sanchosmx.com
SUMMARY:Chacho & Brance
DESCRIPTION:
URL:https://sanchosmx.com/sanchos-event/chacho-brance-5-2-2/
CATEGORIES:live music
ATTACH;FMTTYPE=image/jpeg:https://sanchosmx.com/wp-content/uploads/2019/01/chacho-and-brance-e1548396254814.jpg
END:VEVENT
BEGIN:VEVENT
DTSTART;TZID=America/Chicago:20220214T190000
DTEND;TZID=America/Chicago:20220214T210000
DTSTAMP:20260422T200340
CREATED:20220125T030258Z
LAST-MODIFIED:20220214T220235Z
UID:10015524-1644865200-1644872400@sanchosmx.com
SUMMARY:Joe King Carrasco
DESCRIPTION:Known as the King of Tex-Mex rock and roll\, Joe King Carrasco creates a stylistic borderland of pop rock and Latin rhythms. His cross-cultural stew blends cumbias\, vamp\, salsa\, surf\, reggae\, blues\, and Latin-tinged polkas \nGET YOUR SPOT RESERVED TODAY TO ENJOY THIS AWESOME TEX-MEX EXPERIENCE!\n- reservations are for deck tables only. $10 in advance\, $15 at the door\, doors open at 6pm ONLINE TICKET SALES HAVE ENDED. AS OF 4PM\, A FEW SEATS REMAIN\, AVAILABLE AT THE DOOR FOR $15/PERSON. FIRST COME\, FIRST SERVED. No charge for downstairs seating. \n- lower patio areas are first come first serve\n\nWebsite \n 
URL:https://sanchosmx.com/sanchos-event/joe-king-carrasco-2-2/
CATEGORIES:live music
ATTACH;FMTTYPE=image/jpeg:https://sanchosmx.com/wp-content/uploads/2021/06/1447832163_JKC_H_S_ByKimGalusha_8325_hiresbw.jpg
END:VEVENT
BEGIN:VEVENT
DTSTART;TZID=America/Chicago:20220212T200000
DTEND;TZID=America/Chicago:20220212T220000
DTSTAMP:20260422T200340
CREATED:20220125T011938Z
LAST-MODIFIED:20220125T011938Z
UID:10015520-1644696000-1644703200@sanchosmx.com
SUMMARY:Brother Dave and the Barrio Blasters
DESCRIPTION:Brother Dave and the Barrio Blasters! are a Hard Groovin'\, Sharp Dressed band with a songbook as diverse as our beloved hometown San Antonio\, Texas. Rock\, Soul\, Blues\, Honky Tonk\, and Funk all come together to create a tasty groove that is Puro San Antonio!
URL:https://sanchosmx.com/sanchos-event/brother-dave-barrio-blasters-2-21-2020-2-2-2-2-2-2-2-2/
CATEGORIES:live music
ATTACH;FMTTYPE=image/jpeg:https://sanchosmx.com/wp-content/uploads/2016/10/brother-dave.jpg
END:VEVENT
BEGIN:VEVENT
DTSTART;TZID=America/Chicago:20220211T200000
DTEND;TZID=America/Chicago:20220211T220000
DTSTAMP:20260422T200340
CREATED:20220125T011840Z
LAST-MODIFIED:20220125T011840Z
UID:10015519-1644609600-1644616800@sanchosmx.com
SUMMARY:The Walk-Offs
DESCRIPTION:The Walk Offs are a Rock-N-Roll band from San Antonio\, Tx. The band consist of members from various other long running SA bands. The music can go from straight up punk rock to slower rock tunes with poignant lyrics. \nWebsite
URL:https://sanchosmx.com/sanchos-event/the-walk-offs-4-2-2-2/
CATEGORIES:live music
ATTACH;FMTTYPE=image/jpeg:https://sanchosmx.com/wp-content/uploads/2019/02/walk-offs-e1551245000802.jpg
END:VEVENT
BEGIN:VEVENT
DTSTART;TZID=America/Chicago:20220210T190000
DTEND;TZID=America/Chicago:20220210T210000
DTSTAMP:20260422T200340
CREATED:20210427T153307Z
LAST-MODIFIED:20260324T220610Z
UID:10015041-1644519600-1644526800@sanchosmx.com
SUMMARY:Claude Butch Morgan & His Bandaholics
DESCRIPTION:This is the home of Claude Butch Morgan and his BANDAHOLICS!\nEvery Thursday nite we ride off into the wild musical FUN-tier and you get to ride along with us.\nCome one\, come all\, become an EAR-Regular and lend us your ears and cheers. We will do our very best to put a smile on your face and joy in your heart.
URL:https://sanchosmx.com/sanchos-event/claude-butch-morgan-his-bandaholics/2022-02-10/
LOCATION:Sanchos\, 628 Jackson St\, San Antonio\, TX\, 78212\, United States
CATEGORIES:live music
ATTACH;FMTTYPE=image/jpeg:https://sanchosmx.com/wp-content/uploads/2019/10/bandaholics.jpg
GEO:29.4241219;-98.4936282
X-APPLE-STRUCTURED-LOCATION;VALUE=URI;X-ADDRESS=Sanchos 628 Jackson St San Antonio TX 78212 United States;X-APPLE-RADIUS=500;X-TITLE=628 Jackson St:geo:-98.4936282,29.4241219
END:VEVENT
BEGIN:VEVENT
DTSTART;TZID=America/Chicago:20220209T190000
DTEND;TZID=America/Chicago:20220209T210000
DTSTAMP:20260422T200340
CREATED:20211110T200849Z
LAST-MODIFIED:20220228T063420Z
UID:10015474-1644433200-1644440400@sanchosmx.com
SUMMARY:FuZion Mariachi
DESCRIPTION:A new era of mariachi!\nKumbia • Mariachi • Rock • Pop\n\nWebsite
URL:https://sanchosmx.com/sanchos-event/fuzion-mariachi/2022-02-09/
CATEGORIES:live music
ATTACH;FMTTYPE=image/jpeg:https://sanchosmx.com/wp-content/uploads/2021/11/fuzion.jpg
END:VEVENT
BEGIN:VEVENT
DTSTART;TZID=America/Chicago:20220209T170000
DTEND;TZID=America/Chicago:20220209T190000
DTSTAMP:20260422T200340
CREATED:20220208T034024Z
LAST-MODIFIED:20220208T034024Z
UID:10015526-1644426000-1644433200@sanchosmx.com
SUMMARY:Anthony Ray Wright and the Falls City Boys
DESCRIPTION:Rockabilly \nWebsite
URL:https://sanchosmx.com/sanchos-event/anthony-ray-wright-and-the-falls-city-boys/
CATEGORIES:live music
ATTACH;FMTTYPE=image/jpeg:https://sanchosmx.com/wp-content/uploads/2022/02/anthony-ray-wright-e1644291605706.jpg
END:VEVENT
BEGIN:VEVENT
DTSTART;TZID=America/Chicago:20220208T190000
DTEND;TZID=America/Chicago:20220208T210000
DTSTAMP:20260422T200340
CREATED:20220125T011732Z
LAST-MODIFIED:20220125T201511Z
UID:10015518-1644346800-1644354000@sanchosmx.com
SUMMARY:Rain Dogs
DESCRIPTION:Glam Folk Duo from San Antonio
URL:https://sanchosmx.com/sanchos-event/rain-dogs-3-2/
CATEGORIES:live music
ATTACH;FMTTYPE=image/jpeg:https://sanchosmx.com/wp-content/uploads/2022/01/rain-dogs.jpg
END:VEVENT
BEGIN:VEVENT
DTSTART;TZID=America/Chicago:20220207T190000
DTEND;TZID=America/Chicago:20220207T210000
DTSTAMP:20260422T200340
CREATED:20211029T014719Z
LAST-MODIFIED:20230127T222010Z
UID:10015394-1644260400-1644267600@sanchosmx.com
SUMMARY:The Hess Brothers and Company Jazz Session
DESCRIPTION:Dynamic combo of some of the most award winning jazz musicians in San Antonio. 
URL:https://sanchosmx.com/sanchos-event/prado-hess-jazz-duo/2022-02-07/
LOCATION:Sanchos\, 628 Jackson St\, San Antonio\, TX\, 78212\, United States
CATEGORIES:live music
ATTACH;FMTTYPE=image/jpeg:https://sanchosmx.com/wp-content/uploads/2021/10/245779532_2112330442259112_821500283828505130_n.jpg
GEO:29.4241219;-98.4936282
X-APPLE-STRUCTURED-LOCATION;VALUE=URI;X-ADDRESS=Sanchos 628 Jackson St San Antonio TX 78212 United States;X-APPLE-RADIUS=500;X-TITLE=628 Jackson St:geo:-98.4936282,29.4241219
END:VEVENT
BEGIN:VEVENT
DTSTART;TZID=America/Chicago:20220204T200000
DTEND;TZID=America/Chicago:20220204T220000
DTSTAMP:20260422T200340
CREATED:20220125T011114Z
LAST-MODIFIED:20220125T011114Z
UID:10015517-1644004800-1644012000@sanchosmx.com
SUMMARY:Irie Tower
DESCRIPTION:feel-good\, reggae cover music\nWeather permitting\, Outside seating only\, Masks require for entry and when you leave your table
URL:https://sanchosmx.com/sanchos-event/irie-tower-12-5-2020-2-2-2-2-2-2/
CATEGORIES:live music
ATTACH;FMTTYPE=image/jpeg:https://sanchosmx.com/wp-content/uploads/2019/11/Irie-Tower-crop.jpg
END:VEVENT
BEGIN:VEVENT
DTSTART;TZID=America/Chicago:20220203T190000
DTEND;TZID=America/Chicago:20220203T210000
DTSTAMP:20260422T200340
CREATED:20210427T153307Z
LAST-MODIFIED:20260324T220610Z
UID:10015040-1643914800-1643922000@sanchosmx.com
SUMMARY:Claude Butch Morgan & His Bandaholics
DESCRIPTION:This is the home of Claude Butch Morgan and his BANDAHOLICS!\nEvery Thursday nite we ride off into the wild musical FUN-tier and you get to ride along with us.\nCome one\, come all\, become an EAR-Regular and lend us your ears and cheers. We will do our very best to put a smile on your face and joy in your heart.
URL:https://sanchosmx.com/sanchos-event/claude-butch-morgan-his-bandaholics/2022-02-03/
LOCATION:Sanchos\, 628 Jackson St\, San Antonio\, TX\, 78212\, United States
CATEGORIES:live music
ATTACH;FMTTYPE=image/jpeg:https://sanchosmx.com/wp-content/uploads/2019/10/bandaholics.jpg
GEO:29.4241219;-98.4936282
X-APPLE-STRUCTURED-LOCATION;VALUE=URI;X-ADDRESS=Sanchos 628 Jackson St San Antonio TX 78212 United States;X-APPLE-RADIUS=500;X-TITLE=628 Jackson St:geo:-98.4936282,29.4241219
END:VEVENT
BEGIN:VEVENT
DTSTART;TZID=America/Chicago:20220202T190000
DTEND;TZID=America/Chicago:20220202T210000
DTSTAMP:20260422T200340
CREATED:20211110T200849Z
LAST-MODIFIED:20220228T063420Z
UID:10015473-1643828400-1643835600@sanchosmx.com
SUMMARY:FuZion Mariachi
DESCRIPTION:A new era of mariachi!\nKumbia • Mariachi • Rock • Pop\n\nWebsite
URL:https://sanchosmx.com/sanchos-event/fuzion-mariachi/2022-02-02/
CATEGORIES:live music
ATTACH;FMTTYPE=image/jpeg:https://sanchosmx.com/wp-content/uploads/2021/11/fuzion.jpg
END:VEVENT
BEGIN:VEVENT
DTSTART;TZID=America/Chicago:20220201T190000
DTEND;TZID=America/Chicago:20220201T210000
DTSTAMP:20260422T200340
CREATED:20220125T010704Z
LAST-MODIFIED:20220125T010704Z
UID:10015515-1643742000-1643749200@sanchosmx.com
SUMMARY:Chacho & Brance
DESCRIPTION:
URL:https://sanchosmx.com/sanchos-event/chacho-brance-5-2/
CATEGORIES:live music
ATTACH;FMTTYPE=image/jpeg:https://sanchosmx.com/wp-content/uploads/2019/01/chacho-and-brance-e1548396254814.jpg
END:VEVENT
BEGIN:VEVENT
DTSTART;TZID=America/Chicago:20220131T190000
DTEND;TZID=America/Chicago:20220131T210000
DTSTAMP:20260422T200340
CREATED:20211029T014719Z
LAST-MODIFIED:20230127T222010Z
UID:10015393-1643655600-1643662800@sanchosmx.com
SUMMARY:The Hess Brothers and Company Jazz Session
DESCRIPTION:Dynamic combo of some of the most award winning jazz musicians in San Antonio. 
URL:https://sanchosmx.com/sanchos-event/prado-hess-jazz-duo/2022-01-31/
LOCATION:Sanchos\, 628 Jackson St\, San Antonio\, TX\, 78212\, United States
CATEGORIES:live music
ATTACH;FMTTYPE=image/jpeg:https://sanchosmx.com/wp-content/uploads/2021/10/245779532_2112330442259112_821500283828505130_n.jpg
GEO:29.4241219;-98.4936282
X-APPLE-STRUCTURED-LOCATION;VALUE=URI;X-ADDRESS=Sanchos 628 Jackson St San Antonio TX 78212 United States;X-APPLE-RADIUS=500;X-TITLE=628 Jackson St:geo:-98.4936282,29.4241219
END:VEVENT
END:VCALENDAR