BEGIN:VCALENDAR
VERSION:2.0
PRODID:-//Sanchos Cocina y Cantina - ECPv6.15.20//NONSGML v1.0//EN
CALSCALE:GREGORIAN
METHOD:PUBLISH
X-WR-CALNAME:Sanchos Cocina y Cantina
X-ORIGINAL-URL:https://sanchosmx.com
X-WR-CALDESC:Events for Sanchos Cocina y Cantina
REFRESH-INTERVAL;VALUE=DURATION:PT1H
X-Robots-Tag:noindex
X-PUBLISHED-TTL:PT1H
BEGIN:VTIMEZONE
TZID:America/Chicago
BEGIN:DAYLIGHT
TZOFFSETFROM:-0600
TZOFFSETTO:-0500
TZNAME:CDT
DTSTART:20210314T080000
END:DAYLIGHT
BEGIN:STANDARD
TZOFFSETFROM:-0500
TZOFFSETTO:-0600
TZNAME:CST
DTSTART:20211107T070000
END:STANDARD
BEGIN:DAYLIGHT
TZOFFSETFROM:-0600
TZOFFSETTO:-0500
TZNAME:CDT
DTSTART:20220313T080000
END:DAYLIGHT
BEGIN:STANDARD
TZOFFSETFROM:-0500
TZOFFSETTO:-0600
TZNAME:CST
DTSTART:20221106T070000
END:STANDARD
BEGIN:DAYLIGHT
TZOFFSETFROM:-0600
TZOFFSETTO:-0500
TZNAME:CDT
DTSTART:20230312T080000
END:DAYLIGHT
BEGIN:STANDARD
TZOFFSETFROM:-0500
TZOFFSETTO:-0600
TZNAME:CST
DTSTART:20231105T070000
END:STANDARD
END:VTIMEZONE
BEGIN:VEVENT
DTSTART;TZID=America/Chicago:20220907T190000
DTEND;TZID=America/Chicago:20220907T220000
DTSTAMP:20260421T142912
CREATED:20220428T042416Z
LAST-MODIFIED:20230601T194133Z
UID:10015570-1662577200-1662588000@sanchosmx.com
SUMMARY:RDO Trio
DESCRIPTION:Blues\, R&B\, pop\, 70s and more. \nWebsite
URL:https://sanchosmx.com/sanchos-event/rdo-trio-14/2022-09-07/
LOCATION:TX
CATEGORIES:live music
ATTACH;FMTTYPE=image/jpeg:https://sanchosmx.com/wp-content/uploads/2015/11/rdo-trio-web.jpg
END:VEVENT
BEGIN:VEVENT
DTSTART;TZID=America/Chicago:20220906T190000
DTEND;TZID=America/Chicago:20220906T210000
DTSTAMP:20260421T142912
CREATED:20220830T220206Z
LAST-MODIFIED:20220830T220206Z
UID:10015877-1662490800-1662498000@sanchosmx.com
SUMMARY:The Fleeks
DESCRIPTION:Texas classic rock n roll indie music \nClick here to listen.
URL:https://sanchosmx.com/sanchos-event/the-fleeks-2-2-2-2-2-2/
LOCATION:TX
CATEGORIES:live music
ATTACH;FMTTYPE=image/jpeg:https://sanchosmx.com/wp-content/uploads/2020/06/the-fleeks.jpeg
END:VEVENT
BEGIN:VEVENT
DTSTART;TZID=America/Chicago:20220905T210000
DTEND;TZID=America/Chicago:20220905T230000
DTSTAMP:20260421T142912
CREATED:20220809T221622Z
LAST-MODIFIED:20230525T172206Z
UID:10015710-1662411600-1662418800@sanchosmx.com
SUMMARY:Open Mic w/ CJ Duran
DESCRIPTION:Come show off your skills behind the Mic at Sanchos. Hosted by CJ Duran\nSign up sheet available \, check in with host.
URL:https://sanchosmx.com/sanchos-event/open-mic-w-cj-duran/2022-09-05/
LOCATION:Sanchos\, 628 Jackson St\, San Antonio\, TX\, 78212\, United States
CATEGORIES:live music,open mic
ATTACH;FMTTYPE=image/jpeg:https://sanchosmx.com/wp-content/uploads/2022/08/CJ-Duran.jpeg
GEO:29.4241219;-98.4936282
X-APPLE-STRUCTURED-LOCATION;VALUE=URI;X-ADDRESS=Sanchos 628 Jackson St San Antonio TX 78212 United States;X-APPLE-RADIUS=500;X-TITLE=628 Jackson St:geo:-98.4936282,29.4241219
END:VEVENT
BEGIN:VEVENT
DTSTART;TZID=America/Chicago:20220905T190000
DTEND;TZID=America/Chicago:20220905T210000
DTSTAMP:20260421T142912
CREATED:20211029T014719Z
LAST-MODIFIED:20230127T222010Z
UID:10015423-1662404400-1662411600@sanchosmx.com
SUMMARY:The Hess Brothers and Company Jazz Session
DESCRIPTION:Dynamic combo of some of the most award winning jazz musicians in San Antonio. 
URL:https://sanchosmx.com/sanchos-event/prado-hess-jazz-duo/2022-09-05/
LOCATION:Sanchos\, 628 Jackson St\, San Antonio\, TX\, 78212\, United States
CATEGORIES:live music
ATTACH;FMTTYPE=image/jpeg:https://sanchosmx.com/wp-content/uploads/2021/10/245779532_2112330442259112_821500283828505130_n.jpg
GEO:29.4241219;-98.4936282
X-APPLE-STRUCTURED-LOCATION;VALUE=URI;X-ADDRESS=Sanchos 628 Jackson St San Antonio TX 78212 United States;X-APPLE-RADIUS=500;X-TITLE=628 Jackson St:geo:-98.4936282,29.4241219
END:VEVENT
BEGIN:VEVENT
DTSTART;TZID=America/Chicago:20220904T140000
DTEND;TZID=America/Chicago:20220904T180000
DTSTAMP:20260421T142912
CREATED:20211216T031127Z
LAST-MODIFIED:20220907T200315Z
UID:10015499-1662300000-1662314400@sanchosmx.com
SUMMARY:DJ Sabes Que
DESCRIPTION:Website
URL:https://sanchosmx.com/sanchos-event/dj-sabes-que-3/2022-09-04/
LOCATION:TX
CATEGORIES:DJ
END:VEVENT
BEGIN:VEVENT
DTSTART;TZID=America/Chicago:20220903T200000
DTEND;TZID=America/Chicago:20220903T220000
DTSTAMP:20260421T142912
CREATED:20220830T215524Z
LAST-MODIFIED:20220830T215524Z
UID:10015876-1662235200-1662242400@sanchosmx.com
SUMMARY:Cotilla
DESCRIPTION:Cotilla features original music by Pablo Mancias\, Dan Klein\, Mike Deosdade\, and Charlie Wehn. Our music is influenced by our Latin and Indigenous roots and crosses many genres from Pop and Rock to Reggae and Ska. \nWebsite
URL:https://sanchosmx.com/sanchos-event/cotilla-sept-2022/
LOCATION:TX
CATEGORIES:live music
ATTACH;FMTTYPE=image/jpeg:https://sanchosmx.com/wp-content/uploads/2021/09/168068088_907924859941802_2276965405788340836_n.jpg
END:VEVENT
BEGIN:VEVENT
DTSTART;TZID=America/Chicago:20220902T200000
DTEND;TZID=America/Chicago:20220902T220000
DTSTAMP:20260421T142912
CREATED:20220830T215424Z
LAST-MODIFIED:20220830T215424Z
UID:10015875-1662148800-1662156000@sanchosmx.com
SUMMARY:Blue Sundries
DESCRIPTION:Bluesy San Antonio Rock and Roll \nWebsite
URL:https://sanchosmx.com/sanchos-event/blue-sundries-sept-2022/
LOCATION:Sanchos\, 628 Jackson St\, San Antonio\, TX\, 78212\, United States
CATEGORIES:live music
ATTACH;FMTTYPE=image/jpeg:https://sanchosmx.com/wp-content/uploads/2021/11/03a89f6e-2ff5-4f0d-935c-c63cc150b590.jpg
GEO:29.4241219;-98.4936282
X-APPLE-STRUCTURED-LOCATION;VALUE=URI;X-ADDRESS=Sanchos 628 Jackson St San Antonio TX 78212 United States;X-APPLE-RADIUS=500;X-TITLE=628 Jackson St:geo:-98.4936282,29.4241219
END:VEVENT
BEGIN:VEVENT
DTSTART;TZID=America/Chicago:20220901T220000
DTEND;TZID=America/Chicago:20220902T010000
DTSTAMP:20260421T142912
CREATED:20220830T215233Z
LAST-MODIFIED:20250225T223401Z
UID:10015747-1662069600-1662080400@sanchosmx.com
SUMMARY:Noche de Karaoke
DESCRIPTION:Come sing your favorites with our host!
URL:https://sanchosmx.com/sanchos-event/noche-de-karaoke/2022-09-01/
LOCATION:TX
CATEGORIES:Karaoke
ATTACH;FMTTYPE=image/jpeg:https://sanchosmx.com/wp-content/uploads/2022/04/kareoke-e1651121037428.jpg
END:VEVENT
BEGIN:VEVENT
DTSTART;TZID=America/Chicago:20220901T190000
DTEND;TZID=America/Chicago:20220901T210000
DTSTAMP:20260421T142912
CREATED:20210427T153307Z
LAST-MODIFIED:20260324T220610Z
UID:10015070-1662058800-1662066000@sanchosmx.com
SUMMARY:Claude Butch Morgan & His Bandaholics
DESCRIPTION:This is the home of Claude Butch Morgan and his BANDAHOLICS!\nEvery Thursday nite we ride off into the wild musical FUN-tier and you get to ride along with us.\nCome one\, come all\, become an EAR-Regular and lend us your ears and cheers. We will do our very best to put a smile on your face and joy in your heart.
URL:https://sanchosmx.com/sanchos-event/claude-butch-morgan-his-bandaholics/2022-09-01/
LOCATION:Sanchos\, 628 Jackson St\, San Antonio\, TX\, 78212\, United States
CATEGORIES:live music
ATTACH;FMTTYPE=image/jpeg:https://sanchosmx.com/wp-content/uploads/2019/10/bandaholics.jpg
GEO:29.4241219;-98.4936282
X-APPLE-STRUCTURED-LOCATION;VALUE=URI;X-ADDRESS=Sanchos 628 Jackson St San Antonio TX 78212 United States;X-APPLE-RADIUS=500;X-TITLE=628 Jackson St:geo:-98.4936282,29.4241219
END:VEVENT
BEGIN:VEVENT
DTSTART;TZID=America/Chicago:20220831T190000
DTEND;TZID=America/Chicago:20220831T220000
DTSTAMP:20260421T142912
CREATED:20220428T042416Z
LAST-MODIFIED:20230601T194133Z
UID:10015569-1661972400-1661983200@sanchosmx.com
SUMMARY:RDO Trio
DESCRIPTION:Blues\, R&B\, pop\, 70s and more. \nWebsite
URL:https://sanchosmx.com/sanchos-event/rdo-trio-14/2022-08-31/
LOCATION:TX
CATEGORIES:live music
ATTACH;FMTTYPE=image/jpeg:https://sanchosmx.com/wp-content/uploads/2015/11/rdo-trio-web.jpg
END:VEVENT
BEGIN:VEVENT
DTSTART;TZID=America/Chicago:20220830T190000
DTEND;TZID=America/Chicago:20220830T210000
DTSTAMP:20260421T142912
CREATED:20220725T220911Z
LAST-MODIFIED:20220725T220911Z
UID:10015703-1661886000-1661893200@sanchosmx.com
SUMMARY:Brother Dave Trio
DESCRIPTION:Brother Dave back at it again on our patio stage to bring down the house ! \nRock n Roll !
URL:https://sanchosmx.com/sanchos-event/brother-dave-trio-june-2022-2-2-2-2/
LOCATION:TX
CATEGORIES:live music
ATTACH;FMTTYPE=image/jpeg:https://sanchosmx.com/wp-content/uploads/2021/05/180208619_1988265797998911_6634107337412862399_n.jpg
END:VEVENT
BEGIN:VEVENT
DTSTART;TZID=America/Chicago:20220829T210000
DTEND;TZID=America/Chicago:20220829T230000
DTSTAMP:20260421T142912
CREATED:20220809T221622Z
LAST-MODIFIED:20230525T172206Z
UID:10015709-1661806800-1661814000@sanchosmx.com
SUMMARY:Open Mic w/ CJ Duran
DESCRIPTION:Come show off your skills behind the Mic at Sanchos. Hosted by CJ Duran\nSign up sheet available \, check in with host.
URL:https://sanchosmx.com/sanchos-event/open-mic-w-cj-duran/2022-08-29/
LOCATION:Sanchos\, 628 Jackson St\, San Antonio\, TX\, 78212\, United States
CATEGORIES:live music,open mic
ATTACH;FMTTYPE=image/jpeg:https://sanchosmx.com/wp-content/uploads/2022/08/CJ-Duran.jpeg
GEO:29.4241219;-98.4936282
X-APPLE-STRUCTURED-LOCATION;VALUE=URI;X-ADDRESS=Sanchos 628 Jackson St San Antonio TX 78212 United States;X-APPLE-RADIUS=500;X-TITLE=628 Jackson St:geo:-98.4936282,29.4241219
END:VEVENT
BEGIN:VEVENT
DTSTART;TZID=America/Chicago:20220829T190000
DTEND;TZID=America/Chicago:20220829T210000
DTSTAMP:20260421T142912
CREATED:20211029T014719Z
LAST-MODIFIED:20230127T222010Z
UID:10015422-1661799600-1661806800@sanchosmx.com
SUMMARY:The Hess Brothers and Company Jazz Session
DESCRIPTION:Dynamic combo of some of the most award winning jazz musicians in San Antonio. 
URL:https://sanchosmx.com/sanchos-event/prado-hess-jazz-duo/2022-08-29/
LOCATION:Sanchos\, 628 Jackson St\, San Antonio\, TX\, 78212\, United States
CATEGORIES:live music
ATTACH;FMTTYPE=image/jpeg:https://sanchosmx.com/wp-content/uploads/2021/10/245779532_2112330442259112_821500283828505130_n.jpg
GEO:29.4241219;-98.4936282
X-APPLE-STRUCTURED-LOCATION;VALUE=URI;X-ADDRESS=Sanchos 628 Jackson St San Antonio TX 78212 United States;X-APPLE-RADIUS=500;X-TITLE=628 Jackson St:geo:-98.4936282,29.4241219
END:VEVENT
BEGIN:VEVENT
DTSTART;TZID=America/Chicago:20220827T200000
DTEND;TZID=America/Chicago:20220827T220000
DTSTAMP:20260421T142912
CREATED:20220726T232345Z
LAST-MODIFIED:20220827T231532Z
UID:10015706-1661630400-1661637600@sanchosmx.com
SUMMARY:Texas Tide-Skyline Concert Series
DESCRIPTION:San Antonio's own Jimmy Buffet Tribute Band on Sanchos Skyline Deck. $10 cover with reserved seating. ONLINE TICKET SALES ARE CLOSED. LIMITED TICKETS AVAILABLE AT THE DOOR. Seating for pre-purchased ticketholders is at 7:00pm\, Seating for door sales at 7:30pm. \n 
URL:https://sanchosmx.com/sanchos-event/texas-tide-skyline-concert-series/
LOCATION:TX
CATEGORIES:live music
ATTACH;FMTTYPE=image/jpeg:https://sanchosmx.com/wp-content/uploads/2022/07/texas-tide.jpg
END:VEVENT
BEGIN:VEVENT
DTSTART;TZID=America/Chicago:20220826T200000
DTEND;TZID=America/Chicago:20220826T220000
DTSTAMP:20260421T142912
CREATED:20220725T220755Z
LAST-MODIFIED:20220725T220755Z
UID:10015701-1661544000-1661551200@sanchosmx.com
SUMMARY:Brother Dave and the Barrio Blasters
DESCRIPTION:Brother Dave and the Barrio Blasters! are a Hard Groovin'\, Sharp Dressed band with a songbook as diverse as our beloved hometown San Antonio\, Texas. Rock\, Soul\, Blues\, Honky Tonk\, and Funk all come together to create a tasty groove that is Puro San Antonio!
URL:https://sanchosmx.com/sanchos-event/brother-dave-and-the-barrio-blasters-3-2-2-2-2/
LOCATION:Sanchos\, 628 Jackson St\, San Antonio\, TX\, 78212\, United States
CATEGORIES:live music
ATTACH;FMTTYPE=image/jpeg:https://sanchosmx.com/wp-content/uploads/2016/10/brother-dave.jpg
GEO:29.4241219;-98.4936282
X-APPLE-STRUCTURED-LOCATION;VALUE=URI;X-ADDRESS=Sanchos 628 Jackson St San Antonio TX 78212 United States;X-APPLE-RADIUS=500;X-TITLE=628 Jackson St:geo:-98.4936282,29.4241219
END:VEVENT
BEGIN:VEVENT
DTSTART;TZID=America/Chicago:20220825T210000
DTEND;TZID=America/Chicago:20220826T000000
DTSTAMP:20260421T142912
CREATED:20220428T044416Z
LAST-MODIFIED:20220830T215133Z
UID:10015693-1661461200-1661472000@sanchosmx.com
SUMMARY:Makeshift Kareoke w/ KJ Leftie
DESCRIPTION:Come sing your favorites with KJ Leftie!
URL:https://sanchosmx.com/sanchos-event/makeshift-kareoke-w-kj-leftie-2022-08-25/
LOCATION:TX
CATEGORIES:Karaoke
ATTACH;FMTTYPE=image/jpeg:https://sanchosmx.com/wp-content/uploads/2022/04/kareoke-e1651121037428.jpg
END:VEVENT
BEGIN:VEVENT
DTSTART;TZID=America/Chicago:20220825T190000
DTEND;TZID=America/Chicago:20220825T210000
DTSTAMP:20260421T142912
CREATED:20210427T153307Z
LAST-MODIFIED:20260324T220610Z
UID:10015069-1661454000-1661461200@sanchosmx.com
SUMMARY:Claude Butch Morgan & His Bandaholics
DESCRIPTION:This is the home of Claude Butch Morgan and his BANDAHOLICS!\nEvery Thursday nite we ride off into the wild musical FUN-tier and you get to ride along with us.\nCome one\, come all\, become an EAR-Regular and lend us your ears and cheers. We will do our very best to put a smile on your face and joy in your heart.
URL:https://sanchosmx.com/sanchos-event/claude-butch-morgan-his-bandaholics/2022-08-25/
LOCATION:Sanchos\, 628 Jackson St\, San Antonio\, TX\, 78212\, United States
CATEGORIES:live music
ATTACH;FMTTYPE=image/jpeg:https://sanchosmx.com/wp-content/uploads/2019/10/bandaholics.jpg
GEO:29.4241219;-98.4936282
X-APPLE-STRUCTURED-LOCATION;VALUE=URI;X-ADDRESS=Sanchos 628 Jackson St San Antonio TX 78212 United States;X-APPLE-RADIUS=500;X-TITLE=628 Jackson St:geo:-98.4936282,29.4241219
END:VEVENT
BEGIN:VEVENT
DTSTART;TZID=America/Chicago:20220824T190000
DTEND;TZID=America/Chicago:20220824T220000
DTSTAMP:20260421T142912
CREATED:20220428T042416Z
LAST-MODIFIED:20230601T194133Z
UID:10015568-1661367600-1661378400@sanchosmx.com
SUMMARY:RDO Trio
DESCRIPTION:Blues\, R&B\, pop\, 70s and more. \nWebsite
URL:https://sanchosmx.com/sanchos-event/rdo-trio-14/2022-08-24/
LOCATION:TX
CATEGORIES:live music
ATTACH;FMTTYPE=image/jpeg:https://sanchosmx.com/wp-content/uploads/2015/11/rdo-trio-web.jpg
END:VEVENT
BEGIN:VEVENT
DTSTART;TZID=America/Chicago:20220823T190000
DTEND;TZID=America/Chicago:20220823T210000
DTSTAMP:20260421T142912
CREATED:20220725T220232Z
LAST-MODIFIED:20220725T220232Z
UID:10015698-1661281200-1661288400@sanchosmx.com
SUMMARY:Rain Dogs
DESCRIPTION:Glam Folk Duo from San Antonio
URL:https://sanchosmx.com/sanchos-event/rain-dogs-june-2022-2-2-2-2-2/
LOCATION:TX
CATEGORIES:live music
ATTACH;FMTTYPE=image/jpeg:https://sanchosmx.com/wp-content/uploads/2022/01/rain-dogs.jpg
END:VEVENT
BEGIN:VEVENT
DTSTART;TZID=America/Chicago:20220822T210000
DTEND;TZID=America/Chicago:20220822T230000
DTSTAMP:20260421T142912
CREATED:20220809T221622Z
LAST-MODIFIED:20230525T172206Z
UID:10015708-1661202000-1661209200@sanchosmx.com
SUMMARY:Open Mic w/ CJ Duran
DESCRIPTION:Come show off your skills behind the Mic at Sanchos. Hosted by CJ Duran\nSign up sheet available \, check in with host.
URL:https://sanchosmx.com/sanchos-event/open-mic-w-cj-duran/2022-08-22/
LOCATION:Sanchos\, 628 Jackson St\, San Antonio\, TX\, 78212\, United States
CATEGORIES:live music,open mic
ATTACH;FMTTYPE=image/jpeg:https://sanchosmx.com/wp-content/uploads/2022/08/CJ-Duran.jpeg
GEO:29.4241219;-98.4936282
X-APPLE-STRUCTURED-LOCATION;VALUE=URI;X-ADDRESS=Sanchos 628 Jackson St San Antonio TX 78212 United States;X-APPLE-RADIUS=500;X-TITLE=628 Jackson St:geo:-98.4936282,29.4241219
END:VEVENT
BEGIN:VEVENT
DTSTART;TZID=America/Chicago:20220822T190000
DTEND;TZID=America/Chicago:20220822T210000
DTSTAMP:20260421T142912
CREATED:20211029T014719Z
LAST-MODIFIED:20230127T222010Z
UID:10015421-1661194800-1661202000@sanchosmx.com
SUMMARY:The Hess Brothers and Company Jazz Session
DESCRIPTION:Dynamic combo of some of the most award winning jazz musicians in San Antonio. 
URL:https://sanchosmx.com/sanchos-event/prado-hess-jazz-duo/2022-08-22/
LOCATION:Sanchos\, 628 Jackson St\, San Antonio\, TX\, 78212\, United States
CATEGORIES:live music
ATTACH;FMTTYPE=image/jpeg:https://sanchosmx.com/wp-content/uploads/2021/10/245779532_2112330442259112_821500283828505130_n.jpg
GEO:29.4241219;-98.4936282
X-APPLE-STRUCTURED-LOCATION;VALUE=URI;X-ADDRESS=Sanchos 628 Jackson St San Antonio TX 78212 United States;X-APPLE-RADIUS=500;X-TITLE=628 Jackson St:geo:-98.4936282,29.4241219
END:VEVENT
BEGIN:VEVENT
DTSTART;TZID=America/Chicago:20220820T200000
DTEND;TZID=America/Chicago:20220820T220000
DTSTAMP:20260421T142912
CREATED:20220725T221040Z
LAST-MODIFIED:20220725T221040Z
UID:10015705-1661025600-1661032800@sanchosmx.com
SUMMARY:Los #3 Dinners
DESCRIPTION:Los #3 Dinners perform original songs about livin' and lovin' in the Alamo Town. \n\n  \n\n  \n 
URL:https://sanchosmx.com/sanchos-event/los-3-dinners-july-2022-2/
LOCATION:Sanchos\, 628 Jackson St\, San Antonio\, TX\, 78212\, United States
CATEGORIES:live music
ATTACH;FMTTYPE=image/jpeg:https://sanchosmx.com/wp-content/uploads/2018/03/los-3-dinners.jpg
GEO:29.4241219;-98.4936282
X-APPLE-STRUCTURED-LOCATION;VALUE=URI;X-ADDRESS=Sanchos 628 Jackson St San Antonio TX 78212 United States;X-APPLE-RADIUS=500;X-TITLE=628 Jackson St:geo:-98.4936282,29.4241219
END:VEVENT
BEGIN:VEVENT
DTSTART;TZID=America/Chicago:20220819T200000
DTEND;TZID=America/Chicago:20220819T220000
DTSTAMP:20260421T142912
CREATED:20220725T220951Z
LAST-MODIFIED:20220725T220951Z
UID:10015704-1660939200-1660946400@sanchosmx.com
SUMMARY:Cotilla
DESCRIPTION:Cotilla features original music by Pablo Mancias\, Dan Klein\, Mike Deosdade\, and Charlie Wehn. Our music is influenced by our Latin and Indigenous roots and crosses many genres from Pop and Rock to Reggae and Ska. \nWebsite
URL:https://sanchosmx.com/sanchos-event/cotilla-july-2022-2/
LOCATION:TX
CATEGORIES:live music
ATTACH;FMTTYPE=image/jpeg:https://sanchosmx.com/wp-content/uploads/2021/09/168068088_907924859941802_2276965405788340836_n.jpg
END:VEVENT
BEGIN:VEVENT
DTSTART;TZID=America/Chicago:20220818T210000
DTEND;TZID=America/Chicago:20220819T000000
DTSTAMP:20260421T142912
CREATED:20220428T044416Z
LAST-MODIFIED:20220725T215538Z
UID:10015624-1660856400-1660867200@sanchosmx.com
SUMMARY:Makeshift Kareoke w/ KJ Leftie
DESCRIPTION:Come sing your favorites with KJ Leftie!
URL:https://sanchosmx.com/sanchos-event/makeshift-kareoke-w-kj-leftie/2022-08-18/
LOCATION:TX
CATEGORIES:Karaoke
ATTACH;FMTTYPE=image/jpeg:https://sanchosmx.com/wp-content/uploads/2022/04/kareoke-e1651121037428.jpg
END:VEVENT
BEGIN:VEVENT
DTSTART;TZID=America/Chicago:20220818T190000
DTEND;TZID=America/Chicago:20220818T210000
DTSTAMP:20260421T142912
CREATED:20210427T153307Z
LAST-MODIFIED:20260324T220610Z
UID:10015068-1660849200-1660856400@sanchosmx.com
SUMMARY:Claude Butch Morgan & His Bandaholics
DESCRIPTION:This is the home of Claude Butch Morgan and his BANDAHOLICS!\nEvery Thursday nite we ride off into the wild musical FUN-tier and you get to ride along with us.\nCome one\, come all\, become an EAR-Regular and lend us your ears and cheers. We will do our very best to put a smile on your face and joy in your heart.
URL:https://sanchosmx.com/sanchos-event/claude-butch-morgan-his-bandaholics/2022-08-18/
LOCATION:Sanchos\, 628 Jackson St\, San Antonio\, TX\, 78212\, United States
CATEGORIES:live music
ATTACH;FMTTYPE=image/jpeg:https://sanchosmx.com/wp-content/uploads/2019/10/bandaholics.jpg
GEO:29.4241219;-98.4936282
X-APPLE-STRUCTURED-LOCATION;VALUE=URI;X-ADDRESS=Sanchos 628 Jackson St San Antonio TX 78212 United States;X-APPLE-RADIUS=500;X-TITLE=628 Jackson St:geo:-98.4936282,29.4241219
END:VEVENT
BEGIN:VEVENT
DTSTART;TZID=America/Chicago:20220817T190000
DTEND;TZID=America/Chicago:20220817T220000
DTSTAMP:20260421T142912
CREATED:20220428T042416Z
LAST-MODIFIED:20230601T194133Z
UID:10015567-1660762800-1660773600@sanchosmx.com
SUMMARY:RDO Trio
DESCRIPTION:Blues\, R&B\, pop\, 70s and more. \nWebsite
URL:https://sanchosmx.com/sanchos-event/rdo-trio-14/2022-08-17/
LOCATION:TX
CATEGORIES:live music
ATTACH;FMTTYPE=image/jpeg:https://sanchosmx.com/wp-content/uploads/2015/11/rdo-trio-web.jpg
END:VEVENT
BEGIN:VEVENT
DTSTART;TZID=America/Chicago:20220816T190000
DTEND;TZID=America/Chicago:20220816T210000
DTSTAMP:20260421T142912
CREATED:20220725T220851Z
LAST-MODIFIED:20220725T220851Z
UID:10015702-1660676400-1660683600@sanchosmx.com
SUMMARY:Brother Dave Trio
DESCRIPTION:Brother Dave back at it again on our patio stage to bring down the house ! \nRock n Roll !
URL:https://sanchosmx.com/sanchos-event/brother-dave-trio-june-2022-2-2-2/
LOCATION:TX
CATEGORIES:live music
ATTACH;FMTTYPE=image/jpeg:https://sanchosmx.com/wp-content/uploads/2021/05/180208619_1988265797998911_6634107337412862399_n.jpg
END:VEVENT
BEGIN:VEVENT
DTSTART;TZID=America/Chicago:20220815T210000
DTEND;TZID=America/Chicago:20220815T230000
DTSTAMP:20260421T142912
CREATED:20220809T221622Z
LAST-MODIFIED:20230525T172206Z
UID:10015707-1660597200-1660604400@sanchosmx.com
SUMMARY:Open Mic w/ CJ Duran
DESCRIPTION:Come show off your skills behind the Mic at Sanchos. Hosted by CJ Duran\nSign up sheet available \, check in with host.
URL:https://sanchosmx.com/sanchos-event/open-mic-w-cj-duran/2022-08-15/
LOCATION:Sanchos\, 628 Jackson St\, San Antonio\, TX\, 78212\, United States
CATEGORIES:live music,open mic
ATTACH;FMTTYPE=image/jpeg:https://sanchosmx.com/wp-content/uploads/2022/08/CJ-Duran.jpeg
GEO:29.4241219;-98.4936282
X-APPLE-STRUCTURED-LOCATION;VALUE=URI;X-ADDRESS=Sanchos 628 Jackson St San Antonio TX 78212 United States;X-APPLE-RADIUS=500;X-TITLE=628 Jackson St:geo:-98.4936282,29.4241219
END:VEVENT
BEGIN:VEVENT
DTSTART;TZID=America/Chicago:20220815T190000
DTEND;TZID=America/Chicago:20220815T210000
DTSTAMP:20260421T142912
CREATED:20211029T014719Z
LAST-MODIFIED:20230127T222010Z
UID:10015420-1660590000-1660597200@sanchosmx.com
SUMMARY:The Hess Brothers and Company Jazz Session
DESCRIPTION:Dynamic combo of some of the most award winning jazz musicians in San Antonio. 
URL:https://sanchosmx.com/sanchos-event/prado-hess-jazz-duo/2022-08-15/
LOCATION:Sanchos\, 628 Jackson St\, San Antonio\, TX\, 78212\, United States
CATEGORIES:live music
ATTACH;FMTTYPE=image/jpeg:https://sanchosmx.com/wp-content/uploads/2021/10/245779532_2112330442259112_821500283828505130_n.jpg
GEO:29.4241219;-98.4936282
X-APPLE-STRUCTURED-LOCATION;VALUE=URI;X-ADDRESS=Sanchos 628 Jackson St San Antonio TX 78212 United States;X-APPLE-RADIUS=500;X-TITLE=628 Jackson St:geo:-98.4936282,29.4241219
END:VEVENT
BEGIN:VEVENT
DTSTART;TZID=America/Chicago:20220813T200000
DTEND;TZID=America/Chicago:20220813T220000
DTSTAMP:20260421T142912
CREATED:20220725T220732Z
LAST-MODIFIED:20220725T220732Z
UID:10015700-1660420800-1660428000@sanchosmx.com
SUMMARY:Brother Dave and the Barrio Blasters
DESCRIPTION:Brother Dave and the Barrio Blasters! are a Hard Groovin'\, Sharp Dressed band with a songbook as diverse as our beloved hometown San Antonio\, Texas. Rock\, Soul\, Blues\, Honky Tonk\, and Funk all come together to create a tasty groove that is Puro San Antonio!
URL:https://sanchosmx.com/sanchos-event/brother-dave-and-the-barrio-blasters-3-2-2-2/
LOCATION:Sanchos\, 628 Jackson St\, San Antonio\, TX\, 78212\, United States
CATEGORIES:live music
ATTACH;FMTTYPE=image/jpeg:https://sanchosmx.com/wp-content/uploads/2016/10/brother-dave.jpg
GEO:29.4241219;-98.4936282
X-APPLE-STRUCTURED-LOCATION;VALUE=URI;X-ADDRESS=Sanchos 628 Jackson St San Antonio TX 78212 United States;X-APPLE-RADIUS=500;X-TITLE=628 Jackson St:geo:-98.4936282,29.4241219
END:VEVENT
END:VCALENDAR