BEGIN:VCALENDAR
VERSION:2.0
PRODID:-//Sanchos Cocina y Cantina - ECPv6.15.20//NONSGML v1.0//EN
CALSCALE:GREGORIAN
METHOD:PUBLISH
X-ORIGINAL-URL:https://sanchosmx.com
X-WR-CALDESC:Events for Sanchos Cocina y Cantina
REFRESH-INTERVAL;VALUE=DURATION:PT1H
X-Robots-Tag:noindex
X-PUBLISHED-TTL:PT1H
BEGIN:VTIMEZONE
TZID:America/Chicago
BEGIN:DAYLIGHT
TZOFFSETFROM:-0600
TZOFFSETTO:-0500
TZNAME:CDT
DTSTART:20180311T080000
END:DAYLIGHT
BEGIN:STANDARD
TZOFFSETFROM:-0500
TZOFFSETTO:-0600
TZNAME:CST
DTSTART:20181104T070000
END:STANDARD
BEGIN:DAYLIGHT
TZOFFSETFROM:-0600
TZOFFSETTO:-0500
TZNAME:CDT
DTSTART:20190310T080000
END:DAYLIGHT
BEGIN:STANDARD
TZOFFSETFROM:-0500
TZOFFSETTO:-0600
TZNAME:CST
DTSTART:20191103T070000
END:STANDARD
BEGIN:DAYLIGHT
TZOFFSETFROM:-0600
TZOFFSETTO:-0500
TZNAME:CDT
DTSTART:20200308T080000
END:DAYLIGHT
BEGIN:STANDARD
TZOFFSETFROM:-0500
TZOFFSETTO:-0600
TZNAME:CST
DTSTART:20201101T070000
END:STANDARD
END:VTIMEZONE
BEGIN:VEVENT
DTSTART;TZID=America/Chicago:20190825T110000
DTEND;TZID=America/Chicago:20190825T150000
DTSTAMP:20260424T025238
CREATED:20190727T190834Z
LAST-MODIFIED:20190727T190834Z
UID:10014626-1566730800-1566745200@sanchosmx.com
SUMMARY:Brunch plus Brazilian Music with Paula Maya
DESCRIPTION:Brazilian pianist\, singer\, songwriter will perform at Sanchos during Sunday brunch. Flutist Katchie Cartwright will join Paula Maya. \nBrunch\, with special menu: 11am-3pm \nMusic:  11:30am-1:30pm \n 
URL:https://sanchosmx.com/sanchos-event/brunch-plus-brazilian-music-with-paula-maya-2/
CATEGORIES:brunch,live music
ATTACH;FMTTYPE=:
END:VEVENT
BEGIN:VEVENT
DTSTART;TZID=America/Chicago:20190825T110000
DTEND;TZID=America/Chicago:20190825T150000
DTSTAMP:20260424T025238
CREATED:20190727T190834Z
LAST-MODIFIED:20190727T190834Z
UID:10013505-1566730800-1566745200@sanchosmx.com
SUMMARY:Brunch plus Brazilian Music with Paula Maya
DESCRIPTION:Brazilian pianist\, singer\, songwriter will perform at Sanchos during Sunday brunch. Flutist Katchie Cartwright will join Paula Maya. \nBrunch\, with special menu: 11am-3pm \nMusic:  11:30am-1:30pm \n 
URL:https://sanchosmx.com/sanchos-event/brunch-plus-brazilian-music-with-paula-maya/
CATEGORIES:brunch,live music
ATTACH;FMTTYPE=:
END:VEVENT
END:VCALENDAR